BEGIN:VCALENDAR
VERSION:2.0
PRODID:-//Szkoła Podstawowa nr 26 w Gdyni - ECPv6.15.17//NONSGML v1.0//EN
CALSCALE:GREGORIAN
METHOD:PUBLISH
X-WR-CALNAME:Szkoła Podstawowa nr 26 w Gdyni
X-ORIGINAL-URL:https://sp26gdynia.pl
X-WR-CALDESC:Wydarzenia dla Szkoła Podstawowa nr 26 w Gdyni
REFRESH-INTERVAL;VALUE=DURATION:PT1H
X-Robots-Tag:noindex
X-PUBLISHED-TTL:PT1H
BEGIN:VTIMEZONE
TZID:Europe/Warsaw
BEGIN:DAYLIGHT
TZOFFSETFROM:+0100
TZOFFSETTO:+0200
TZNAME:CEST
DTSTART:20240331T010000
END:DAYLIGHT
BEGIN:STANDARD
TZOFFSETFROM:+0200
TZOFFSETTO:+0100
TZNAME:CET
DTSTART:20241027T010000
END:STANDARD
BEGIN:DAYLIGHT
TZOFFSETFROM:+0100
TZOFFSETTO:+0200
TZNAME:CEST
DTSTART:20250330T010000
END:DAYLIGHT
BEGIN:STANDARD
TZOFFSETFROM:+0200
TZOFFSETTO:+0100
TZNAME:CET
DTSTART:20251026T010000
END:STANDARD
BEGIN:DAYLIGHT
TZOFFSETFROM:+0100
TZOFFSETTO:+0200
TZNAME:CEST
DTSTART:20260329T010000
END:DAYLIGHT
BEGIN:STANDARD
TZOFFSETFROM:+0200
TZOFFSETTO:+0100
TZNAME:CET
DTSTART:20261025T010000
END:STANDARD
END:VTIMEZONE
BEGIN:VEVENT
DTSTART;VALUE=DATE:20251107
DTEND;VALUE=DATE:20251108
DTSTAMP:20260421T160354
CREATED:20250829T162656Z
LAST-MODIFIED:20250829T162656Z
UID:66726-1762473600-1762559999@sp26gdynia.pl
SUMMARY:Apel z okazji odzyskania Niepodległości
DESCRIPTION:
URL:https://sp26gdynia.pl/wydarzenie/apel-z-okazji-odzyskania-niepodleglosci/
CATEGORIES:Ważne wydarzenia
END:VEVENT
BEGIN:VEVENT
DTSTART;VALUE=DATE:20251110
DTEND;VALUE=DATE:20251111
DTSTAMP:20260421T160354
CREATED:20250829T162716Z
LAST-MODIFIED:20250829T162731Z
UID:66728-1762732800-1762819199@sp26gdynia.pl
SUMMARY:Dzień wolny od zajęć dydaktyczno-wychowawczych
DESCRIPTION:
URL:https://sp26gdynia.pl/wydarzenie/dzien-wolny-od-zajec-dydaktyczno-wychowawczych-9/
CATEGORIES:Ważne wydarzenia
END:VEVENT
BEGIN:VEVENT
DTSTART;VALUE=DATE:20251111
DTEND;VALUE=DATE:20251112
DTSTAMP:20260421T160354
CREATED:20250829T162825Z
LAST-MODIFIED:20250829T162825Z
UID:66730-1762819200-1762905599@sp26gdynia.pl
SUMMARY:Narodowe Święto Niepodległości - dzień wolny od pracy
DESCRIPTION:
URL:https://sp26gdynia.pl/wydarzenie/narodowe-swieto-niepodleglosci-dzien-wolny-od-pracy/
CATEGORIES:Ważne wydarzenia
END:VEVENT
BEGIN:VEVENT
DTSTART;VALUE=DATE:20251112
DTEND;VALUE=DATE:20251113
DTSTAMP:20260421T160354
CREATED:20250829T162847Z
LAST-MODIFIED:20250829T162847Z
UID:66732-1762905600-1762991999@sp26gdynia.pl
SUMMARY:Konsultacje klas 1-3
DESCRIPTION:
URL:https://sp26gdynia.pl/wydarzenie/konsultacje-klas-1-3/
CATEGORIES:Ważne wydarzenia
END:VEVENT
BEGIN:VEVENT
DTSTART;VALUE=DATE:20251112
DTEND;VALUE=DATE:20251115
DTSTAMP:20260421T160354
CREATED:20250829T162930Z
LAST-MODIFIED:20250829T162930Z
UID:66736-1762905600-1763164799@sp26gdynia.pl
SUMMARY:Egzamin próbny klas ósmych
DESCRIPTION:
URL:https://sp26gdynia.pl/wydarzenie/egzamin-probny-klas-osmych-2/
CATEGORIES:Ważne wydarzenia
END:VEVENT
BEGIN:VEVENT
DTSTART;VALUE=DATE:20251113
DTEND;VALUE=DATE:20251114
DTSTAMP:20260421T160354
CREATED:20250829T162907Z
LAST-MODIFIED:20250829T162907Z
UID:66734-1762992000-1763078399@sp26gdynia.pl
SUMMARY:Konsultacje klas 4-8 (zebranie w klasach VIII)
DESCRIPTION:
URL:https://sp26gdynia.pl/wydarzenie/konsultacje-klas-4-8-zebranie-w-klasach-viii/
CATEGORIES:Ważne wydarzenia
END:VEVENT
BEGIN:VEVENT
DTSTART;VALUE=DATE:20251121
DTEND;VALUE=DATE:20251122
DTSTAMP:20260421T160354
CREATED:20250829T162953Z
LAST-MODIFIED:20250829T162953Z
UID:66738-1763683200-1763769599@sp26gdynia.pl
SUMMARY:Światowy Dzień Tabliczki Mnożenia
DESCRIPTION:
URL:https://sp26gdynia.pl/wydarzenie/swiatowy-dzien-tabliczki-mnozenia-5/
CATEGORIES:Ważne wydarzenia
END:VEVENT
END:VCALENDAR