BEGIN:VCALENDAR
VERSION:2.0
PRODID:-//Szkoła Podstawowa nr 26 w Gdyni - ECPv6.15.17//NONSGML v1.0//EN
CALSCALE:GREGORIAN
METHOD:PUBLISH
X-ORIGINAL-URL:https://sp26gdynia.pl
X-WR-CALDESC:Wydarzenia dla Szkoła Podstawowa nr 26 w Gdyni
REFRESH-INTERVAL;VALUE=DURATION:PT1H
X-Robots-Tag:noindex
X-PUBLISHED-TTL:PT1H
BEGIN:VTIMEZONE
TZID:Europe/Warsaw
BEGIN:DAYLIGHT
TZOFFSETFROM:+0100
TZOFFSETTO:+0200
TZNAME:CEST
DTSTART:20240331T010000
END:DAYLIGHT
BEGIN:STANDARD
TZOFFSETFROM:+0200
TZOFFSETTO:+0100
TZNAME:CET
DTSTART:20241027T010000
END:STANDARD
BEGIN:DAYLIGHT
TZOFFSETFROM:+0100
TZOFFSETTO:+0200
TZNAME:CEST
DTSTART:20250330T010000
END:DAYLIGHT
BEGIN:STANDARD
TZOFFSETFROM:+0200
TZOFFSETTO:+0100
TZNAME:CET
DTSTART:20251026T010000
END:STANDARD
BEGIN:DAYLIGHT
TZOFFSETFROM:+0100
TZOFFSETTO:+0200
TZNAME:CEST
DTSTART:20260329T010000
END:DAYLIGHT
BEGIN:STANDARD
TZOFFSETFROM:+0200
TZOFFSETTO:+0100
TZNAME:CET
DTSTART:20261025T010000
END:STANDARD
END:VTIMEZONE
BEGIN:VEVENT
DTSTART;VALUE=DATE:20250901
DTEND;VALUE=DATE:20250902
DTSTAMP:20260421T192021
CREATED:20250829T162149Z
LAST-MODIFIED:20250829T162149Z
UID:66706-1756684800-1756771199@sp26gdynia.pl
SUMMARY:Uroczyste rozpoczęcie roku szkolnego 2025/2026
DESCRIPTION:
URL:https://sp26gdynia.pl/wydarzenie/uroczyste-rozpoczecie-roku-szkolnego-2025-2026/
CATEGORIES:Ważne wydarzenia
END:VEVENT
BEGIN:VEVENT
DTSTART;VALUE=DATE:20250908
DTEND;VALUE=DATE:20250909
DTSTAMP:20260421T192021
CREATED:20250829T162228Z
LAST-MODIFIED:20250829T162228Z
UID:66708-1757289600-1757375999@sp26gdynia.pl
SUMMARY:Narodowe czytanie
DESCRIPTION:
URL:https://sp26gdynia.pl/wydarzenie/narodowe-czytanie/
CATEGORIES:Ważne wydarzenia
END:VEVENT
BEGIN:VEVENT
DTSTART;VALUE=DATE:20250910
DTEND;VALUE=DATE:20250911
DTSTAMP:20260421T192021
CREATED:20250829T162250Z
LAST-MODIFIED:20250829T162250Z
UID:66710-1757462400-1757548799@sp26gdynia.pl
SUMMARY:Zebranie z rodzicami klas 1-3
DESCRIPTION:
URL:https://sp26gdynia.pl/wydarzenie/zebranie-z-rodzicami-klas-1-3/
CATEGORIES:Ważne wydarzenia
END:VEVENT
BEGIN:VEVENT
DTSTART;VALUE=DATE:20250911
DTEND;VALUE=DATE:20250912
DTSTAMP:20260421T192021
CREATED:20250829T162320Z
LAST-MODIFIED:20250829T162320Z
UID:66712-1757548800-1757635199@sp26gdynia.pl
SUMMARY:Zebranie z rodzicami klas 4-8
DESCRIPTION:
URL:https://sp26gdynia.pl/wydarzenie/zebranie-z-rodzicami-klas-4-8/
CATEGORIES:Ważne wydarzenia
END:VEVENT
BEGIN:VEVENT
DTSTART;VALUE=DATE:20250919
DTEND;VALUE=DATE:20250920
DTSTAMP:20260421T192021
CREATED:20250829T162339Z
LAST-MODIFIED:20250829T162351Z
UID:66714-1758240000-1758326399@sp26gdynia.pl
SUMMARY:Sprzątanie świata „W naturę z kulturą”
DESCRIPTION:
URL:https://sp26gdynia.pl/wydarzenie/sprzatanie-swiata-w-nature-z-kultura/
CATEGORIES:Ważne wydarzenia
END:VEVENT
BEGIN:VEVENT
DTSTART;VALUE=DATE:20250927
DTEND;VALUE=DATE:20250928
DTSTAMP:20260421T192021
CREATED:20250829T162541Z
LAST-MODIFIED:20250829T162541Z
UID:66720-1758931200-1759017599@sp26gdynia.pl
SUMMARY:Pasowanie na ucznia klasy 1a i 1b
DESCRIPTION:
URL:https://sp26gdynia.pl/wydarzenie/pasowanie-na-ucznia-klasy-1a-i-1b/
CATEGORIES:Ważne wydarzenia
END:VEVENT
BEGIN:VEVENT
DTSTART;VALUE=DATE:20250929
DTEND;VALUE=DATE:20251004
DTSTAMP:20260421T192021
CREATED:20250829T162427Z
LAST-MODIFIED:20250829T162427Z
UID:66716-1759104000-1759535999@sp26gdynia.pl
SUMMARY:VI Ogólnopolski Tydzień Szczęścia – „Szczęśliwi\, bo różnorodni”
DESCRIPTION:
URL:https://sp26gdynia.pl/wydarzenie/vi-ogolnopolski-tydzien-szczescia-szczesliwi-bo-roznorodni/
CATEGORIES:Ważne wydarzenia
END:VEVENT
BEGIN:VEVENT
DTSTART;VALUE=DATE:20250929
DTEND;VALUE=DATE:20250930
DTSTAMP:20260421T192021
CREATED:20250829T162503Z
LAST-MODIFIED:20250829T162503Z
UID:66718-1759104000-1759190399@sp26gdynia.pl
SUMMARY:Europejski Tydzień Sportu
DESCRIPTION:
URL:https://sp26gdynia.pl/wydarzenie/europejski-tydzien-sportu-3/
CATEGORIES:Ważne wydarzenia
END:VEVENT
END:VCALENDAR