BEGIN:VCALENDAR
VERSION:2.0
PRODID:-//Szkoła Podstawowa nr 26 w Gdyni - ECPv6.15.17//NONSGML v1.0//EN
CALSCALE:GREGORIAN
METHOD:PUBLISH
X-WR-CALNAME:Szkoła Podstawowa nr 26 w Gdyni
X-ORIGINAL-URL:https://sp26gdynia.pl
X-WR-CALDESC:Wydarzenia dla Szkoła Podstawowa nr 26 w Gdyni
REFRESH-INTERVAL;VALUE=DURATION:PT1H
X-Robots-Tag:noindex
X-PUBLISHED-TTL:PT1H
BEGIN:VTIMEZONE
TZID:Europe/Warsaw
BEGIN:DAYLIGHT
TZOFFSETFROM:+0100
TZOFFSETTO:+0200
TZNAME:CEST
DTSTART:20240331T010000
END:DAYLIGHT
BEGIN:STANDARD
TZOFFSETFROM:+0200
TZOFFSETTO:+0100
TZNAME:CET
DTSTART:20241027T010000
END:STANDARD
BEGIN:DAYLIGHT
TZOFFSETFROM:+0100
TZOFFSETTO:+0200
TZNAME:CEST
DTSTART:20250330T010000
END:DAYLIGHT
BEGIN:STANDARD
TZOFFSETFROM:+0200
TZOFFSETTO:+0100
TZNAME:CET
DTSTART:20251026T010000
END:STANDARD
BEGIN:DAYLIGHT
TZOFFSETFROM:+0100
TZOFFSETTO:+0200
TZNAME:CEST
DTSTART:20260329T010000
END:DAYLIGHT
BEGIN:STANDARD
TZOFFSETFROM:+0200
TZOFFSETTO:+0100
TZNAME:CET
DTSTART:20261025T010000
END:STANDARD
END:VTIMEZONE
BEGIN:VEVENT
DTSTART;VALUE=DATE:20250402
DTEND;VALUE=DATE:20250403
DTSTAMP:20260422T034049
CREATED:20240627T074518Z
LAST-MODIFIED:20240627T074518Z
UID:58401-1743552000-1743638399@sp26gdynia.pl
SUMMARY:Dzień Wiedzy o Autyzmie
DESCRIPTION:
URL:https://sp26gdynia.pl/wydarzenie/dzien-wiedzy-o-autyzmie/
CATEGORIES:Ważne wydarzenia
END:VEVENT
BEGIN:VEVENT
DTSTART;VALUE=DATE:20250417
DTEND;VALUE=DATE:20250423
DTSTAMP:20260422T034049
CREATED:20240627T074601Z
LAST-MODIFIED:20240627T074601Z
UID:58403-1744848000-1745366399@sp26gdynia.pl
SUMMARY:Wiosenna przerwa świąteczna
DESCRIPTION:
URL:https://sp26gdynia.pl/wydarzenie/wiosenna-przerwa-swiateczna-7/
CATEGORIES:Ważne wydarzenia
END:VEVENT
BEGIN:VEVENT
DTSTART;VALUE=DATE:20250423
DTEND;VALUE=DATE:20250424
DTSTAMP:20260422T034049
CREATED:20240627T074647Z
LAST-MODIFIED:20240627T074647Z
UID:58405-1745366400-1745452799@sp26gdynia.pl
SUMMARY:Światowy Dzień Książki
DESCRIPTION:
URL:https://sp26gdynia.pl/wydarzenie/swiatowy-dzien-ksiazki/
CATEGORIES:Ważne wydarzenia
END:VEVENT
BEGIN:VEVENT
DTSTART;VALUE=DATE:20250425
DTEND;VALUE=DATE:20250426
DTSTAMP:20260422T034049
CREATED:20240827T091321Z
LAST-MODIFIED:20240827T091321Z
UID:59061-1745539200-1745625599@sp26gdynia.pl
SUMMARY:Obchody 65-lecia szkoły
DESCRIPTION:
URL:https://sp26gdynia.pl/wydarzenie/obchody-65-lecia-szkoly/
CATEGORIES:Ważne wydarzenia
END:VEVENT
BEGIN:VEVENT
DTSTART;VALUE=DATE:20250428
DTEND;VALUE=DATE:20250429
DTSTAMP:20260422T034049
CREATED:20240627T074709Z
LAST-MODIFIED:20240627T074709Z
UID:58407-1745798400-1745884799@sp26gdynia.pl
SUMMARY:Dzień Ziemi
DESCRIPTION:
URL:https://sp26gdynia.pl/wydarzenie/dzien-ziemi-4/
CATEGORIES:Ważne wydarzenia
END:VEVENT
END:VCALENDAR