BEGIN:VCALENDAR
VERSION:2.0
PRODID:-//Szkoła Podstawowa nr 26 w Gdyni - ECPv6.15.17//NONSGML v1.0//EN
CALSCALE:GREGORIAN
METHOD:PUBLISH
X-WR-CALNAME:Szkoła Podstawowa nr 26 w Gdyni
X-ORIGINAL-URL:https://sp26gdynia.pl
X-WR-CALDESC:Wydarzenia dla Szkoła Podstawowa nr 26 w Gdyni
REFRESH-INTERVAL;VALUE=DURATION:PT1H
X-Robots-Tag:noindex
X-PUBLISHED-TTL:PT1H
BEGIN:VTIMEZONE
TZID:Europe/Warsaw
BEGIN:DAYLIGHT
TZOFFSETFROM:+0100
TZOFFSETTO:+0200
TZNAME:CEST
DTSTART:20240331T010000
END:DAYLIGHT
BEGIN:STANDARD
TZOFFSETFROM:+0200
TZOFFSETTO:+0100
TZNAME:CET
DTSTART:20241027T010000
END:STANDARD
BEGIN:DAYLIGHT
TZOFFSETFROM:+0100
TZOFFSETTO:+0200
TZNAME:CEST
DTSTART:20250330T010000
END:DAYLIGHT
BEGIN:STANDARD
TZOFFSETFROM:+0200
TZOFFSETTO:+0100
TZNAME:CET
DTSTART:20251026T010000
END:STANDARD
BEGIN:DAYLIGHT
TZOFFSETFROM:+0100
TZOFFSETTO:+0200
TZNAME:CEST
DTSTART:20260329T010000
END:DAYLIGHT
BEGIN:STANDARD
TZOFFSETFROM:+0200
TZOFFSETTO:+0100
TZNAME:CET
DTSTART:20261025T010000
END:STANDARD
END:VTIMEZONE
BEGIN:VEVENT
DTSTART;TZID=Europe/Warsaw:20250204T080000
DTEND;TZID=Europe/Warsaw:20250206T170000
DTSTAMP:20260422T085533
CREATED:20250203T131259Z
LAST-MODIFIED:20250203T131259Z
UID:62985-1738656000-1738861200@sp26gdynia.pl
SUMMARY:II Egzamin próbny kl.8
DESCRIPTION:
URL:https://sp26gdynia.pl/wydarzenie/ii-egzamin-probny-kl-8/
CATEGORIES:Ważne wydarzenia
END:VEVENT
BEGIN:VEVENT
DTSTART;VALUE=DATE:20250206
DTEND;VALUE=DATE:20250207
DTSTAMP:20260422T085533
CREATED:20250207T121424Z
LAST-MODIFIED:20250207T121424Z
UID:63121-1738800000-1738886399@sp26gdynia.pl
SUMMARY:Koncert Zimowy
DESCRIPTION:
URL:https://sp26gdynia.pl/wydarzenie/koncert-zimowy/
CATEGORIES:Ważne wydarzenia
END:VEVENT
BEGIN:VEVENT
DTSTART;VALUE=DATE:20250212
DTEND;VALUE=DATE:20250213
DTSTAMP:20260422T085533
CREATED:20250205T131253Z
LAST-MODIFIED:20250205T131253Z
UID:63082-1739318400-1739404799@sp26gdynia.pl
SUMMARY:0-3 wyjście na przedstawienie "Piękna i Bestia"
DESCRIPTION:
URL:https://sp26gdynia.pl/wydarzenie/0-3-wyjscie-na-przedstawienie-piekna-i-bestia/
CATEGORIES:Ważne wydarzenia
END:VEVENT
BEGIN:VEVENT
DTSTART;VALUE=DATE:20250214
DTEND;VALUE=DATE:20250215
DTSTAMP:20260422T085533
CREATED:20240627T074206Z
LAST-MODIFIED:20240627T074206Z
UID:58389-1739491200-1739577599@sp26gdynia.pl
SUMMARY:Walentynki
DESCRIPTION:
URL:https://sp26gdynia.pl/wydarzenie/walentynki-2/
CATEGORIES:Ważne wydarzenia
END:VEVENT
BEGIN:VEVENT
DTSTART;VALUE=DATE:20250214
DTEND;VALUE=DATE:20250215
DTSTAMP:20260422T085533
CREATED:20250205T131320Z
LAST-MODIFIED:20250205T131321Z
UID:63085-1739491200-1739577599@sp26gdynia.pl
SUMMARY:Bal karnawałowy 0-3
DESCRIPTION:
URL:https://sp26gdynia.pl/wydarzenie/bal-karnawalowy-0-3/
CATEGORIES:Ważne wydarzenia
END:VEVENT
BEGIN:VEVENT
DTSTART;VALUE=DATE:20250217
DTEND;VALUE=DATE:20250303
DTSTAMP:20260422T085533
CREATED:20240627T074245Z
LAST-MODIFIED:20240627T074245Z
UID:58391-1739750400-1740959999@sp26gdynia.pl
SUMMARY:Ferie zimowe
DESCRIPTION:
URL:https://sp26gdynia.pl/wydarzenie/ferie-zimowe-7/
CATEGORIES:Ważne wydarzenia
END:VEVENT
END:VCALENDAR