BEGIN:VCALENDAR
VERSION:2.0
PRODID:-//Szkoła Podstawowa nr 26 w Gdyni - ECPv6.15.17//NONSGML v1.0//EN
CALSCALE:GREGORIAN
METHOD:PUBLISH
X-WR-CALNAME:Szkoła Podstawowa nr 26 w Gdyni
X-ORIGINAL-URL:https://sp26gdynia.pl
X-WR-CALDESC:Wydarzenia dla Szkoła Podstawowa nr 26 w Gdyni
REFRESH-INTERVAL;VALUE=DURATION:PT1H
X-Robots-Tag:noindex
X-PUBLISHED-TTL:PT1H
BEGIN:VTIMEZONE
TZID:Europe/Warsaw
BEGIN:DAYLIGHT
TZOFFSETFROM:+0100
TZOFFSETTO:+0200
TZNAME:CEST
DTSTART:20220327T010000
END:DAYLIGHT
BEGIN:STANDARD
TZOFFSETFROM:+0200
TZOFFSETTO:+0100
TZNAME:CET
DTSTART:20221030T010000
END:STANDARD
BEGIN:DAYLIGHT
TZOFFSETFROM:+0100
TZOFFSETTO:+0200
TZNAME:CEST
DTSTART:20230326T010000
END:DAYLIGHT
BEGIN:STANDARD
TZOFFSETFROM:+0200
TZOFFSETTO:+0100
TZNAME:CET
DTSTART:20231029T010000
END:STANDARD
BEGIN:DAYLIGHT
TZOFFSETFROM:+0100
TZOFFSETTO:+0200
TZNAME:CEST
DTSTART:20240331T010000
END:DAYLIGHT
BEGIN:STANDARD
TZOFFSETFROM:+0200
TZOFFSETTO:+0100
TZNAME:CET
DTSTART:20241027T010000
END:STANDARD
END:VTIMEZONE
BEGIN:VEVENT
DTSTART;VALUE=DATE:20230505
DTEND;VALUE=DATE:20230506
DTSTAMP:20260423T181531
CREATED:20230417T135600Z
LAST-MODIFIED:20230417T135600Z
UID:46679-1683244800-1683331199@sp26gdynia.pl
SUMMARY:Dzień Kosmosu
DESCRIPTION:
URL:https://sp26gdynia.pl/wydarzenie/dzien-kosmosu/
CATEGORIES:Ważne wydarzenia
END:VEVENT
BEGIN:VEVENT
DTSTART;VALUE=DATE:20230508
DTEND;VALUE=DATE:20230509
DTSTAMP:20260423T181531
CREATED:20230417T135637Z
LAST-MODIFIED:20230417T135637Z
UID:46681-1683504000-1683590399@sp26gdynia.pl
SUMMARY:Dzień bibliotekarza i bibliotek
DESCRIPTION:
URL:https://sp26gdynia.pl/wydarzenie/dzien-bibliotekarza-i-bibliotek/
CATEGORIES:Ważne wydarzenia
END:VEVENT
BEGIN:VEVENT
DTSTART;VALUE=DATE:20230509
DTEND;VALUE=DATE:20230510
DTSTAMP:20260423T181531
CREATED:20221004T175911Z
LAST-MODIFIED:20221004T175911Z
UID:40918-1683590400-1683676799@sp26gdynia.pl
SUMMARY:Zajęcia w ramach programu „Wgraj się”
DESCRIPTION:
URL:https://sp26gdynia.pl/wydarzenie/zajecia-w-ramach-programu-wgraj-sie-11/
CATEGORIES:Ważne wydarzenia
END:VEVENT
BEGIN:VEVENT
DTSTART;VALUE=DATE:20230509
DTEND;VALUE=DATE:20230510
DTSTAMP:20260423T181531
CREATED:20230417T135717Z
LAST-MODIFIED:20230417T135717Z
UID:46683-1683590400-1683676799@sp26gdynia.pl
SUMMARY:Dzień Unii Europejskiej
DESCRIPTION:
URL:https://sp26gdynia.pl/wydarzenie/dzien-unii-europejskiej/
CATEGORIES:Ważne wydarzenia
END:VEVENT
BEGIN:VEVENT
DTSTART;VALUE=DATE:20230515
DTEND;VALUE=DATE:20230516
DTSTAMP:20260423T181531
CREATED:20230417T135756Z
LAST-MODIFIED:20230417T135756Z
UID:46686-1684108800-1684195199@sp26gdynia.pl
SUMMARY:Dzień Niezapominajki
DESCRIPTION:
URL:https://sp26gdynia.pl/wydarzenie/dzien-niezapominajki/
CATEGORIES:Ważne wydarzenia
END:VEVENT
BEGIN:VEVENT
DTSTART;VALUE=DATE:20230516
DTEND;VALUE=DATE:20230517
DTSTAMP:20260423T181531
CREATED:20221004T180528Z
LAST-MODIFIED:20221004T180528Z
UID:40937-1684195200-1684281599@sp26gdynia.pl
SUMMARY:Lekcja muzyki "Regiony Polski" 0-3
DESCRIPTION:
URL:https://sp26gdynia.pl/wydarzenie/lekcja-muzyki-regiony-polski-0-3/
CATEGORIES:Ważne wydarzenia
END:VEVENT
BEGIN:VEVENT
DTSTART;VALUE=DATE:20230523
DTEND;VALUE=DATE:20230524
DTSTAMP:20260423T181531
CREATED:20220926T071723Z
LAST-MODIFIED:20220926T071723Z
UID:40526-1684800000-1684886399@sp26gdynia.pl
SUMMARY:Egzamin ósmoklasisty - język polski
DESCRIPTION:
URL:https://sp26gdynia.pl/wydarzenie/egzamin-osmoklasisty-jezyk-polski-2/
CATEGORIES:Ważne wydarzenia
END:VEVENT
BEGIN:VEVENT
DTSTART;VALUE=DATE:20230524
DTEND;VALUE=DATE:20230525
DTSTAMP:20260423T181531
CREATED:20220926T071748Z
LAST-MODIFIED:20220926T071748Z
UID:40528-1684886400-1684972799@sp26gdynia.pl
SUMMARY:Egzamin ósmoklasisty - matematyka
DESCRIPTION:
URL:https://sp26gdynia.pl/wydarzenie/egzamin-osmoklasisty-matematyka-2/
CATEGORIES:Ważne wydarzenia
END:VEVENT
BEGIN:VEVENT
DTSTART;VALUE=DATE:20230525
DTEND;VALUE=DATE:20230526
DTSTAMP:20260423T181531
CREATED:20220926T071814Z
LAST-MODIFIED:20220926T071814Z
UID:40530-1684972800-1685059199@sp26gdynia.pl
SUMMARY:Egzamin ósmoklasisty - język obcy nowożytny
DESCRIPTION:
URL:https://sp26gdynia.pl/wydarzenie/egzamin-osmoklasisty-jezyk-obcy-nowozytny-2/
CATEGORIES:Ważne wydarzenia
END:VEVENT
BEGIN:VEVENT
DTSTART;VALUE=DATE:20230526
DTEND;VALUE=DATE:20230527
DTSTAMP:20260423T181531
CREATED:20230417T135823Z
LAST-MODIFIED:20230417T135823Z
UID:46688-1685059200-1685145599@sp26gdynia.pl
SUMMARY:Dzień Matki
DESCRIPTION:
URL:https://sp26gdynia.pl/wydarzenie/dzien-matki-2/
CATEGORIES:Ważne wydarzenia
END:VEVENT
BEGIN:VEVENT
DTSTART;VALUE=DATE:20230530
DTEND;VALUE=DATE:20230531
DTSTAMP:20260423T181531
CREATED:20221004T175931Z
LAST-MODIFIED:20221004T175931Z
UID:40920-1685404800-1685491199@sp26gdynia.pl
SUMMARY:Zajęcia w ramach programu „Wgraj się”
DESCRIPTION:
URL:https://sp26gdynia.pl/wydarzenie/zajecia-w-ramach-programu-wgraj-sie-12/
CATEGORIES:Ważne wydarzenia
END:VEVENT
END:VCALENDAR