BEGIN:VCALENDAR
VERSION:2.0
PRODID:-//Szkoła Podstawowa nr 26 w Gdyni - ECPv6.15.17//NONSGML v1.0//EN
CALSCALE:GREGORIAN
METHOD:PUBLISH
X-WR-CALNAME:Szkoła Podstawowa nr 26 w Gdyni
X-ORIGINAL-URL:https://sp26gdynia.pl
X-WR-CALDESC:Wydarzenia dla Szkoła Podstawowa nr 26 w Gdyni
REFRESH-INTERVAL;VALUE=DURATION:PT1H
X-Robots-Tag:noindex
X-PUBLISHED-TTL:PT1H
BEGIN:VTIMEZONE
TZID:Europe/Warsaw
BEGIN:DAYLIGHT
TZOFFSETFROM:+0100
TZOFFSETTO:+0200
TZNAME:CEST
DTSTART:20220327T010000
END:DAYLIGHT
BEGIN:STANDARD
TZOFFSETFROM:+0200
TZOFFSETTO:+0100
TZNAME:CET
DTSTART:20221030T010000
END:STANDARD
BEGIN:DAYLIGHT
TZOFFSETFROM:+0100
TZOFFSETTO:+0200
TZNAME:CEST
DTSTART:20230326T010000
END:DAYLIGHT
BEGIN:STANDARD
TZOFFSETFROM:+0200
TZOFFSETTO:+0100
TZNAME:CET
DTSTART:20231029T010000
END:STANDARD
BEGIN:DAYLIGHT
TZOFFSETFROM:+0100
TZOFFSETTO:+0200
TZNAME:CEST
DTSTART:20240331T010000
END:DAYLIGHT
BEGIN:STANDARD
TZOFFSETFROM:+0200
TZOFFSETTO:+0100
TZNAME:CET
DTSTART:20241027T010000
END:STANDARD
END:VTIMEZONE
BEGIN:VEVENT
DTSTART;VALUE=DATE:20230207
DTEND;VALUE=DATE:20230208
DTSTAMP:20260423T230605
CREATED:20221004T175726Z
LAST-MODIFIED:20221004T175726Z
UID:40908-1675728000-1675814399@sp26gdynia.pl
SUMMARY:Zajęcia w ramach programu „Wgraj się”
DESCRIPTION:
URL:https://sp26gdynia.pl/wydarzenie/zajecia-w-ramach-programu-wgraj-sie-6/
CATEGORIES:Ważne wydarzenia
END:VEVENT
BEGIN:VEVENT
DTSTART;VALUE=DATE:20230209
DTEND;VALUE=DATE:20230210
DTSTAMP:20260423T230605
CREATED:20230201T072043Z
LAST-MODIFIED:20230201T072043Z
UID:44471-1675900800-1675987199@sp26gdynia.pl
SUMMARY:Międzynarodowy Dzień Pizzy
DESCRIPTION:
URL:https://sp26gdynia.pl/wydarzenie/miedzynarodowy-dzien-pizzy-2/
CATEGORIES:Ważne wydarzenia
END:VEVENT
BEGIN:VEVENT
DTSTART;VALUE=DATE:20230214
DTEND;VALUE=DATE:20230215
DTSTAMP:20260423T230605
CREATED:20230201T071921Z
LAST-MODIFIED:20230201T071921Z
UID:44469-1676332800-1676419199@sp26gdynia.pl
SUMMARY:Walentynki
DESCRIPTION:
URL:https://sp26gdynia.pl/wydarzenie/walentynki/
CATEGORIES:Ważne wydarzenia
END:VEVENT
BEGIN:VEVENT
DTSTART;VALUE=DATE:20230221
DTEND;VALUE=DATE:20230222
DTSTAMP:20260423T230605
CREATED:20230201T072148Z
LAST-MODIFIED:20230201T072148Z
UID:44473-1676937600-1677023999@sp26gdynia.pl
SUMMARY:Międzynarodowy Dzień Języka Ojczystego
DESCRIPTION:
URL:https://sp26gdynia.pl/wydarzenie/miedzynarodowy-dzien-jezyka-ojczystego/
CATEGORIES:Ważne wydarzenia
END:VEVENT
BEGIN:VEVENT
DTSTART;VALUE=DATE:20230228
DTEND;VALUE=DATE:20230301
DTSTAMP:20260423T230605
CREATED:20221004T175746Z
LAST-MODIFIED:20221004T175746Z
UID:40910-1677542400-1677628799@sp26gdynia.pl
SUMMARY:Zajęcia w ramach programu „Wgraj się”
DESCRIPTION:
URL:https://sp26gdynia.pl/wydarzenie/zajecia-w-ramach-programu-wgraj-sie-7/
CATEGORIES:Ważne wydarzenia
END:VEVENT
END:VCALENDAR