BEGIN:VCALENDAR
VERSION:2.0
PRODID:-//Szkoła Podstawowa nr 26 w Gdyni - ECPv6.15.17//NONSGML v1.0//EN
CALSCALE:GREGORIAN
METHOD:PUBLISH
X-WR-CALNAME:Szkoła Podstawowa nr 26 w Gdyni
X-ORIGINAL-URL:https://sp26gdynia.pl
X-WR-CALDESC:Wydarzenia dla Szkoła Podstawowa nr 26 w Gdyni
REFRESH-INTERVAL;VALUE=DURATION:PT1H
X-Robots-Tag:noindex
X-PUBLISHED-TTL:PT1H
BEGIN:VTIMEZONE
TZID:Europe/Warsaw
BEGIN:DAYLIGHT
TZOFFSETFROM:+0100
TZOFFSETTO:+0200
TZNAME:CEST
DTSTART:20210328T010000
END:DAYLIGHT
BEGIN:STANDARD
TZOFFSETFROM:+0200
TZOFFSETTO:+0100
TZNAME:CET
DTSTART:20211031T010000
END:STANDARD
BEGIN:DAYLIGHT
TZOFFSETFROM:+0100
TZOFFSETTO:+0200
TZNAME:CEST
DTSTART:20220327T010000
END:DAYLIGHT
BEGIN:STANDARD
TZOFFSETFROM:+0200
TZOFFSETTO:+0100
TZNAME:CET
DTSTART:20221030T010000
END:STANDARD
BEGIN:DAYLIGHT
TZOFFSETFROM:+0100
TZOFFSETTO:+0200
TZNAME:CEST
DTSTART:20230326T010000
END:DAYLIGHT
BEGIN:STANDARD
TZOFFSETFROM:+0200
TZOFFSETTO:+0100
TZNAME:CET
DTSTART:20231029T010000
END:STANDARD
END:VTIMEZONE
BEGIN:VEVENT
DTSTART;VALUE=DATE:20221213
DTEND;VALUE=DATE:20221214
DTSTAMP:20260424T015957
CREATED:20221004T175647Z
LAST-MODIFIED:20221004T175647Z
UID:40904-1670889600-1670975999@sp26gdynia.pl
SUMMARY:Zajęcia w ramach programu „Wgraj się”
DESCRIPTION:
URL:https://sp26gdynia.pl/wydarzenie/zajecia-w-ramach-programu-wgraj-sie-4/
CATEGORIES:Ważne wydarzenia
END:VEVENT
BEGIN:VEVENT
DTSTART;VALUE=DATE:20221222
DTEND;VALUE=DATE:20221223
DTSTAMP:20260424T015957
CREATED:20220926T071028Z
LAST-MODIFIED:20220926T071028Z
UID:40516-1671667200-1671753599@sp26gdynia.pl
SUMMARY:Klasowe spotkania świąteczne
DESCRIPTION:
URL:https://sp26gdynia.pl/wydarzenie/klasowe-spotkania-swiateczne/
CATEGORIES:Ważne wydarzenia
END:VEVENT
BEGIN:VEVENT
DTSTART;TZID=Europe/Warsaw:20221223T080000
DTEND;TZID=Europe/Warsaw:20221231T170000
DTSTAMP:20260424T015957
CREATED:20220926T071118Z
LAST-MODIFIED:20220926T071118Z
UID:40518-1671782400-1672506000@sp26gdynia.pl
SUMMARY:Zimowa przerwa świąteczna
DESCRIPTION:
URL:https://sp26gdynia.pl/wydarzenie/zimowa-przerwa-swiateczna-2/
CATEGORIES:Ważne wydarzenia
END:VEVENT
END:VCALENDAR