BEGIN:VCALENDAR
VERSION:2.0
PRODID:-//Szkoła Podstawowa nr 26 w Gdyni - ECPv6.15.17//NONSGML v1.0//EN
CALSCALE:GREGORIAN
METHOD:PUBLISH
X-ORIGINAL-URL:https://sp26gdynia.pl
X-WR-CALDESC:Wydarzenia dla Szkoła Podstawowa nr 26 w Gdyni
REFRESH-INTERVAL;VALUE=DURATION:PT1H
X-Robots-Tag:noindex
X-PUBLISHED-TTL:PT1H
BEGIN:VTIMEZONE
TZID:Europe/Warsaw
BEGIN:DAYLIGHT
TZOFFSETFROM:+0100
TZOFFSETTO:+0200
TZNAME:CEST
DTSTART:20210328T010000
END:DAYLIGHT
BEGIN:STANDARD
TZOFFSETFROM:+0200
TZOFFSETTO:+0100
TZNAME:CET
DTSTART:20211031T010000
END:STANDARD
BEGIN:DAYLIGHT
TZOFFSETFROM:+0100
TZOFFSETTO:+0200
TZNAME:CEST
DTSTART:20220327T010000
END:DAYLIGHT
BEGIN:STANDARD
TZOFFSETFROM:+0200
TZOFFSETTO:+0100
TZNAME:CET
DTSTART:20221030T010000
END:STANDARD
BEGIN:DAYLIGHT
TZOFFSETFROM:+0100
TZOFFSETTO:+0200
TZNAME:CEST
DTSTART:20230326T010000
END:DAYLIGHT
BEGIN:STANDARD
TZOFFSETFROM:+0200
TZOFFSETTO:+0100
TZNAME:CET
DTSTART:20231029T010000
END:STANDARD
END:VTIMEZONE
BEGIN:VEVENT
DTSTART;VALUE=DATE:20221108
DTEND;VALUE=DATE:20221109
DTSTAMP:20260424T034048
CREATED:20220926T070729Z
LAST-MODIFIED:20220926T070729Z
UID:40506-1667865600-1667951999@sp26gdynia.pl
SUMMARY:Próbny egzamin ósmoklasisty - język polski
DESCRIPTION:
URL:https://sp26gdynia.pl/wydarzenie/probny-egzamin-osmoklasisty-jezyk-polski/
CATEGORIES:Ważne wydarzenia
END:VEVENT
BEGIN:VEVENT
DTSTART;VALUE=DATE:20221108
DTEND;VALUE=DATE:20221109
DTSTAMP:20260424T034048
CREATED:20221004T175530Z
LAST-MODIFIED:20221004T175530Z
UID:40900-1667865600-1667951999@sp26gdynia.pl
SUMMARY:Zajęcia w ramach programu „Wgraj się”
DESCRIPTION:
URL:https://sp26gdynia.pl/wydarzenie/zajecia-w-ramach-programu-wgraj-sie-2/
CATEGORIES:Ważne wydarzenia
END:VEVENT
BEGIN:VEVENT
DTSTART;VALUE=DATE:20221109
DTEND;VALUE=DATE:20221110
DTSTAMP:20260424T034048
CREATED:20220926T070756Z
LAST-MODIFIED:20220926T070756Z
UID:40508-1667952000-1668038399@sp26gdynia.pl
SUMMARY:Próbny egzamin ósmoklasisty - matematyka
DESCRIPTION:
URL:https://sp26gdynia.pl/wydarzenie/probny-egzamin-osmoklasisty-matematyka/
CATEGORIES:Ważne wydarzenia
END:VEVENT
BEGIN:VEVENT
DTSTART;VALUE=DATE:20221110
DTEND;VALUE=DATE:20221111
DTSTAMP:20260424T034048
CREATED:20220926T070827Z
LAST-MODIFIED:20220926T070827Z
UID:40510-1668038400-1668124799@sp26gdynia.pl
SUMMARY:Próbny egzamin ósmoklasisty - język obcy nowożytny
DESCRIPTION:
URL:https://sp26gdynia.pl/wydarzenie/probny-egzamin-osmoklasisty-jezyk-obcy-nowozytny/
CATEGORIES:Ważne wydarzenia
END:VEVENT
BEGIN:VEVENT
DTSTART;VALUE=DATE:20221110
DTEND;VALUE=DATE:20221111
DTSTAMP:20260424T034048
CREATED:20220926T070903Z
LAST-MODIFIED:20220926T070903Z
UID:40512-1668038400-1668124799@sp26gdynia.pl
SUMMARY:Apel z okazji Święta Niepodległości
DESCRIPTION:
URL:https://sp26gdynia.pl/wydarzenie/apel-z-okazji-swieta-niepodleglosci/
CATEGORIES:Ważne wydarzenia
END:VEVENT
BEGIN:VEVENT
DTSTART;VALUE=DATE:20221114
DTEND;VALUE=DATE:20221115
DTSTAMP:20260424T034048
CREATED:20221107T131758Z
LAST-MODIFIED:20221107T131758Z
UID:42114-1668384000-1668470399@sp26gdynia.pl
SUMMARY:Świetlica szkolna - Światowy Dzień Dobroci
DESCRIPTION:
URL:https://sp26gdynia.pl/wydarzenie/swietlica-szkolna-swiatowy-dzien-dobroci/
CATEGORIES:Ważne wydarzenia
END:VEVENT
BEGIN:VEVENT
DTSTART;VALUE=DATE:20221122
DTEND;VALUE=DATE:20221123
DTSTAMP:20260424T034048
CREATED:20221004T175549Z
LAST-MODIFIED:20221004T175549Z
UID:40902-1669075200-1669161599@sp26gdynia.pl
SUMMARY:Zajęcia w ramach programu „Wgraj się”
DESCRIPTION:
URL:https://sp26gdynia.pl/wydarzenie/zajecia-w-ramach-programu-wgraj-sie-3/
CATEGORIES:Ważne wydarzenia
END:VEVENT
BEGIN:VEVENT
DTSTART;VALUE=DATE:20221122
DTEND;VALUE=DATE:20221123
DTSTAMP:20260424T034048
CREATED:20221107T131859Z
LAST-MODIFIED:20221107T131859Z
UID:42116-1669075200-1669161599@sp26gdynia.pl
SUMMARY:Świetlica szkolna - Dzień Kredki
DESCRIPTION:
URL:https://sp26gdynia.pl/wydarzenie/swietlica-szkolna-dzien-kredki-2/
CATEGORIES:Ważne wydarzenia
END:VEVENT
BEGIN:VEVENT
DTSTART;VALUE=DATE:20221124
DTEND;VALUE=DATE:20221125
DTSTAMP:20260424T034048
CREATED:20220926T070932Z
LAST-MODIFIED:20220926T070932Z
UID:40514-1669248000-1669334399@sp26gdynia.pl
SUMMARY:Dzień Amerykański
DESCRIPTION:
URL:https://sp26gdynia.pl/wydarzenie/dzien-amerykanski/
CATEGORIES:Ważne wydarzenia
END:VEVENT
BEGIN:VEVENT
DTSTART;VALUE=DATE:20221125
DTEND;VALUE=DATE:20221126
DTSTAMP:20260424T034048
CREATED:20221107T131933Z
LAST-MODIFIED:20221107T131933Z
UID:42118-1669334400-1669420799@sp26gdynia.pl
SUMMARY:Światowy Dzień Pluszowego Misia
DESCRIPTION:
URL:https://sp26gdynia.pl/wydarzenie/swiatowy-dzien-pluszowego-misia/
CATEGORIES:Ważne wydarzenia
END:VEVENT
BEGIN:VEVENT
DTSTART;VALUE=DATE:20221129
DTEND;VALUE=DATE:20221130
DTSTAMP:20260424T034048
CREATED:20221004T180223Z
LAST-MODIFIED:20221004T180223Z
UID:40930-1669680000-1669766399@sp26gdynia.pl
SUMMARY:Lekcja muzyki "Latarnia na samotnej wyspie" 0-3
DESCRIPTION:
URL:https://sp26gdynia.pl/wydarzenie/lekcja-muzyki-latarnia-na-samotnej-wyspie-0-3/
CATEGORIES:Ważne wydarzenia
END:VEVENT
END:VCALENDAR