BEGIN:VCALENDAR
VERSION:2.0
PRODID:-//Szkoła Podstawowa nr 26 w Gdyni - ECPv6.15.17//NONSGML v1.0//EN
CALSCALE:GREGORIAN
METHOD:PUBLISH
X-WR-CALNAME:Szkoła Podstawowa nr 26 w Gdyni
X-ORIGINAL-URL:https://sp26gdynia.pl
X-WR-CALDESC:Wydarzenia dla Szkoła Podstawowa nr 26 w Gdyni
REFRESH-INTERVAL;VALUE=DURATION:PT1H
X-Robots-Tag:noindex
X-PUBLISHED-TTL:PT1H
BEGIN:VTIMEZONE
TZID:Europe/Warsaw
BEGIN:DAYLIGHT
TZOFFSETFROM:+0100
TZOFFSETTO:+0200
TZNAME:CEST
DTSTART:20210328T010000
END:DAYLIGHT
BEGIN:STANDARD
TZOFFSETFROM:+0200
TZOFFSETTO:+0100
TZNAME:CET
DTSTART:20211031T010000
END:STANDARD
BEGIN:DAYLIGHT
TZOFFSETFROM:+0100
TZOFFSETTO:+0200
TZNAME:CEST
DTSTART:20220327T010000
END:DAYLIGHT
BEGIN:STANDARD
TZOFFSETFROM:+0200
TZOFFSETTO:+0100
TZNAME:CET
DTSTART:20221030T010000
END:STANDARD
BEGIN:DAYLIGHT
TZOFFSETFROM:+0100
TZOFFSETTO:+0200
TZNAME:CEST
DTSTART:20230326T010000
END:DAYLIGHT
BEGIN:STANDARD
TZOFFSETFROM:+0200
TZOFFSETTO:+0100
TZNAME:CET
DTSTART:20231029T010000
END:STANDARD
END:VTIMEZONE
BEGIN:VEVENT
DTSTART;VALUE=DATE:20220603
DTEND;VALUE=DATE:20220604
DTSTAMP:20260424T115250
CREATED:20220221T103513Z
LAST-MODIFIED:20220221T103513Z
UID:35783-1654214400-1654300799@sp26gdynia.pl
SUMMARY:Wystawienie wszystkich przewidywanych ocen
DESCRIPTION:
URL:https://sp26gdynia.pl/wydarzenie/wystawienie-wszystkich-przewidywanych-ocen-2/
CATEGORIES:Ważne wydarzenia
END:VEVENT
BEGIN:VEVENT
DTSTART;VALUE=DATE:20220610
DTEND;VALUE=DATE:20220611
DTSTAMP:20260424T115250
CREATED:20220221T103606Z
LAST-MODIFIED:20220221T103606Z
UID:35785-1654819200-1654905599@sp26gdynia.pl
SUMMARY:Wystawienie ocen rocznych i końcowych
DESCRIPTION:
URL:https://sp26gdynia.pl/wydarzenie/wystawienie-ocen-rocznych-i-koncowych/
CATEGORIES:Ważne wydarzenia
END:VEVENT
BEGIN:VEVENT
DTSTART;VALUE=DATE:20220617
DTEND;VALUE=DATE:20220618
DTSTAMP:20260424T115250
CREATED:20220221T103656Z
LAST-MODIFIED:20220221T103656Z
UID:35787-1655424000-1655510399@sp26gdynia.pl
SUMMARY:Dzień wolny od zajęć dydaktyczno – wychowawczych
DESCRIPTION:
URL:https://sp26gdynia.pl/wydarzenie/dzien-wolny-od-zajec-dydaktyczno-wychowawczych-7/
CATEGORIES:Ważne wydarzenia
END:VEVENT
BEGIN:VEVENT
DTSTART;VALUE=DATE:20220624
DTEND;VALUE=DATE:20220625
DTSTAMP:20260424T115250
CREATED:20220221T103754Z
LAST-MODIFIED:20220221T103754Z
UID:35789-1656028800-1656115199@sp26gdynia.pl
SUMMARY:Uroczyste zakończenie roku szkolnego 2021/2022
DESCRIPTION:
URL:https://sp26gdynia.pl/wydarzenie/uroczyste-zakonczenie-roku-szkolnego-2021-2022/
CATEGORIES:Ważne wydarzenia
END:VEVENT
END:VCALENDAR