BEGIN:VCALENDAR
VERSION:2.0
PRODID:-//Szkoła Podstawowa nr 26 w Gdyni - ECPv6.15.17//NONSGML v1.0//EN
CALSCALE:GREGORIAN
METHOD:PUBLISH
X-ORIGINAL-URL:https://sp26gdynia.pl
X-WR-CALDESC:Wydarzenia dla Szkoła Podstawowa nr 26 w Gdyni
REFRESH-INTERVAL;VALUE=DURATION:PT1H
X-Robots-Tag:noindex
X-PUBLISHED-TTL:PT1H
BEGIN:VTIMEZONE
TZID:Europe/Warsaw
BEGIN:DAYLIGHT
TZOFFSETFROM:+0100
TZOFFSETTO:+0200
TZNAME:CEST
DTSTART:20210328T010000
END:DAYLIGHT
BEGIN:STANDARD
TZOFFSETFROM:+0200
TZOFFSETTO:+0100
TZNAME:CET
DTSTART:20211031T010000
END:STANDARD
BEGIN:DAYLIGHT
TZOFFSETFROM:+0100
TZOFFSETTO:+0200
TZNAME:CEST
DTSTART:20220327T010000
END:DAYLIGHT
BEGIN:STANDARD
TZOFFSETFROM:+0200
TZOFFSETTO:+0100
TZNAME:CET
DTSTART:20221030T010000
END:STANDARD
BEGIN:DAYLIGHT
TZOFFSETFROM:+0100
TZOFFSETTO:+0200
TZNAME:CEST
DTSTART:20230326T010000
END:DAYLIGHT
BEGIN:STANDARD
TZOFFSETFROM:+0200
TZOFFSETTO:+0100
TZNAME:CET
DTSTART:20231029T010000
END:STANDARD
END:VTIMEZONE
BEGIN:VEVENT
DTSTART;VALUE=DATE:20220107
DTEND;VALUE=DATE:20220108
DTSTAMP:20260424T194434
CREATED:20211102T134929Z
LAST-MODIFIED:20211102T134929Z
UID:33245-1641513600-1641599999@sp26gdynia.pl
SUMMARY:Dzień wolny od zajęć dydaktyczno - wychowawczych
DESCRIPTION:
URL:https://sp26gdynia.pl/wydarzenie/dzien-wolny-od-zajec-dydaktyczno-wychowawczych-4/
CATEGORIES:Ważne wydarzenia
END:VEVENT
BEGIN:VEVENT
DTSTART;TZID=Europe/Warsaw:20220112T080000
DTEND;TZID=Europe/Warsaw:20220112T170000
DTSTAMP:20260424T194434
CREATED:20210922T163609Z
LAST-MODIFIED:20210922T163609Z
UID:31720-1641974400-1642006800@sp26gdynia.pl
SUMMARY:Dzień biały jak śnieg
DESCRIPTION:
URL:https://sp26gdynia.pl/wydarzenie/dzien-bialy-jak-snieg/
CATEGORIES:Ważne wydarzenia
END:VEVENT
BEGIN:VEVENT
DTSTART;VALUE=DATE:20220114
DTEND;VALUE=DATE:20220115
DTSTAMP:20260424T194434
CREATED:20211102T135029Z
LAST-MODIFIED:20211102T135029Z
UID:33247-1642118400-1642204799@sp26gdynia.pl
SUMMARY:Wystawienie wszystkich ocen przewidywanych
DESCRIPTION:
URL:https://sp26gdynia.pl/wydarzenie/wystawienie-wszystkich-ocen-przewidywanych-2/
CATEGORIES:Ważne wydarzenia
END:VEVENT
BEGIN:VEVENT
DTSTART;VALUE=DATE:20220121
DTEND;VALUE=DATE:20220122
DTSTAMP:20260424T194434
CREATED:20211102T135128Z
LAST-MODIFIED:20211102T135128Z
UID:33249-1642723200-1642809599@sp26gdynia.pl
SUMMARY:Wystawienie ocen śródrocznych
DESCRIPTION:
URL:https://sp26gdynia.pl/wydarzenie/wystawienie-ocen-srodrocznych-2/
CATEGORIES:Ważne wydarzenia
END:VEVENT
BEGIN:VEVENT
DTSTART;VALUE=DATE:20220128
DTEND;VALUE=DATE:20220129
DTSTAMP:20260424T194434
CREATED:20211102T135221Z
LAST-MODIFIED:20211102T135221Z
UID:33251-1643328000-1643414399@sp26gdynia.pl
SUMMARY:Koniec I semestru
DESCRIPTION:
URL:https://sp26gdynia.pl/wydarzenie/koniec-i-semestru-3/
CATEGORIES:Ważne wydarzenia
END:VEVENT
BEGIN:VEVENT
DTSTART;TZID=Europe/Warsaw:20220128T080000
DTEND;TZID=Europe/Warsaw:20220128T170000
DTSTAMP:20260424T194434
CREATED:20210922T163636Z
LAST-MODIFIED:20210922T163636Z
UID:31722-1643356800-1643389200@sp26gdynia.pl
SUMMARY:Dzień Klocków LEGO
DESCRIPTION:
URL:https://sp26gdynia.pl/wydarzenie/dzien-klockow-lego/
CATEGORIES:Ważne wydarzenia
END:VEVENT
END:VCALENDAR