BEGIN:VCALENDAR
VERSION:2.0
PRODID:-//Szkoła Podstawowa nr 26 w Gdyni - ECPv6.15.17//NONSGML v1.0//EN
CALSCALE:GREGORIAN
METHOD:PUBLISH
X-ORIGINAL-URL:https://sp26gdynia.pl
X-WR-CALDESC:Wydarzenia dla Szkoła Podstawowa nr 26 w Gdyni
REFRESH-INTERVAL;VALUE=DURATION:PT1H
X-Robots-Tag:noindex
X-PUBLISHED-TTL:PT1H
BEGIN:VTIMEZONE
TZID:Europe/Warsaw
BEGIN:DAYLIGHT
TZOFFSETFROM:+0100
TZOFFSETTO:+0200
TZNAME:CEST
DTSTART:20190331T010000
END:DAYLIGHT
BEGIN:STANDARD
TZOFFSETFROM:+0200
TZOFFSETTO:+0100
TZNAME:CET
DTSTART:20191027T010000
END:STANDARD
BEGIN:DAYLIGHT
TZOFFSETFROM:+0100
TZOFFSETTO:+0200
TZNAME:CEST
DTSTART:20200329T010000
END:DAYLIGHT
BEGIN:STANDARD
TZOFFSETFROM:+0200
TZOFFSETTO:+0100
TZNAME:CET
DTSTART:20201025T010000
END:STANDARD
BEGIN:DAYLIGHT
TZOFFSETFROM:+0100
TZOFFSETTO:+0200
TZNAME:CEST
DTSTART:20210328T010000
END:DAYLIGHT
BEGIN:STANDARD
TZOFFSETFROM:+0200
TZOFFSETTO:+0100
TZNAME:CET
DTSTART:20211031T010000
END:STANDARD
END:VTIMEZONE
BEGIN:VEVENT
DTSTART;TZID=Europe/Warsaw:20201002T104500
DTEND;TZID=Europe/Warsaw:20201002T123000
DTSTAMP:20260425T194910
CREATED:20210415T114801Z
LAST-MODIFIED:20210415T114801Z
UID:29561-1601635500-1601641800@sp26gdynia.pl
SUMMARY:Warsztaty komunikacyjne klasa 5A
DESCRIPTION:
URL:https://sp26gdynia.pl/wydarzenie/warsztaty-komunikacyjne-klasa-5a/
CATEGORIES:Ważne wydarzenia
ATTACH;FMTTYPE=image/png:https://sp26gdynia.pl/wp-content/uploads/2021/04/komunikacja-5a-.png
END:VEVENT
BEGIN:VEVENT
DTSTART;VALUE=DATE:20201014
DTEND;VALUE=DATE:20201015
DTSTAMP:20260425T194910
CREATED:20201013T082427Z
LAST-MODIFIED:20201013T083107Z
UID:24683-1602633600-1602719999@sp26gdynia.pl
SUMMARY:Dzień Edukacji Narodowej - dzień wolny od zajęć dydaktyczno - wychowawczych. Pasowanie klas 1.
DESCRIPTION:
URL:https://sp26gdynia.pl/wydarzenie/dzien-edukacji-narodowej-dzien-wolny-od-zajec-dydaktyczno-wychowawczych-pasowanie-klas-1/
CATEGORIES:Ważne wydarzenia
END:VEVENT
BEGIN:VEVENT
DTSTART;TZID=Europe/Warsaw:20201022T080000
DTEND;TZID=Europe/Warsaw:20201022T170000
DTSTAMP:20260425T194910
CREATED:20201020T050901Z
LAST-MODIFIED:20201020T050901Z
UID:24995-1603353600-1603386000@sp26gdynia.pl
SUMMARY:Świetlica szkolna - Dzień Origami
DESCRIPTION:
URL:https://sp26gdynia.pl/wydarzenie/swietlica-szkolna-dzien-origami-2/
CATEGORIES:Ważne wydarzenia
END:VEVENT
BEGIN:VEVENT
DTSTART;TZID=Europe/Warsaw:20201023T080000
DTEND;TZID=Europe/Warsaw:20201023T170000
DTSTAMP:20260425T194910
CREATED:20201020T050607Z
LAST-MODIFIED:20201020T050830Z
UID:24991-1603440000-1603472400@sp26gdynia.pl
SUMMARY:Pasowanie na Świetliczaka
DESCRIPTION:
URL:https://sp26gdynia.pl/wydarzenie/swietlica-szkolna-dzien-origami/
CATEGORIES:Ważne wydarzenia
END:VEVENT
BEGIN:VEVENT
DTSTART;TZID=Europe/Warsaw:20201026T080000
DTEND;TZID=Europe/Warsaw:20201026T170000
DTSTAMP:20260425T194910
CREATED:20201020T050436Z
LAST-MODIFIED:20201020T050436Z
UID:24989-1603699200-1603731600@sp26gdynia.pl
SUMMARY:Świetlica szkolna - Dzień Kundelka
DESCRIPTION:
URL:https://sp26gdynia.pl/wydarzenie/swietlica-szkolna-dzien-kundelka/
CATEGORIES:Ważne wydarzenia
END:VEVENT
BEGIN:VEVENT
DTSTART;TZID=Europe/Warsaw:20201030T080000
DTEND;TZID=Europe/Warsaw:20201030T170000
DTSTAMP:20260425T194910
CREATED:20201020T050400Z
LAST-MODIFIED:20201020T050400Z
UID:24987-1604044800-1604077200@sp26gdynia.pl
SUMMARY:Świetlica szkolna - Dzień Dyni
DESCRIPTION:
URL:https://sp26gdynia.pl/wydarzenie/swietlica-szkolna-dzien-dyni/
CATEGORIES:Ważne wydarzenia
END:VEVENT
END:VCALENDAR