BEGIN:VCALENDAR
VERSION:2.0
PRODID:-//Szkoła Podstawowa nr 26 w Gdyni - ECPv6.15.17//NONSGML v1.0//EN
CALSCALE:GREGORIAN
METHOD:PUBLISH
X-WR-CALNAME:Szkoła Podstawowa nr 26 w Gdyni
X-ORIGINAL-URL:https://sp26gdynia.pl
X-WR-CALDESC:Wydarzenia dla Szkoła Podstawowa nr 26 w Gdyni
REFRESH-INTERVAL;VALUE=DURATION:PT1H
X-Robots-Tag:noindex
X-PUBLISHED-TTL:PT1H
BEGIN:VTIMEZONE
TZID:Europe/Warsaw
BEGIN:DAYLIGHT
TZOFFSETFROM:+0100
TZOFFSETTO:+0200
TZNAME:CEST
DTSTART:20190331T010000
END:DAYLIGHT
BEGIN:STANDARD
TZOFFSETFROM:+0200
TZOFFSETTO:+0100
TZNAME:CET
DTSTART:20191027T010000
END:STANDARD
BEGIN:DAYLIGHT
TZOFFSETFROM:+0100
TZOFFSETTO:+0200
TZNAME:CEST
DTSTART:20200329T010000
END:DAYLIGHT
BEGIN:STANDARD
TZOFFSETFROM:+0200
TZOFFSETTO:+0100
TZNAME:CET
DTSTART:20201025T010000
END:STANDARD
BEGIN:DAYLIGHT
TZOFFSETFROM:+0100
TZOFFSETTO:+0200
TZNAME:CEST
DTSTART:20210328T010000
END:DAYLIGHT
BEGIN:STANDARD
TZOFFSETFROM:+0200
TZOFFSETTO:+0100
TZNAME:CET
DTSTART:20211031T010000
END:STANDARD
END:VTIMEZONE
BEGIN:VEVENT
DTSTART;TZID=Europe/Warsaw:20200915T070000
DTEND;TZID=Europe/Warsaw:20200915T170000
DTSTAMP:20260425T211617
CREATED:20200911T062257Z
LAST-MODIFIED:20200911T062313Z
UID:23864-1600153200-1600189200@sp26gdynia.pl
SUMMARY:Świetlica szkolna - Dzień Kropki
DESCRIPTION:
URL:https://sp26gdynia.pl/wydarzenie/swietlica-szkolna-miedzynarodowy-dzien-kropki/
CATEGORIES:Ważne wydarzenia
END:VEVENT
BEGIN:VEVENT
DTSTART;TZID=Europe/Warsaw:20200915T080000
DTEND;TZID=Europe/Warsaw:20200915T170000
DTSTAMP:20260425T211617
CREATED:20200915T095414Z
LAST-MODIFIED:20200915T095659Z
UID:23938-1600156800-1600189200@sp26gdynia.pl
SUMMARY:Dzień Kropki - lekcja biblioteczna w 0A
DESCRIPTION:
URL:https://sp26gdynia.pl/wydarzenie/dzien-kropki-lekcja-biblioteczna-w-0a/
END:VEVENT
BEGIN:VEVENT
DTSTART;TZID=Europe/Warsaw:20200918T070000
DTEND;TZID=Europe/Warsaw:20200918T170000
DTSTAMP:20260425T211617
CREATED:20200911T062404Z
LAST-MODIFIED:20200911T062404Z
UID:23868-1600412400-1600448400@sp26gdynia.pl
SUMMARY:Świetlica szkolna - Dzień Emotikona
DESCRIPTION:
URL:https://sp26gdynia.pl/wydarzenie/swietlica-szkolna-dzien-emotikona/
CATEGORIES:Ważne wydarzenia
END:VEVENT
BEGIN:VEVENT
DTSTART;TZID=Europe/Warsaw:20200921T070000
DTEND;TZID=Europe/Warsaw:20200921T170000
DTSTAMP:20260425T211617
CREATED:20200911T062514Z
LAST-MODIFIED:20200911T062514Z
UID:23870-1600671600-1600707600@sp26gdynia.pl
SUMMARY:Świetlica szkolna - Dzień Orderu Uśmiechu
DESCRIPTION:
URL:https://sp26gdynia.pl/wydarzenie/swietlica-szkolna-dzien-orderu-usmiechu/
CATEGORIES:Ważne wydarzenia
END:VEVENT
BEGIN:VEVENT
DTSTART;TZID=Europe/Warsaw:20200922T070000
DTEND;TZID=Europe/Warsaw:20200922T170000
DTSTAMP:20260425T211617
CREATED:20200911T062636Z
LAST-MODIFIED:20200911T062636Z
UID:23872-1600758000-1600794000@sp26gdynia.pl
SUMMARY:Świetlica szkolna - Pierwszy Dzień Jesieni
DESCRIPTION:
URL:https://sp26gdynia.pl/wydarzenie/swietlica-szkolna-pierwszy-dzien-jesieni/
CATEGORIES:Ważne wydarzenia
END:VEVENT
BEGIN:VEVENT
DTSTART;TZID=Europe/Warsaw:20200923T070000
DTEND;TZID=Europe/Warsaw:20200923T170000
DTSTAMP:20260425T211617
CREATED:20200911T062711Z
LAST-MODIFIED:20200911T062711Z
UID:23874-1600844400-1600880400@sp26gdynia.pl
SUMMARY:Świetlica szkolna - Dzień Spadającego Liścia
DESCRIPTION:
URL:https://sp26gdynia.pl/wydarzenie/swietlica-szkolna-dzien-spadajacego-liscia/
CATEGORIES:Ważne wydarzenia
END:VEVENT
BEGIN:VEVENT
DTSTART;TZID=Europe/Warsaw:20200924T070000
DTEND;TZID=Europe/Warsaw:20200924T170000
DTSTAMP:20260425T211617
CREATED:20200911T062807Z
LAST-MODIFIED:20200911T062807Z
UID:23876-1600930800-1600966800@sp26gdynia.pl
SUMMARY:Świetlica szkolna - Dzień Grzyba
DESCRIPTION:
URL:https://sp26gdynia.pl/wydarzenie/swietlica-szkolna-dzien-grzyba/
CATEGORIES:Ważne wydarzenia
END:VEVENT
BEGIN:VEVENT
DTSTART;TZID=Europe/Warsaw:20200928T070000
DTEND;TZID=Europe/Warsaw:20200928T170000
DTSTAMP:20260425T211617
CREATED:20200911T062843Z
LAST-MODIFIED:20200911T062843Z
UID:23878-1601276400-1601312400@sp26gdynia.pl
SUMMARY:Świetlica szkolna - Dzień Jabłka
DESCRIPTION:
URL:https://sp26gdynia.pl/wydarzenie/swietlica-szkolna-dzien-jablka/
CATEGORIES:Ważne wydarzenia
END:VEVENT
BEGIN:VEVENT
DTSTART;TZID=Europe/Warsaw:20200929T070000
DTEND;TZID=Europe/Warsaw:20200929T170000
DTSTAMP:20260425T211617
CREATED:20200911T062936Z
LAST-MODIFIED:20200911T062936Z
UID:23880-1601362800-1601398800@sp26gdynia.pl
SUMMARY:Świetlica szkolna - Dzień Głośnego Czytania
DESCRIPTION:
URL:https://sp26gdynia.pl/wydarzenie/swietlica-szkolna-dzien-glosnego-czytania/
CATEGORIES:Ważne wydarzenia
END:VEVENT
BEGIN:VEVENT
DTSTART;TZID=Europe/Warsaw:20200930T070000
DTEND;TZID=Europe/Warsaw:20200930T170000
DTSTAMP:20260425T211617
CREATED:20200911T063014Z
LAST-MODIFIED:20200911T063014Z
UID:23882-1601449200-1601485200@sp26gdynia.pl
SUMMARY:Świetlica szkolna - Dzień Chłopaka
DESCRIPTION:
URL:https://sp26gdynia.pl/wydarzenie/swietlica-szkolna-dzien-chlopaka/
CATEGORIES:Ważne wydarzenia
END:VEVENT
END:VCALENDAR