BEGIN:VCALENDAR
VERSION:2.0
PRODID:-//Szkoła Podstawowa nr 26 w Gdyni - ECPv6.15.17//NONSGML v1.0//EN
CALSCALE:GREGORIAN
METHOD:PUBLISH
X-WR-CALNAME:Szkoła Podstawowa nr 26 w Gdyni
X-ORIGINAL-URL:https://sp26gdynia.pl
X-WR-CALDESC:Wydarzenia dla Szkoła Podstawowa nr 26 w Gdyni
REFRESH-INTERVAL;VALUE=DURATION:PT1H
X-Robots-Tag:noindex
X-PUBLISHED-TTL:PT1H
BEGIN:VTIMEZONE
TZID:Europe/Warsaw
BEGIN:DAYLIGHT
TZOFFSETFROM:+0100
TZOFFSETTO:+0200
TZNAME:CEST
DTSTART:20170326T010000
END:DAYLIGHT
BEGIN:STANDARD
TZOFFSETFROM:+0200
TZOFFSETTO:+0100
TZNAME:CET
DTSTART:20171029T010000
END:STANDARD
BEGIN:DAYLIGHT
TZOFFSETFROM:+0100
TZOFFSETTO:+0200
TZNAME:CEST
DTSTART:20180325T010000
END:DAYLIGHT
BEGIN:STANDARD
TZOFFSETFROM:+0200
TZOFFSETTO:+0100
TZNAME:CET
DTSTART:20181028T010000
END:STANDARD
BEGIN:DAYLIGHT
TZOFFSETFROM:+0100
TZOFFSETTO:+0200
TZNAME:CEST
DTSTART:20190331T010000
END:DAYLIGHT
BEGIN:STANDARD
TZOFFSETFROM:+0200
TZOFFSETTO:+0100
TZNAME:CET
DTSTART:20191027T010000
END:STANDARD
END:VTIMEZONE
BEGIN:VEVENT
DTSTART;VALUE=DATE:20180321
DTEND;VALUE=DATE:20180322
DTSTAMP:20260426T055332
CREATED:20180301T121507Z
LAST-MODIFIED:20180301T123027Z
UID:4749-1521590400-1521676799@sp26gdynia.pl
SUMMARY:Wyjście do G.C.F. na film pt."Cudowny chłopak"
DESCRIPTION:
URL:https://sp26gdynia.pl/wydarzenie/wyjscie-g-c-f-film-pt-cudowny-chlopak/
CATEGORIES:Ważne wydarzenia
ATTACH;FMTTYPE=image/jpeg:https://sp26gdynia.pl/wp-content/uploads/2018/03/cud.jpg
END:VEVENT
BEGIN:VEVENT
DTSTART;TZID=Europe/Warsaw:20180319T080000
DTEND;TZID=Europe/Warsaw:20180323T170000
DTSTAMP:20260426T055332
CREATED:20180302T092627Z
LAST-MODIFIED:20180302T092627Z
UID:4764-1521446400-1521824400@sp26gdynia.pl
SUMMARY:Międzynarodowy Dzień Wody\, Dzień Ochrony Bałtyku
DESCRIPTION:Międzynarodowy Dzień Wody\, Dzień Ochrony Bałtyku – obchody 19 – 23\, final 26 marca \nKlasy IV – VI \n\nKonkurs fotograficzny „Bałtyk w obiektywie”\nKonkurs recytatorski – tematyka: jeziora\, rzeki\, morza itp.\nKonkurs na plakat promujący Morze Bałtyckie\nKonkurs 1 z 10 temat „ Morze Baltyckie”\n\nKlasy O – III \n\nKonkurs plastyczny – zwierzęta Bałtyku w swoim środowisku\n\n– klasy O – ławice śledzi \n– klasy I – II – flądry \n– klasy III – morświn \n\nKonkurs 1 z 10 o Morzu Bałtyckim – dla klasy II\nKonkurs recytatorski – tematyka: jeziora\, rzeki\, morza itp. – klasy III\n\nKonkurs dla chętnych z O – VI \nMorskie Kapelusze \nLegenda \n\nKonkurs fotograficzny – minimum 1 zdjęcie z każdej klasy\, zrobione zdjęcie przynosimy na nośniku\n\ndo 19 marca ( poniedziałek ) \n\nKonkurs recytatorski – po jednym recytatorze z klasy\, termin konkursu 21 marca (środa) godz. 8.00 sala nr 13\n\n\nKonkurs na plakat – format A-3\, technika dowolna (nie przestrzenna)\, termin oddania prac upływa 21.03.2018r ( środa )\n\n\nKonkurs 1 z 10 – po jednym przedstawicielu z każdej klasy\, termin konkursu 19 poniedziałek) godz. 8.00\n\nsala nr 13 \n\nKonkurs plastyczny dla klas młodszych – format A-4 technika dowolna (nie przestrzenna)\, termin oddania prac upływa 21.03.2018r ( środa )\n\n\nMorskie Kapelusze – w konkursie biorą udział kapelusze ozdobione morskimi elementami. Wybór najładniejszego kapelusza odbędzie się w dniu zakończenia obchodów Międzynarodowego Dnia Wody i Ochrony Bałtyku
URL:https://sp26gdynia.pl/wydarzenie/miedzynarodowy-dzien-wody-dzien-ochrony-baltyku/
CATEGORIES:Ważne wydarzenia
END:VEVENT
BEGIN:VEVENT
DTSTART;VALUE=DATE:20180319
DTEND;VALUE=DATE:20180322
DTSTAMP:20260426T055332
CREATED:20180312T081829Z
LAST-MODIFIED:20180312T082923Z
UID:4981-1521417600-1521676799@sp26gdynia.pl
SUMMARY:Rekolekcje wielkopostne\, ul. Tatrzańska 40
DESCRIPTION:W dniach 19 \,20\, 21 marca odbywają się w naszej szkole rekolekcje wielkopostne.\n19 marca – rekolekcje na terenie szkoły ( godz. 9:50 – 10:35 klasy IV – VI; godz. 10:45 – 11:30  klasy 0 – III )                                  20 marca – rekolekcje na terenie szkoły ( godz. 8:00 – 8:45 klasy IV – VI; godz. 8:55 – 9:40  klasy 0 – III )                                        21 marca – godz. 10:45 nabożeństwo dla klas  0 – III;  godz. 9:50  msza św. dla klas IV – VI \nW tych dniach uczniowie pracują według planu\, a na nauki rekolekcyjne do kościoła wychodzą pod opieką nauczycieli. \nUczniowie\, którzy nie będą uczęszczać na rekolekcje\, będą mieli osobny plan lekcji.
URL:https://sp26gdynia.pl/wydarzenie/rekolekcje-wielkopostne-4/
ATTACH;FMTTYPE=image/jpeg:https://sp26gdynia.pl/wp-content/uploads/2018/03/rekolekcje-e1520421993281.jpg
END:VEVENT
BEGIN:VEVENT
DTSTART;TZID=Europe/Warsaw:20180315T080000
DTEND;TZID=Europe/Warsaw:20180315T170000
DTSTAMP:20260426T055332
CREATED:20180315T150509Z
LAST-MODIFIED:20180315T151417Z
UID:5105-1521100800-1521133200@sp26gdynia.pl
SUMMARY:Tydzień Języka Ojczystego- projekt
DESCRIPTION:Zakończyliśmy obchody Tygodnia Języka Ojczystego. Tym razem hasłem przewodnie brzmiało „Ojczyzna to też język”. Zorganizowaliśmy wiele konkursów\, każdy mógł znaleźć coś dla siebie. \nUczniowie stworzyli tablicę z aforyzmami o ojczyźnie oraz wybierali najpiękniejsze polskie słowo.\n \n \n \nUczniowie klas 7. wzięli udział w konkursie pięknego czytania \n \nAkcja „Cała Polska Czyta Dzieciom” z udziałem pani Dyrektor\, pana Tomka kucharza\, pani Oli oraz nauczycieli i uczniów.\n \n \nPani Ewa Laskowska zorganizowała quiz językowy i dyktando. \n \nKonkurs plastyczny \n \nKonkurs recytatorski. \nUczennice Monika Bieszke i Weronika Meyer wygrały i będą reprezentować naszą szkołę w kolejnym etapie konkursu. \n \nTydzień pełen wrażeń zakończył się prezentacją ulubionego bohatera literackiego
URL:https://sp26gdynia.pl/wydarzenie/tydzien-jezyka-ojczystego-projekt-2/
CATEGORIES:Ważne wydarzenia
ATTACH;FMTTYPE=image/jpeg:https://sp26gdynia.pl/wp-content/uploads/2018/03/onegdaj.jpg
END:VEVENT
BEGIN:VEVENT
DTSTART;TZID=Europe/Warsaw:20180315T080000
DTEND;TZID=Europe/Warsaw:20180315T170000
DTSTAMP:20260426T055332
CREATED:20180315T145321Z
LAST-MODIFIED:20180315T145321Z
UID:5093-1521100800-1521133200@sp26gdynia.pl
SUMMARY:Tydzień Języka Ojczystego - projekt
DESCRIPTION:Zakończyliśmy obchody Tygodnia Języka Ojczystego. Tym razem hasłem przewodnie brzmiało „Ojczyzna to też język”. Zorganizowaliśmy wiele konkursów\, każdy mógł znaleźć coś dla siebie. \nUczniowie z wszystkich klas stworzyli tablicę z aforyzmami o ojczyźnie i wybierali najpiękniejsze polskie słowo\n \n \n \nUczniowie klas 7. wzięli udział w konkursie pięknego czytania \n \nAkcja „Cała Polska Czyta Dzieciom” z udziałem Pani Dyrektor\, Pana Tomka – kucharza\, Pani Oli oraz nauczycieli i uczniów\n \n \nPani Ewa Laskowska zorganizowała quiz językowy i dyktando. \n \nKonkurs plastyczny \n  \n \nKonkurs recytatorski \n \nUczennice Monika Bieszke i Weronika Meyer wygrały i będą reprezentować naszą szkołę w kolejnym etapie konkursu. \nTydzień pełen wrażeń zakończył się prezentacją ulubionych postaci literackich.
URL:https://sp26gdynia.pl/wydarzenie/tydzien-jezyka-ojczystego-projekt/
CATEGORIES:Ważne wydarzenia
ATTACH;FMTTYPE=image/jpeg:https://sp26gdynia.pl/wp-content/uploads/2018/03/onegdaj.jpg
END:VEVENT
BEGIN:VEVENT
DTSTART;VALUE=DATE:20180315
DTEND;VALUE=DATE:20180316
DTSTAMP:20260426T055332
CREATED:20180219T200736Z
LAST-MODIFIED:20180220T083600Z
UID:4273-1521072000-1521158399@sp26gdynia.pl
SUMMARY:Kangur
DESCRIPTION:Międzynarodowy Konkurs Matematyczny KANGUR  dla klas 2 – 7 SP oraz II i III  Gimnazjum; godz. 9:00
URL:https://sp26gdynia.pl/wydarzenie/kangur/
CATEGORIES:Ważne wydarzenia
ATTACH;FMTTYPE=image/jpeg:https://sp26gdynia.pl/wp-content/uploads/2018/02/k1.jpeg
END:VEVENT
BEGIN:VEVENT
DTSTART;TZID=Europe/Warsaw:20180313T080000
DTEND;TZID=Europe/Warsaw:20180313T170000
DTSTAMP:20260426T055332
CREATED:20180313T093912Z
LAST-MODIFIED:20180316T073101Z
UID:4998-1520928000-1520960400@sp26gdynia.pl
SUMMARY:SUKCES UCZNIA KLASY VIIB JAKUBA PNIEWSKIEGO!!!
DESCRIPTION:Uczeń klasy VII b Jakub Pniewski został laureatem Wojewódzkiego Konkursu Matematycznego dla szkół podstawowych! \nUcznia do konkursu przygotowywała p.Agnieszka Tartanus
URL:https://sp26gdynia.pl/wydarzenie/sukces-ucznia-klasy-viib-jakuba-pniewskiego/
CATEGORIES:Ważne wydarzenia
END:VEVENT
BEGIN:VEVENT
DTSTART;TZID=Europe/Warsaw:20180312T080000
DTEND;TZID=Europe/Warsaw:20180312T170000
DTSTAMP:20260426T055332
CREATED:20180307T113555Z
LAST-MODIFIED:20180307T113642Z
UID:4855-1520841600-1520874000@sp26gdynia.pl
SUMMARY:Finał Wojewódzkich Międzyszkolnych Mistrzostw Browlingowych (5-6)
DESCRIPTION:
URL:https://sp26gdynia.pl/wydarzenie/final-wojewodzkich-miedzyszkolnych-mistrzostw-browlingowych-5-6/
CATEGORIES:Ważne wydarzenia
END:VEVENT
BEGIN:VEVENT
DTSTART;VALUE=DATE:20180310
DTEND;VALUE=DATE:20180311
DTSTAMP:20260426T055332
CREATED:20180301T090023Z
LAST-MODIFIED:20180301T092837Z
UID:4271-1520640000-1520726399@sp26gdynia.pl
SUMMARY:Dzień Otwarty
DESCRIPTION:Zapraszamy na Dzień Otwarty w godz. 10 – 12\, ul. Tatrzańska 40
URL:https://sp26gdynia.pl/wydarzenie/dzien-otwarty-2/
CATEGORIES:Ważne wydarzenia
ATTACH;FMTTYPE=image/jpeg:https://sp26gdynia.pl/wp-content/uploads/2018/03/otw.jpg
END:VEVENT
BEGIN:VEVENT
DTSTART;TZID=Europe/Warsaw:20180309T080000
DTEND;TZID=Europe/Warsaw:20180309T170000
DTSTAMP:20260426T055332
CREATED:20180226T081834Z
LAST-MODIFIED:20180226T081834Z
UID:4517-1520582400-1520614800@sp26gdynia.pl
SUMMARY:Wyjście na spektakl: "Książę i żebrak" w sali Gemini (klasy 4-6)
DESCRIPTION:
URL:https://sp26gdynia.pl/wydarzenie/wyjscie-spektakl-ksiaze-zebrak-sali-gemini-klasy-4-6/
CATEGORIES:Ważne wydarzenia
END:VEVENT
BEGIN:VEVENT
DTSTART;VALUE=DATE:20180308
DTEND;VALUE=DATE:20180309
DTSTAMP:20260426T055332
CREATED:20180301T121212Z
LAST-MODIFIED:20180301T121212Z
UID:4746-1520467200-1520553599@sp26gdynia.pl
SUMMARY:Klasy 0-III w teatrze na przedstawieniu "Baltazar Gąbka"
DESCRIPTION:
URL:https://sp26gdynia.pl/wydarzenie/klasy-0-iii-teatrze-przedstawieniu-baltazar-gabka/
CATEGORIES:Ważne wydarzenia
ATTACH;FMTTYPE=image/jpeg:https://sp26gdynia.pl/wp-content/uploads/2018/03/balt.jpg
END:VEVENT
BEGIN:VEVENT
DTSTART;TZID=Europe/Warsaw:20180307T080000
DTEND;TZID=Europe/Warsaw:20180307T170000
DTSTAMP:20260426T055332
CREATED:20180307T113450Z
LAST-MODIFIED:20180307T113450Z
UID:4853-1520409600-1520442000@sp26gdynia.pl
SUMMARY:Wręczenie medali Gdynia Młoda Liga (4-5)
DESCRIPTION:
URL:https://sp26gdynia.pl/wydarzenie/wreczenie-medali-gdynia-mloda-liga-4-5/
CATEGORIES:Ważne wydarzenia
END:VEVENT
BEGIN:VEVENT
DTSTART;VALUE=DATE:20180307
DTEND;VALUE=DATE:20180308
DTSTAMP:20260426T055332
CREATED:20180305T134904Z
LAST-MODIFIED:20180305T135514Z
UID:4796-1520380800-1520467199@sp26gdynia.pl
SUMMARY:Konkurs Matematyczny "Muszelka"
DESCRIPTION:Etap szkolny w środę 7 marca 2018 r. godz. 8:00\, sala 11.
URL:https://sp26gdynia.pl/wydarzenie/konkurs-matematyczny-muszelka/
CATEGORIES:Ważne wydarzenia
ATTACH;FMTTYPE=image/jpeg:https://sp26gdynia.pl/wp-content/uploads/2018/03/muszelka.jpg
END:VEVENT
BEGIN:VEVENT
DTSTART;VALUE=DATE:20180307
DTEND;VALUE=DATE:20180308
DTSTAMP:20260426T055332
CREATED:20180219T195724Z
LAST-MODIFIED:20180220T074257Z
UID:4267-1520380800-1520467199@sp26gdynia.pl
SUMMARY:Warsztaty "Agresja. Czy można ją zrozumieć i oswoić ?"
DESCRIPTION:kl. 4 a \, godz. 9:50 – 11:30
URL:https://sp26gdynia.pl/wydarzenie/warsztaty-agresja-mozna-ja-zrozumiec-oswoic-2/
LOCATION:Tatrzańska 40
CATEGORIES:Ważne wydarzenia
END:VEVENT
BEGIN:VEVENT
DTSTART;VALUE=DATE:20180305
DTEND;VALUE=DATE:20180310
DTSTAMP:20260426T055332
CREATED:20180220T122107Z
LAST-MODIFIED:20180220T122107Z
UID:4365-1520208000-1520639999@sp26gdynia.pl
SUMMARY:TYDZIEŃ INDYJSKI
DESCRIPTION:
URL:https://sp26gdynia.pl/wydarzenie/tydzien-indyjski/
LOCATION:Tatrzańska 40
CATEGORIES:Ważne wydarzenia
ATTACH;FMTTYPE=image/jpeg:https://sp26gdynia.pl/wp-content/uploads/2018/02/INDIE.jpeg
END:VEVENT
BEGIN:VEVENT
DTSTART;VALUE=DATE:20180305
DTEND;VALUE=DATE:20180306
DTSTAMP:20260426T055332
CREATED:20180219T195524Z
LAST-MODIFIED:20180220T074343Z
UID:4265-1520208000-1520294399@sp26gdynia.pl
SUMMARY:Warsztaty "Agresja. Czy można ją zrozumieć i oswoić ?"
DESCRIPTION:Kl. 2 a\, godz. 8:55 – 10:35; \nkl. 3 d\, godz. 10:45 – 12:35
URL:https://sp26gdynia.pl/wydarzenie/warsztaty-agresja-mozna-ja-zrozumiec-oswoic/
LOCATION:Tatrzańska 40
CATEGORIES:Ważne wydarzenia
END:VEVENT
BEGIN:VEVENT
DTSTART;TZID=Europe/Warsaw:20180303T080000
DTEND;TZID=Europe/Warsaw:20180303T170000
DTSTAMP:20260426T055332
CREATED:20180307T113347Z
LAST-MODIFIED:20180307T113347Z
UID:4851-1520064000-1520096400@sp26gdynia.pl
SUMMARY:Rozgrywki gier planszowych Rodzice - dzieci
DESCRIPTION:
URL:https://sp26gdynia.pl/wydarzenie/rozgrywki-gier-planszowych-rodzice-dzieci/
CATEGORIES:Ważne wydarzenia
END:VEVENT
BEGIN:VEVENT
DTSTART;VALUE=DATE:20180303
DTEND;VALUE=DATE:20180304
DTSTAMP:20260426T055332
CREATED:20180219T194516Z
LAST-MODIFIED:20180220T074419Z
UID:4263-1520035200-1520121599@sp26gdynia.pl
SUMMARY:Konkurs matematyczny dla klas czwartych
DESCRIPTION:
URL:https://sp26gdynia.pl/wydarzenie/konkurs-matematyczny-dla-klas-czwartych/
LOCATION:ul. Jana z Kolna 5
CATEGORIES:Ważne wydarzenia
END:VEVENT
BEGIN:VEVENT
DTSTART;VALUE=DATE:20180302
DTEND;VALUE=DATE:20180303
DTSTAMP:20260426T055332
CREATED:20180301T141129Z
LAST-MODIFIED:20180301T141129Z
UID:4755-1519948800-1520035199@sp26gdynia.pl
SUMMARY:V Wojewódzki Konkurs  Ortograficzny kl. III
DESCRIPTION:Godz. 9:50\, sala nr 21.
URL:https://sp26gdynia.pl/wydarzenie/v-wojewodzki-konkurs-ortograficzny-kl-iii/
CATEGORIES:Ważne wydarzenia
ATTACH;FMTTYPE=image/jpeg:https://sp26gdynia.pl/wp-content/uploads/2018/03/ort..jpg
END:VEVENT
BEGIN:VEVENT
DTSTART;TZID=Europe/Warsaw:20180301T080000
DTEND;TZID=Europe/Warsaw:20180301T170000
DTSTAMP:20260426T055332
CREATED:20180307T113301Z
LAST-MODIFIED:20180307T113301Z
UID:4849-1519891200-1519923600@sp26gdynia.pl
SUMMARY:Obchody Narodowego Dnia Żołnierzy Wyklętych
DESCRIPTION:
URL:https://sp26gdynia.pl/wydarzenie/obchody-narodowego-zolnierzy-wykletych/
CATEGORIES:Ważne wydarzenia
END:VEVENT
BEGIN:VEVENT
DTSTART;VALUE=DATE:20180301
DTEND;VALUE=DATE:20180303
DTSTAMP:20260426T055332
CREATED:20180219T193507Z
LAST-MODIFIED:20180220T074549Z
UID:4261-1519862400-1520035199@sp26gdynia.pl
SUMMARY:Konkurs "Zuch" dla klas I - III
DESCRIPTION:Edycja semestralna konkursu Zuch (test zintegrowany) i konkursu Zuch z języka angielskiego zostanie przeprowadzona w dniach 01-03-2018 r. i 02-03-2018 r.
URL:https://sp26gdynia.pl/wydarzenie/konkurs-zuch-dla-klas-iii/
CATEGORIES:Ważne wydarzenia
END:VEVENT
BEGIN:VEVENT
DTSTART;VALUE=DATE:20180228
DTEND;VALUE=DATE:20180301
DTSTAMP:20260426T055332
CREATED:20180219T192916Z
LAST-MODIFIED:20180220T110543Z
UID:4258-1519776000-1519862399@sp26gdynia.pl
SUMMARY:Wzbij się na wyżyny
DESCRIPTION:Warsztaty naukowe pn. „Wzbij się na wyżyny” w ramach projektów\n„Małe skrzydła\, wysokie loty – program kompleksowego wsparcia szkół\npodstawowych w Gdyni”; wyjazd o godz. 10.00.
URL:https://sp26gdynia.pl/wydarzenie/wzbij-sie-wyzyny/
CATEGORIES:Ważne wydarzenia
END:VEVENT
BEGIN:VEVENT
DTSTART;TZID=Europe/Warsaw:20180227T140000
DTEND;TZID=Europe/Warsaw:20180227T153000
DTSTAMP:20260426T055332
CREATED:20180221T112020Z
LAST-MODIFIED:20180225T110739Z
UID:4369-1519740000-1519745400@sp26gdynia.pl
SUMMARY:Wojewódzki Konkurs Matematyczny
DESCRIPTION:
URL:https://sp26gdynia.pl/wydarzenie/wojewodzki-konkurs-matematyczny/
CATEGORIES:Ważne wydarzenia
END:VEVENT
BEGIN:VEVENT
DTSTART;TZID=Europe/Warsaw:20180227T080000
DTEND;TZID=Europe/Warsaw:20180227T170000
DTSTAMP:20260426T055332
CREATED:20180302T093059Z
LAST-MODIFIED:20180302T093059Z
UID:4766-1519718400-1519750800@sp26gdynia.pl
SUMMARY:Przedstawienie klasy 3d "Rozejrzyjcie się wokół"
DESCRIPTION:Wizyta przedszkolaków z przedszkola nr 4\, drużyny St. Kostki i Inspirio na przedstawieniu przygotowanym na motywach baśni Andersena: „Dziewczynka z zapałkami”.
URL:https://sp26gdynia.pl/wydarzenie/przedstawienie-klasy-3d-rozejrzyjcie-sie-wokol/
CATEGORIES:Ważne wydarzenia
END:VEVENT
BEGIN:VEVENT
DTSTART;VALUE=DATE:20180226
DTEND;VALUE=DATE:20180227
DTSTAMP:20260426T055332
CREATED:20180219T192258Z
LAST-MODIFIED:20180219T201110Z
UID:4255-1519603200-1519689599@sp26gdynia.pl
SUMMARY:Konkurs wiedzy o Gdyni
DESCRIPTION:Półfinał Konkursu wiedzy o Gdyni odbędzie się 26 lutego 2018 roku – poniedziałek w Parku Naukowo Technologicznym bud III sala C /parter/ o godzinie 11:00. Zmagania półfinałowe trwać będą 60 minut. Uwadze półfinalistów poza standardową porcja wiedzy o Gdyni polecamy w sposób szczególny postaci komandorów\, wiedzę o Porcie Gdynia jako tegorocznym jubilacie oraz wiedzę zapisaną na kamienicach ulicy Świętojańskiej.
URL:https://sp26gdynia.pl/wydarzenie/konkurs-wiedzy-o-gdyni/
CATEGORIES:Ważne wydarzenia
END:VEVENT
BEGIN:VEVENT
DTSTART;TZID=Europe/Warsaw:20180223T080000
DTEND;TZID=Europe/Warsaw:20180223T170000
DTSTAMP:20260426T055332
CREATED:20180225T120924Z
LAST-MODIFIED:20180225T120924Z
UID:4480-1519372800-1519405200@sp26gdynia.pl
SUMMARY:Żywa lekcja muzyki - "Chińska łamigłówka" kl.0-3
DESCRIPTION:
URL:https://sp26gdynia.pl/wydarzenie/zywa-lekcja-muzyki-chinska-lamiglowka-kl-0-3/
CATEGORIES:Ważne wydarzenia
END:VEVENT
BEGIN:VEVENT
DTSTART;TZID=Europe/Warsaw:20180222T080000
DTEND;TZID=Europe/Warsaw:20180222T170000
DTSTAMP:20260426T055332
CREATED:20180225T120740Z
LAST-MODIFIED:20180225T120740Z
UID:4478-1519286400-1519318800@sp26gdynia.pl
SUMMARY:Zajęcia przyrodnicze: "Przystanek Bałtyk" kl.1a\, 2a
DESCRIPTION:
URL:https://sp26gdynia.pl/wydarzenie/zajecia-przyrodnicze-przystanek-baltyk-kl-1a-2a/
CATEGORIES:Ważne wydarzenia
END:VEVENT
BEGIN:VEVENT
DTSTART;VALUE=DATE:20180221
DTEND;VALUE=DATE:20180222
DTSTAMP:20260426T055332
CREATED:20180220T110938Z
LAST-MODIFIED:20180220T121716Z
UID:4355-1519171200-1519257599@sp26gdynia.pl
SUMMARY:Kl. 1 a na zajęciach plastycznych
DESCRIPTION:
URL:https://sp26gdynia.pl/wydarzenie/kl-1-a-zajeciach-plastycznych/
LOCATION:ul. Władysłąwa IV
CATEGORIES:Ważne wydarzenia
ATTACH;FMTTYPE=image/jpeg:https://sp26gdynia.pl/wp-content/uploads/2018/02/1a.jpeg
END:VEVENT
BEGIN:VEVENT
DTSTART;TZID=Europe/Warsaw:20180219T080000
DTEND;TZID=Europe/Warsaw:20180219T170000
DTSTAMP:20260426T055332
CREATED:20180219T200039Z
LAST-MODIFIED:20180220T074654Z
UID:4269-1519027200-1519059600@sp26gdynia.pl
SUMMARY:Teatr
DESCRIPTION:Klasy 0 – III w teatrze na przedstawieniu „Baltazar Gąbka”\, godz. 10:40
URL:https://sp26gdynia.pl/wydarzenie/teatr/
CATEGORIES:Ważne wydarzenia
END:VEVENT
BEGIN:VEVENT
DTSTART;VALUE=DATE:20180214
DTEND;VALUE=DATE:20180215
DTSTAMP:20260426T055332
CREATED:20180225T120456Z
LAST-MODIFIED:20180225T120554Z
UID:4476-1518566400-1518652799@sp26gdynia.pl
SUMMARY:Poczta Walentynkowa
DESCRIPTION:
URL:https://sp26gdynia.pl/wydarzenie/poczta-walentynkowa/
CATEGORIES:Ważne wydarzenia
END:VEVENT
END:VCALENDAR