BEGIN:VCALENDAR
VERSION:2.0
PRODID:-//Szkoła Podstawowa nr 26 w Gdyni - ECPv6.15.17//NONSGML v1.0//EN
CALSCALE:GREGORIAN
METHOD:PUBLISH
X-ORIGINAL-URL:https://sp26gdynia.pl
X-WR-CALDESC:Wydarzenia dla Szkoła Podstawowa nr 26 w Gdyni
REFRESH-INTERVAL;VALUE=DURATION:PT1H
X-Robots-Tag:noindex
X-PUBLISHED-TTL:PT1H
BEGIN:VTIMEZONE
TZID:Europe/Warsaw
BEGIN:DAYLIGHT
TZOFFSETFROM:+0100
TZOFFSETTO:+0200
TZNAME:CEST
DTSTART:20170326T010000
END:DAYLIGHT
BEGIN:STANDARD
TZOFFSETFROM:+0200
TZOFFSETTO:+0100
TZNAME:CET
DTSTART:20171029T010000
END:STANDARD
BEGIN:DAYLIGHT
TZOFFSETFROM:+0100
TZOFFSETTO:+0200
TZNAME:CEST
DTSTART:20180325T010000
END:DAYLIGHT
BEGIN:STANDARD
TZOFFSETFROM:+0200
TZOFFSETTO:+0100
TZNAME:CET
DTSTART:20181028T010000
END:STANDARD
BEGIN:DAYLIGHT
TZOFFSETFROM:+0100
TZOFFSETTO:+0200
TZNAME:CEST
DTSTART:20190331T010000
END:DAYLIGHT
BEGIN:STANDARD
TZOFFSETFROM:+0200
TZOFFSETTO:+0100
TZNAME:CET
DTSTART:20191027T010000
END:STANDARD
END:VTIMEZONE
BEGIN:VEVENT
DTSTART;VALUE=DATE:20180924
DTEND;VALUE=DATE:20180925
DTSTAMP:20260425T230255
CREATED:20180923T130058Z
LAST-MODIFIED:20180923T130733Z
UID:6741-1537747200-1537833599@sp26gdynia.pl
SUMMARY:Wyjście do kina klas 7\,8 SP oraz III Gim
DESCRIPTION:
URL:https://sp26gdynia.pl/wydarzenie/wyjscie-do-kina-klas-78-sp-oraz-iii-gim/
CATEGORIES:Ważne wydarzenia
ATTACH;FMTTYPE=image/jpeg:https://sp26gdynia.pl/wp-content/uploads/2018/09/kino.jpg
END:VEVENT
BEGIN:VEVENT
DTSTART;TZID=Europe/Warsaw:20180921T103000
DTEND;TZID=Europe/Warsaw:20180921T130000
DTSTAMP:20260425T230255
CREATED:20180919T082349Z
LAST-MODIFIED:20180919T082349Z
UID:6658-1537525800-1537534800@sp26gdynia.pl
SUMMARY:4 b na Festiwalu Polskich Filmów Fabularnych
DESCRIPTION:
URL:https://sp26gdynia.pl/wydarzenie/4-b-na-festiwalu-polskich-filmow-fabularnych/
CATEGORIES:Ważne wydarzenia
END:VEVENT
BEGIN:VEVENT
DTSTART;VALUE=DATE:20180921
DTEND;VALUE=DATE:20180922
DTSTAMP:20260425T230255
CREATED:20180916T195730Z
LAST-MODIFIED:20180916T195730Z
UID:6607-1537488000-1537574399@sp26gdynia.pl
SUMMARY:Sprzątanie świata
DESCRIPTION:
URL:https://sp26gdynia.pl/wydarzenie/sprzatanie-swiata-2/
CATEGORIES:Ważne wydarzenia
ATTACH;FMTTYPE=image/jpeg:https://sp26gdynia.pl/wp-content/uploads/2018/09/sprzątanie.jpg
END:VEVENT
BEGIN:VEVENT
DTSTART;TZID=Europe/Warsaw:20180920T090000
DTEND;TZID=Europe/Warsaw:20180920T123000
DTSTAMP:20260425T230255
CREATED:20180919T082225Z
LAST-MODIFIED:20180919T082225Z
UID:6656-1537434000-1537446600@sp26gdynia.pl
SUMMARY:Wyjście klasy 6 a i 6 b na Festiwal Polskich Filmów Fabularnych
DESCRIPTION:
URL:https://sp26gdynia.pl/wydarzenie/wyjscie-klasy-6-a-i-6-b-na-festiwal-polskich-filmow-fabularnych/
CATEGORIES:Ważne wydarzenia
END:VEVENT
BEGIN:VEVENT
DTSTART;TZID=Europe/Warsaw:20180919T170000
DTEND;TZID=Europe/Warsaw:20180919T183000
DTSTAMP:20260425T230255
CREATED:20180919T081947Z
LAST-MODIFIED:20180919T081947Z
UID:6654-1537376400-1537381800@sp26gdynia.pl
SUMMARY:Spotkanie Rady Rodziców na ul. Wolności
DESCRIPTION:
URL:https://sp26gdynia.pl/wydarzenie/spotkanie-rady-rodzicow-na-ul-wolnosci/
CATEGORIES:Ważne wydarzenia
END:VEVENT
BEGIN:VEVENT
DTSTART;TZID=Europe/Warsaw:20180919T080000
DTEND;TZID=Europe/Warsaw:20180919T170000
DTSTAMP:20260425T230255
CREATED:20180919T081812Z
LAST-MODIFIED:20180919T081812Z
UID:6652-1537344000-1537376400@sp26gdynia.pl
SUMMARY:4 a w Teatrze Szekspirowskim
DESCRIPTION:
URL:https://sp26gdynia.pl/wydarzenie/4-a-w-teatrze-szekspirowskim/
CATEGORIES:Ważne wydarzenia
END:VEVENT
BEGIN:VEVENT
DTSTART;VALUE=DATE:20180919
DTEND;VALUE=DATE:20180920
DTSTAMP:20260425T230255
CREATED:20180919T081651Z
LAST-MODIFIED:20180919T081651Z
UID:6650-1537315200-1537401599@sp26gdynia.pl
SUMMARY:5 b w Muzeum II Wojny Światowej
DESCRIPTION:
URL:https://sp26gdynia.pl/wydarzenie/5-b-w-muzeum-ii-wojny-swiatowej/
CATEGORIES:Ważne wydarzenia
END:VEVENT
BEGIN:VEVENT
DTSTART;VALUE=DATE:20180918
DTEND;VALUE=DATE:20180919
DTSTAMP:20260425T230255
CREATED:20180919T080208Z
LAST-MODIFIED:20180919T080208Z
UID:6648-1537228800-1537315199@sp26gdynia.pl
SUMMARY:0a\, 1a\, 1b w kinie na animacjach
DESCRIPTION:
URL:https://sp26gdynia.pl/wydarzenie/0a-1a-1b-w-kinie-na-animacjach/
CATEGORIES:Ważne wydarzenia
END:VEVENT
BEGIN:VEVENT
DTSTART;VALUE=DATE:20180918
DTEND;VALUE=DATE:20180919
DTSTAMP:20260425T230255
CREATED:20180919T064529Z
LAST-MODIFIED:20180919T065504Z
UID:6640-1537228800-1537315199@sp26gdynia.pl
SUMMARY:0a\, 1 a\, 1 b - wyjście na FPFF "Gdynia dzieciom"
DESCRIPTION:
URL:https://sp26gdynia.pl/wydarzenie/0a-1-a-1-b-wyjscie-na-fpff-gdynia-dzieciom/
ATTACH;FMTTYPE=image/gif:https://sp26gdynia.pl/wp-content/uploads/2018/09/przedszkole1.gif
END:VEVENT
BEGIN:VEVENT
DTSTART;VALUE=DATE:20180913
DTEND;VALUE=DATE:20180915
DTSTAMP:20260425T230255
CREATED:20180916T183903Z
LAST-MODIFIED:20180916T185907Z
UID:6594-1536796800-1536969599@sp26gdynia.pl
SUMMARY:Wycieczka Łapino klasy 8 a\, 8 b oraz III A
DESCRIPTION:
URL:https://sp26gdynia.pl/wydarzenie/wycieczka-lapino-klasy-8-a-8-b-oraz-iii-a/
CATEGORIES:Ważne wydarzenia
ATTACH;FMTTYPE=image/jpeg:https://sp26gdynia.pl/wp-content/uploads/2018/09/wycieczka.jpg
END:VEVENT
BEGIN:VEVENT
DTSTART;VALUE=DATE:20180913
DTEND;VALUE=DATE:20180914
DTSTAMP:20260425T230255
CREATED:20180916T195446Z
LAST-MODIFIED:20180916T195446Z
UID:6605-1536796800-1536883199@sp26gdynia.pl
SUMMARY:Zebrania z rodzicami
DESCRIPTION:
URL:https://sp26gdynia.pl/wydarzenie/zebrania-z-rodzicami-4/
CATEGORIES:Ważne wydarzenia
ATTACH;FMTTYPE=image/jpeg:https://sp26gdynia.pl/wp-content/uploads/2018/09/zebranie-z-rodzicami.jpg
END:VEVENT
BEGIN:VEVENT
DTSTART;VALUE=DATE:20180912
DTEND;VALUE=DATE:20180913
DTSTAMP:20260425T230255
CREATED:20180916T195242Z
LAST-MODIFIED:20180916T195322Z
UID:6601-1536710400-1536796799@sp26gdynia.pl
SUMMARY:Zebrania z rodzicami uczniów klas 8 a\, 8b\, III A
DESCRIPTION:W dniu 12.09.2018 roku o godz. 17 odbędzie się zebranie z rodzicami klas 8 a\, 8 b oraz III A (zebrania odbywają się dla tych klas wyjątkowo ze względu na wyjazd klas na wycieczkę szkolną). \n 
URL:https://sp26gdynia.pl/wydarzenie/zebrania-z-rodzicami-klas-8-a-8b-iii-a/
CATEGORIES:Ważne wydarzenia
ATTACH;FMTTYPE=image/jpeg:https://sp26gdynia.pl/wp-content/uploads/2018/09/zebranie-z-rodzicami.jpg
END:VEVENT
BEGIN:VEVENT
DTSTART;VALUE=DATE:20180906
DTEND;VALUE=DATE:20180907
DTSTAMP:20260425T230255
CREATED:20180916T200402Z
LAST-MODIFIED:20180916T200402Z
UID:6613-1536192000-1536278399@sp26gdynia.pl
SUMMARY:Wyjście na pokład niszczyciela
DESCRIPTION:
URL:https://sp26gdynia.pl/wydarzenie/wyjscie-na-poklad-niszczyciela/
CATEGORIES:Ważne wydarzenia
ATTACH;FMTTYPE=image/jpeg:https://sp26gdynia.pl/wp-content/uploads/2018/09/images-1.jpg
END:VEVENT
BEGIN:VEVENT
DTSTART;VALUE=DATE:20180903
DTEND;VALUE=DATE:20180904
DTSTAMP:20260425T230255
CREATED:20180916T194444Z
LAST-MODIFIED:20180916T194444Z
UID:6598-1535932800-1536019199@sp26gdynia.pl
SUMMARY:Rozpoczęcie roku szkolnego 2018/2019
DESCRIPTION:
URL:https://sp26gdynia.pl/wydarzenie/rozpoczecie-roku-szkolnego-2018-2019/
CATEGORIES:Ważne wydarzenia
ATTACH;FMTTYPE=image/jpeg:https://sp26gdynia.pl/wp-content/uploads/2018/09/witaj_szkolo-2.jpg
END:VEVENT
BEGIN:VEVENT
DTSTART;VALUE=DATE:20180622
DTEND;VALUE=DATE:20180623
DTSTAMP:20260425T230255
CREATED:20180219T224731Z
LAST-MODIFIED:20180301T090941Z
UID:4340-1529625600-1529711999@sp26gdynia.pl
SUMMARY:Zakończenie roku szkolnego
DESCRIPTION:
URL:https://sp26gdynia.pl/wydarzenie/zakonczenie-roku-szkolnego/
CATEGORIES:Ważne wydarzenia
ATTACH;FMTTYPE=image/jpeg:https://sp26gdynia.pl/wp-content/uploads/2018/02/wakacje.jpg
END:VEVENT
BEGIN:VEVENT
DTSTART;VALUE=DATE:20180615
DTEND;VALUE=DATE:20180616
DTSTAMP:20260425T230255
CREATED:20180219T211812Z
LAST-MODIFIED:20180301T090951Z
UID:4325-1529020800-1529107199@sp26gdynia.pl
SUMMARY:Ostateczny termin wystawiana ocen końcowych
DESCRIPTION:
URL:https://sp26gdynia.pl/wydarzenie/ostateczny-termin-wystawiana-ocen-koncowych/
CATEGORIES:Ważne wydarzenia
END:VEVENT
BEGIN:VEVENT
DTSTART;VALUE=DATE:20180609
DTEND;VALUE=DATE:20180610
DTSTAMP:20260425T230255
CREATED:20180604T074130Z
LAST-MODIFIED:20180604T074130Z
UID:6118-1528502400-1528588799@sp26gdynia.pl
SUMMARY:Festyn Rodzinny
DESCRIPTION:
URL:https://sp26gdynia.pl/wydarzenie/festyn-rodzinny-2/
ATTACH;FMTTYPE=image/jpeg:https://sp26gdynia.pl/wp-content/uploads/2018/06/obrazek-e1528098070735.jpg
END:VEVENT
BEGIN:VEVENT
DTSTART;VALUE=DATE:20180608
DTEND;VALUE=DATE:20180609
DTSTAMP:20260425T230255
CREATED:20180219T211950Z
LAST-MODIFIED:20180301T090958Z
UID:4327-1528416000-1528502399@sp26gdynia.pl
SUMMARY:Bal gimnazjalny klas III
DESCRIPTION:
URL:https://sp26gdynia.pl/wydarzenie/bal-gimnazjalny-klas-iii/
CATEGORIES:Ważne wydarzenia
END:VEVENT
BEGIN:VEVENT
DTSTART;VALUE=DATE:20180601
DTEND;VALUE=DATE:20180602
DTSTAMP:20260425T230255
CREATED:20180219T211537Z
LAST-MODIFIED:20180301T091007Z
UID:4322-1527811200-1527897599@sp26gdynia.pl
SUMMARY:Dzień Dziecka
DESCRIPTION:Dzień wolny od zajęć dydaktyczno- wychowawczych
URL:https://sp26gdynia.pl/wydarzenie/dzien-dziecka/
CATEGORIES:Ważne wydarzenia
ATTACH;FMTTYPE=image/jpeg:https://sp26gdynia.pl/wp-content/uploads/2018/02/dzień-dziecka.jpg
END:VEVENT
BEGIN:VEVENT
DTSTART;VALUE=DATE:20180531
DTEND;VALUE=DATE:20180601
DTSTAMP:20260425T230255
CREATED:20180219T211323Z
LAST-MODIFIED:20180301T091015Z
UID:4320-1527724800-1527811199@sp26gdynia.pl
SUMMARY:Boże Ciało
DESCRIPTION:
URL:https://sp26gdynia.pl/wydarzenie/boze-cialo/
CATEGORIES:Ważne wydarzenia
END:VEVENT
BEGIN:VEVENT
DTSTART;VALUE=DATE:20180515
DTEND;VALUE=DATE:20180516
DTSTAMP:20260425T230255
CREATED:20180219T211235Z
LAST-MODIFIED:20180301T091021Z
UID:4318-1526342400-1526428799@sp26gdynia.pl
SUMMARY:wystawienie przewidywanych ocen końcoworocznych
DESCRIPTION:
URL:https://sp26gdynia.pl/wydarzenie/wystawienie-przewidywanych-ocen-koncoworocznych/
CATEGORIES:Ważne wydarzenia
END:VEVENT
BEGIN:VEVENT
DTSTART;TZID=Europe/Warsaw:20180506T080000
DTEND;TZID=Europe/Warsaw:20180511T170000
DTSTAMP:20260425T230255
CREATED:20180509T102421Z
LAST-MODIFIED:20180509T102421Z
UID:5704-1525593600-1526058000@sp26gdynia.pl
SUMMARY:Wycieczka do Wrocławia
DESCRIPTION:
URL:https://sp26gdynia.pl/wydarzenie/wycieczka-do-wroclawia/
CATEGORIES:Ważne wydarzenia
END:VEVENT
BEGIN:VEVENT
DTSTART;VALUE=DATE:20180503
DTEND;VALUE=DATE:20180504
DTSTAMP:20260425T230255
CREATED:20180219T210911Z
LAST-MODIFIED:20180301T090811Z
UID:4311-1525305600-1525391999@sp26gdynia.pl
SUMMARY:Święto Konstytucji 3 Maja
DESCRIPTION:
URL:https://sp26gdynia.pl/wydarzenie/swieto-konstytucji-3-maja/
CATEGORIES:Ważne wydarzenia
ATTACH;FMTTYPE=image/jpeg:https://sp26gdynia.pl/wp-content/uploads/2018/02/3-maj.jpg
END:VEVENT
BEGIN:VEVENT
DTSTART;VALUE=DATE:20180501
DTEND;VALUE=DATE:20180502
DTSTAMP:20260425T230255
CREATED:20180219T210702Z
LAST-MODIFIED:20180301T090850Z
UID:4308-1525132800-1525219199@sp26gdynia.pl
SUMMARY:Międzynarodowe Święto Pracy
DESCRIPTION:
URL:https://sp26gdynia.pl/wydarzenie/miedzynarodowe-swieto-pracy/
CATEGORIES:Ważne wydarzenia
ATTACH;FMTTYPE=image/jpeg:https://sp26gdynia.pl/wp-content/uploads/2018/02/1-maja.jpg
END:VEVENT
BEGIN:VEVENT
DTSTART;VALUE=DATE:20180430
DTEND;VALUE=DATE:20180505
DTSTAMP:20260425T230255
CREATED:20180219T211131Z
LAST-MODIFIED:20180301T090842Z
UID:4316-1525046400-1525478399@sp26gdynia.pl
SUMMARY:Dni wolne od zajęć dydaktyczno- wychowawczych
DESCRIPTION:
URL:https://sp26gdynia.pl/wydarzenie/dni-wolne-zajec-dydaktyczno-wychowawczych/
CATEGORIES:Ważne wydarzenia
END:VEVENT
BEGIN:VEVENT
DTSTART;VALUE=DATE:20180426
DTEND;VALUE=DATE:20180427
DTSTAMP:20260425T230255
CREATED:20180219T211033Z
LAST-MODIFIED:20180301T090903Z
UID:4314-1524700800-1524787199@sp26gdynia.pl
SUMMARY:uroczystość z okazji 25 – lecia nadania szkole imienia Żołnierzy Armii Krajowej
DESCRIPTION:
URL:https://sp26gdynia.pl/wydarzenie/uroczystosc-okazji-25-lecia-nadania-szkole-imienia-zolnierzy-armii-krajowej/
CATEGORIES:Ważne wydarzenia
END:VEVENT
BEGIN:VEVENT
DTSTART;VALUE=DATE:20180419
DTEND;VALUE=DATE:20180420
DTSTAMP:20260425T230255
CREATED:20180301T092528Z
LAST-MODIFIED:20180301T092528Z
UID:4721-1524096000-1524182399@sp26gdynia.pl
SUMMARY:Wzbij się na wyżyny
DESCRIPTION:Urząd Miasta Gdyni oraz firma Inter_Edu  są organizatorami warsztatów naukowych połączonych  z wystawami interaktywnymi pn. „Wzbij się na wyżyny” w ramach projektów „Małe skrzydła\, wysokie loty – program kompleksowego wsparcia szkół podstawowych w Gdyni” .
URL:https://sp26gdynia.pl/wydarzenie/wzbij-sie-wyzyny-2/
CATEGORIES:Ważne wydarzenia
ATTACH;FMTTYPE=image/jpeg:https://sp26gdynia.pl/wp-content/uploads/2018/03/wzbij.jpg
END:VEVENT
BEGIN:VEVENT
DTSTART;VALUE=DATE:20180418
DTEND;VALUE=DATE:20180421
DTSTAMP:20260425T230255
CREATED:20180219T210252Z
LAST-MODIFIED:20180301T090912Z
UID:4305-1524009600-1524268799@sp26gdynia.pl
SUMMARY:Egzaminy gimnazjalne klas III Gim
DESCRIPTION:Dni wolne od zajęć dydaktyczno-wychowawczych dla wszystkich uczniów klas II Gim  i klas IV-VII SP
URL:https://sp26gdynia.pl/wydarzenie/egzaminy-gimnazjalne-klas-iii-gim/
CATEGORIES:Ważne wydarzenia
ATTACH;FMTTYPE=image/jpeg:https://sp26gdynia.pl/wp-content/uploads/2018/02/egzamin.jpg
END:VEVENT
BEGIN:VEVENT
DTSTART;VALUE=DATE:20180412
DTEND;VALUE=DATE:20180414
DTSTAMP:20260425T230255
CREATED:20180227T115238Z
LAST-MODIFIED:20180227T115238Z
UID:4599-1523491200-1523663999@sp26gdynia.pl
SUMMARY:Wychowanie Komunikacyjne
DESCRIPTION:Metropolitalny Związek Komunikacyjny Zatoki Gdańskiej z woli i pod patronatem Prezydenta Miasta Gdyni realizuje bezpłatny program „Wychowanie Komunikacyjne”\, który jest skierowany do wszystkich uczniów klas czwartych i piątych szkół podstawowych na terenie Trójmiasta i gmin wchodzących w skład związku.
URL:https://sp26gdynia.pl/wydarzenie/wychowanie-komunikacyjne/
CATEGORIES:Ważne wydarzenia
END:VEVENT
BEGIN:VEVENT
DTSTART;VALUE=DATE:20180412
DTEND;VALUE=DATE:20180413
DTSTAMP:20260425T230255
CREATED:20180219T205927Z
LAST-MODIFIED:20180301T090920Z
UID:4302-1523491200-1523577599@sp26gdynia.pl
SUMMARY:Zebrania z rodzicami
DESCRIPTION:
URL:https://sp26gdynia.pl/wydarzenie/zebrania-z-rodzicami-3/
CATEGORIES:Ważne wydarzenia
ATTACH;FMTTYPE=image/jpeg:https://sp26gdynia.pl/wp-content/uploads/2018/02/zebrania-z-rodzicami.jpg
END:VEVENT
END:VCALENDAR