BEGIN:VCALENDAR
VERSION:2.0
PRODID:-//Szkoła Podstawowa nr 26 w Gdyni - ECPv6.15.17//NONSGML v1.0//EN
CALSCALE:GREGORIAN
METHOD:PUBLISH
X-WR-CALNAME:Szkoła Podstawowa nr 26 w Gdyni
X-ORIGINAL-URL:https://sp26gdynia.pl
X-WR-CALDESC:Wydarzenia dla Szkoła Podstawowa nr 26 w Gdyni
REFRESH-INTERVAL;VALUE=DURATION:PT1H
X-Robots-Tag:noindex
X-PUBLISHED-TTL:PT1H
BEGIN:VTIMEZONE
TZID:Europe/Warsaw
BEGIN:DAYLIGHT
TZOFFSETFROM:+0100
TZOFFSETTO:+0200
TZNAME:CEST
DTSTART:20170326T010000
END:DAYLIGHT
BEGIN:STANDARD
TZOFFSETFROM:+0200
TZOFFSETTO:+0100
TZNAME:CET
DTSTART:20171029T010000
END:STANDARD
BEGIN:DAYLIGHT
TZOFFSETFROM:+0100
TZOFFSETTO:+0200
TZNAME:CEST
DTSTART:20180325T010000
END:DAYLIGHT
BEGIN:STANDARD
TZOFFSETFROM:+0200
TZOFFSETTO:+0100
TZNAME:CET
DTSTART:20181028T010000
END:STANDARD
BEGIN:DAYLIGHT
TZOFFSETFROM:+0100
TZOFFSETTO:+0200
TZNAME:CEST
DTSTART:20190331T010000
END:DAYLIGHT
BEGIN:STANDARD
TZOFFSETFROM:+0200
TZOFFSETTO:+0100
TZNAME:CET
DTSTART:20191027T010000
END:STANDARD
END:VTIMEZONE
BEGIN:VEVENT
DTSTART;TZID=Europe/Warsaw:20181130T100000
DTEND;TZID=Europe/Warsaw:20181130T123000
DTSTAMP:20260425T162131
CREATED:20181129T094801Z
LAST-MODIFIED:20181129T094807Z
UID:8439-1543572000-1543581000@sp26gdynia.pl
SUMMARY:6a na warsztatach historycznych
DESCRIPTION:
URL:https://sp26gdynia.pl/wydarzenie/6a-na-warsztatach-historycznych/
CATEGORIES:Ważne wydarzenia
END:VEVENT
BEGIN:VEVENT
DTSTART;TZID=Europe/Warsaw:20181130T080000
DTEND;TZID=Europe/Warsaw:20181130T140000
DTSTAMP:20260425T162131
CREATED:20181130T201615Z
LAST-MODIFIED:20181130T201615Z
UID:8542-1543564800-1543586400@sp26gdynia.pl
SUMMARY:Wróżby andrzejkowe w bibliotece
DESCRIPTION:
URL:https://sp26gdynia.pl/wydarzenie/wrozby-andrzejkowe-w-bibliotece/
END:VEVENT
BEGIN:VEVENT
DTSTART;TZID=Europe/Warsaw:20181129T160000
DTEND;TZID=Europe/Warsaw:20181129T183000
DTSTAMP:20260425T162131
CREATED:20181115T084652Z
LAST-MODIFIED:20181115T085100Z
UID:8102-1543507200-1543516200@sp26gdynia.pl
SUMMARY:Dyskoteka Andrzejkowa dla uczniów klas 4-6
DESCRIPTION:Dyskoteka Andrzejkowa dla uczniów klas 4-6\, godz. 16:00 – 18:30. Wymagane zgody na udział i samodzielny powrót/ lub deklaracja odbioru.
URL:https://sp26gdynia.pl/wydarzenie/dyskoteka-andrzejkowa-dla-uczniow-klas-4-6/
LOCATION:Tatrzańska 40
CATEGORIES:Ważne wydarzenia
END:VEVENT
BEGIN:VEVENT
DTSTART;TZID=Europe/Warsaw:20181129T085500
DTEND;TZID=Europe/Warsaw:20181129T094000
DTSTAMP:20260425T162131
CREATED:20181123T072442Z
LAST-MODIFIED:20181123T072500Z
UID:8290-1543481700-1543484400@sp26gdynia.pl
SUMMARY:VI Wojewódzki Konkurs Ortograficzny dla klas 3 (szkoła podstawowa)\, sala 22
DESCRIPTION:
URL:https://sp26gdynia.pl/wydarzenie/vi-wojewodzki-konkurs-ortograficzny-dla-klas-3-szkola-podstawowa/
CATEGORIES:Ważne wydarzenia
END:VEVENT
BEGIN:VEVENT
DTSTART;TZID=Europe/Warsaw:20181126T080000
DTEND;TZID=Europe/Warsaw:20181126T170000
DTSTAMP:20260425T162131
CREATED:20181109T193053Z
LAST-MODIFIED:20181109T193200Z
UID:7938-1543219200-1543251600@sp26gdynia.pl
SUMMARY:Dzień Pluszowego Misia w świetlicy
DESCRIPTION:
URL:https://sp26gdynia.pl/wydarzenie/dzien-pluszowego-misia-w-swietlicy/
CATEGORIES:Ważne wydarzenia
END:VEVENT
BEGIN:VEVENT
DTSTART;TZID=Europe/Warsaw:20181126T080000
DTEND;TZID=Europe/Warsaw:20181126T140000
DTSTAMP:20260425T162131
CREATED:20181115T083932Z
LAST-MODIFIED:20181115T084047Z
UID:8097-1543219200-1543240800@sp26gdynia.pl
SUMMARY:Dzień Pluszowego Misia w bibliotece
DESCRIPTION:
URL:https://sp26gdynia.pl/wydarzenie/dzien-pluszowego-misia-w-bibliotece/
END:VEVENT
BEGIN:VEVENT
DTSTART;VALUE=DATE:20181126
DTEND;VALUE=DATE:20181127
DTSTAMP:20260425T162131
CREATED:20181120T102728Z
LAST-MODIFIED:20181120T102728Z
UID:8195-1543190400-1543276799@sp26gdynia.pl
SUMMARY:Dzień Pluszowego Misia oraz Dzień Piżamowy
DESCRIPTION:W tym dniu można przyjść do szkoły w piżamie i przynieść ulubioną maskotkę.
URL:https://sp26gdynia.pl/wydarzenie/dzien-pluszowego-misia-oraz-dzien-pizamowy/
LOCATION:Tatrzańska 40
CATEGORIES:Ważne wydarzenia
END:VEVENT
BEGIN:VEVENT
DTSTART;TZID=Europe/Warsaw:20181123T080000
DTEND;TZID=Europe/Warsaw:20181123T123000
DTSTAMP:20260425T162131
CREATED:20181123T074205Z
LAST-MODIFIED:20181123T074205Z
UID:8311-1542960000-1542976200@sp26gdynia.pl
SUMMARY:Zajęcia z harcerzami
DESCRIPTION:
URL:https://sp26gdynia.pl/wydarzenie/zajecia-z-harcerzami/
CATEGORIES:Ważne wydarzenia
END:VEVENT
BEGIN:VEVENT
DTSTART;TZID=Europe/Warsaw:20181122T140000
DTEND;TZID=Europe/Warsaw:20181122T150000
DTSTAMP:20260425T162131
CREATED:20181107T092909Z
LAST-MODIFIED:20181107T093023Z
UID:7841-1542895200-1542898800@sp26gdynia.pl
SUMMARY:Konkurs kuratoryjny z informatyki dla klas 4 - 8
DESCRIPTION:
URL:https://sp26gdynia.pl/wydarzenie/konkurs-kuratoryjny-z-matematyki-dla-klas-4-8/
CATEGORIES:Ważne wydarzenia
END:VEVENT
BEGIN:VEVENT
DTSTART;TZID=Europe/Warsaw:20181121T140000
DTEND;TZID=Europe/Warsaw:20181121T150000
DTSTAMP:20260425T162131
CREATED:20181107T090346Z
LAST-MODIFIED:20181107T090354Z
UID:7837-1542808800-1542812400@sp26gdynia.pl
SUMMARY:Konkurs kuratoryjny z języka niemieckiego dla klas 7 i 8
DESCRIPTION:
URL:https://sp26gdynia.pl/wydarzenie/konkurs-kuratoryjny-z-jezyka-niemieckiego-dla-klas-7-i-8/
CATEGORIES:Ważne wydarzenia
END:VEVENT
BEGIN:VEVENT
DTSTART;TZID=Europe/Warsaw:20181116T140000
DTEND;TZID=Europe/Warsaw:20181116T170000
DTSTAMP:20260425T162131
CREATED:20181113T173715Z
LAST-MODIFIED:20181113T173715Z
UID:8032-1542376800-1542387600@sp26gdynia.pl
SUMMARY:Jesienna Olimpiada Sportowa w świetlicy
DESCRIPTION:
URL:https://sp26gdynia.pl/wydarzenie/jesienna-olimpiada-sportowa-w-swietlicy/
CATEGORIES:Ważne wydarzenia
END:VEVENT
BEGIN:VEVENT
DTSTART;TZID=Europe/Warsaw:20181116T140000
DTEND;TZID=Europe/Warsaw:20181116T150000
DTSTAMP:20260425T162131
CREATED:20181107T090207Z
LAST-MODIFIED:20181107T090213Z
UID:7835-1542376800-1542380400@sp26gdynia.pl
SUMMARY:Konkurs kuratoryjny z języka angielskiego dla klas 4 - 8
DESCRIPTION:
URL:https://sp26gdynia.pl/wydarzenie/konkurs-kuratoryjny-z-jezyka-angielskiego-dla-klas-4-8-2/
CATEGORIES:Ważne wydarzenia
END:VEVENT
BEGIN:VEVENT
DTSTART;TZID=Europe/Warsaw:20181116T080000
DTEND;TZID=Europe/Warsaw:20181116T090000
DTSTAMP:20260425T162131
CREATED:20181115T084217Z
LAST-MODIFIED:20181115T084217Z
UID:8096-1542355200-1542358800@sp26gdynia.pl
SUMMARY:Konkurs Matematyczny dla klas IV
DESCRIPTION:Etap szkolny Konkursu Matematycznego dla uczniów klas czwartych odbędzie się w sali 11\, o godzinie 8:00.
URL:https://sp26gdynia.pl/wydarzenie/konkurs-matematyczny-dla-klas-iv/
LOCATION:Tatrzańska 40
CATEGORIES:Ważne wydarzenia
END:VEVENT
BEGIN:VEVENT
DTSTART;TZID=Europe/Warsaw:20181115T140000
DTEND;TZID=Europe/Warsaw:20181115T150000
DTSTAMP:20260425T162131
CREATED:20181107T090517Z
LAST-MODIFIED:20181107T090522Z
UID:7839-1542290400-1542294000@sp26gdynia.pl
SUMMARY:Konkurs kuratoryjny z chemii dla klas 7 i 8
DESCRIPTION:
URL:https://sp26gdynia.pl/wydarzenie/konkurs-kuratoryjny-z-chemii-dla-klas-7-i-8/
CATEGORIES:Ważne wydarzenia
END:VEVENT
BEGIN:VEVENT
DTSTART;TZID=Europe/Warsaw:20181114T140000
DTEND;TZID=Europe/Warsaw:20181114T150000
DTSTAMP:20260425T162131
CREATED:20181107T093254Z
LAST-MODIFIED:20181107T093300Z
UID:7845-1542204000-1542207600@sp26gdynia.pl
SUMMARY:Konkurs kuratoryjny z matematyki dla klas 4 - 8
DESCRIPTION:
URL:https://sp26gdynia.pl/wydarzenie/konkurs-kuratoryjny-z-matematyki-dla-klas-4-8-2/
CATEGORIES:Ważne wydarzenia
END:VEVENT
BEGIN:VEVENT
DTSTART;VALUE=DATE:20181113
DTEND;VALUE=DATE:20181114
DTSTAMP:20260425T162131
CREATED:20181107T085524Z
LAST-MODIFIED:20181107T085611Z
UID:7828-1542067200-1542153599@sp26gdynia.pl
SUMMARY:Warsztaty czytelnicze dla klas 4a\, 4b i klas młodszych
DESCRIPTION:
URL:https://sp26gdynia.pl/wydarzenie/warsztaty-czytelnicze-dla-klas-4a-4b-i-klas-mlodszych/
CATEGORIES:Ważne wydarzenia
END:VEVENT
BEGIN:VEVENT
DTSTART;TZID=Europe/Warsaw:20181111T110000
DTEND;TZID=Europe/Warsaw:20181111T180000
DTSTAMP:20260425T162131
CREATED:20181109T193436Z
LAST-MODIFIED:20181109T193436Z
UID:7940-1541934000-1541959200@sp26gdynia.pl
SUMMARY:Gdyńska Parada Niepodległości 2018
DESCRIPTION:
URL:https://sp26gdynia.pl/wydarzenie/gdynska-parada-niepodleglosci-2018/
CATEGORIES:Ważne wydarzenia
END:VEVENT
BEGIN:VEVENT
DTSTART;TZID=Europe/Warsaw:20181109T140000
DTEND;TZID=Europe/Warsaw:20181109T150000
DTSTAMP:20260425T162131
CREATED:20181107T085728Z
LAST-MODIFIED:20181107T085734Z
UID:7830-1541772000-1541775600@sp26gdynia.pl
SUMMARY:Konkurs kuratoryjny z biologii dla klas 4 - 8
DESCRIPTION:
URL:https://sp26gdynia.pl/wydarzenie/konkurs-kuratoryjny-z-biologii-dla-klas-4-8/
END:VEVENT
BEGIN:VEVENT
DTSTART;VALUE=DATE:20181109
DTEND;VALUE=DATE:20181110
DTSTAMP:20260425T162131
CREATED:20181016T182151Z
LAST-MODIFIED:20181016T182158Z
UID:7254-1541721600-1541807999@sp26gdynia.pl
SUMMARY:Dzień dla Niepodległej - wspólne śpiewanie hymnu narodowego
DESCRIPTION:
URL:https://sp26gdynia.pl/wydarzenie/dzien-dla-niepodleglej-wspolne-spiewanie-hymnu-narodowego/
CATEGORIES:Ważne wydarzenia
END:VEVENT
BEGIN:VEVENT
DTSTART;TZID=Europe/Warsaw:20181108T143000
DTEND;TZID=Europe/Warsaw:20181108T153000
DTSTAMP:20260425T162131
CREATED:20181031T192601Z
LAST-MODIFIED:20181031T192601Z
UID:7696-1541687400-1541691000@sp26gdynia.pl
SUMMARY:Wizyta dietetyka w świetlicy
DESCRIPTION:
URL:https://sp26gdynia.pl/wydarzenie/wizyta-dietetyka-w-swietlicy/
CATEGORIES:Ważne wydarzenia
END:VEVENT
BEGIN:VEVENT
DTSTART;TZID=Europe/Warsaw:20181108T140000
DTEND;TZID=Europe/Warsaw:20181108T150000
DTSTAMP:20260425T162131
CREATED:20181107T085851Z
LAST-MODIFIED:20181107T085956Z
UID:7832-1541685600-1541689200@sp26gdynia.pl
SUMMARY:Konkurs kuratoryjny z fizyki dla klas 7 i 8
DESCRIPTION:
URL:https://sp26gdynia.pl/wydarzenie/konkurs-kuratoryjny-z-jezyka-angielskiego-dla-klas-4-8/
END:VEVENT
BEGIN:VEVENT
DTSTART;TZID=Europe/Warsaw:20181108T090000
DTEND;TZID=Europe/Warsaw:20181108T123000
DTSTAMP:20260425T162131
CREATED:20181016T181636Z
LAST-MODIFIED:20181016T181642Z
UID:7250-1541667600-1541680200@sp26gdynia.pl
SUMMARY:XII Miejski Konkurs Piosenki i Poezji  Patriotycznej
DESCRIPTION:
URL:https://sp26gdynia.pl/wydarzenie/xii-miejski-konkurs-piosenki-i-poezji-patriotycznej-2/
CATEGORIES:Ważne wydarzenia
END:VEVENT
BEGIN:VEVENT
DTSTART;VALUE=DATE:20181106
DTEND;VALUE=DATE:20181107
DTSTAMP:20260425T162131
CREATED:20181104T195455Z
LAST-MODIFIED:20181104T200202Z
UID:7743-1541462400-1541548799@sp26gdynia.pl
SUMMARY:Szkolne eliminacje do Konkursu Piosenki i Poezji Patriotycznej\, klasy młodsze
DESCRIPTION:
URL:https://sp26gdynia.pl/wydarzenie/szkolne-eliminacje-do-konkursu-piosenki-i-poezji-patriotycznej-klasy-mlodsze/
CATEGORIES:Ważne wydarzenia
END:VEVENT
BEGIN:VEVENT
DTSTART;VALUE=DATE:20181105
DTEND;VALUE=DATE:20181106
DTSTAMP:20260425T162131
CREATED:20181016T181502Z
LAST-MODIFIED:20181104T195406Z
UID:7248-1541376000-1541462399@sp26gdynia.pl
SUMMARY:Szkolne eliminacje do Konkursu Piosenki i Poezji Patriotycznej\, klasy 4 - 6
DESCRIPTION:
URL:https://sp26gdynia.pl/wydarzenie/szkolne-eliminacje-do-konkursu-piosenki-i-poezji-patriotycznej/
CATEGORIES:Ważne wydarzenia
END:VEVENT
BEGIN:VEVENT
DTSTART;TZID=Europe/Warsaw:20181030T170000
DTEND;TZID=Europe/Warsaw:20181030T193000
DTSTAMP:20260425T162131
CREATED:20180916T201126Z
LAST-MODIFIED:20181025T122634Z
UID:6618-1540918800-1540927800@sp26gdynia.pl
SUMMARY:Wieczór horrorów
DESCRIPTION:w budynku przy ul. Wolności 25
URL:https://sp26gdynia.pl/wydarzenie/wieczor-horrorow/
CATEGORIES:Ważne wydarzenia
END:VEVENT
BEGIN:VEVENT
DTSTART;TZID=Europe/Warsaw:20181025T123000
DTEND;TZID=Europe/Warsaw:20181025T133000
DTSTAMP:20260425T162131
CREATED:20181019T112746Z
LAST-MODIFIED:20181019T112753Z
UID:7429-1540470600-1540474200@sp26gdynia.pl
SUMMARY:Trening uczniów klasy 3 a i 4 c ze szczypiornistami Arki Gdynia
DESCRIPTION:
URL:https://sp26gdynia.pl/wydarzenie/trening-uczniow-klasy-3-a-i-4-c-ze-szczypiornistami-arki-gdynia/
CATEGORIES:Ważne wydarzenia
END:VEVENT
BEGIN:VEVENT
DTSTART;TZID=Europe/Warsaw:20181024T103000
DTEND;TZID=Europe/Warsaw:20181024T113000
DTSTAMP:20260425T162131
CREATED:20181016T181221Z
LAST-MODIFIED:20181016T181221Z
UID:7246-1540377000-1540380600@sp26gdynia.pl
SUMMARY:Lekcja muzyki "Mam tę moc" dla klas 0 - 3
DESCRIPTION:
URL:https://sp26gdynia.pl/wydarzenie/lekcja-muzyki-mam-te-moc-dla-klas-0-3/
CATEGORIES:Ważne wydarzenia
END:VEVENT
BEGIN:VEVENT
DTSTART;TZID=Europe/Warsaw:20181022T100000
DTEND;TZID=Europe/Warsaw:20181022T140000
DTSTAMP:20260425T162131
CREATED:20181015T122250Z
LAST-MODIFIED:20181015T122250Z
UID:7203-1540202400-1540216800@sp26gdynia.pl
SUMMARY:"Świat legend" - wyjście na przedstawienie (klasy 5 a\, 5 b\, 5 c\, 4 c)
DESCRIPTION:
URL:https://sp26gdynia.pl/wydarzenie/swiat-legend-wyjscie-na-przedstawienie-klasy-5-a-5-b-5-c-4-c/
CATEGORIES:Ważne wydarzenia
END:VEVENT
BEGIN:VEVENT
DTSTART;TZID=Europe/Warsaw:20181020T093000
DTEND;TZID=Europe/Warsaw:20181020T140000
DTSTAMP:20260425T162131
CREATED:20181015T121607Z
LAST-MODIFIED:20181015T121701Z
UID:7199-1540027800-1540044000@sp26gdynia.pl
SUMMARY:DWÓJKA BIEGNIE W RYTMIE SERCA - bieg charytatywny w LO 2 ul. Wolności
DESCRIPTION:
URL:https://sp26gdynia.pl/wydarzenie/dwojka-biegnie-w-rytmie-serca-bieg-charytatywny/
CATEGORIES:Ważne wydarzenia
END:VEVENT
BEGIN:VEVENT
DTSTART;TZID=Europe/Warsaw:20181018T090000
DTEND;TZID=Europe/Warsaw:20181018T100000
DTSTAMP:20260425T162131
CREATED:20181016T180628Z
LAST-MODIFIED:20181016T180933Z
UID:7243-1539853200-1539856800@sp26gdynia.pl
SUMMARY:Piłkarze Arki Gdynia na spotkaniu z uczniami 1 a i 1 b
DESCRIPTION:
URL:https://sp26gdynia.pl/wydarzenie/pilkarze-arki-gdynia-na-spotkaniu-z-uczniami-1-a-i-1-b/
CATEGORIES:Ważne wydarzenia
END:VEVENT
END:VCALENDAR