BEGIN:VCALENDAR
VERSION:2.0
PRODID:-//Szkoła Podstawowa nr 26 w Gdyni - ECPv6.15.17//NONSGML v1.0//EN
CALSCALE:GREGORIAN
METHOD:PUBLISH
X-ORIGINAL-URL:https://sp26gdynia.pl
X-WR-CALDESC:Wydarzenia dla Szkoła Podstawowa nr 26 w Gdyni
REFRESH-INTERVAL;VALUE=DURATION:PT1H
X-Robots-Tag:noindex
X-PUBLISHED-TTL:PT1H
BEGIN:VTIMEZONE
TZID:Europe/Warsaw
BEGIN:DAYLIGHT
TZOFFSETFROM:+0100
TZOFFSETTO:+0200
TZNAME:CEST
DTSTART:20170326T010000
END:DAYLIGHT
BEGIN:STANDARD
TZOFFSETFROM:+0200
TZOFFSETTO:+0100
TZNAME:CET
DTSTART:20171029T010000
END:STANDARD
BEGIN:DAYLIGHT
TZOFFSETFROM:+0100
TZOFFSETTO:+0200
TZNAME:CEST
DTSTART:20180325T010000
END:DAYLIGHT
BEGIN:STANDARD
TZOFFSETFROM:+0200
TZOFFSETTO:+0100
TZNAME:CET
DTSTART:20181028T010000
END:STANDARD
BEGIN:DAYLIGHT
TZOFFSETFROM:+0100
TZOFFSETTO:+0200
TZNAME:CEST
DTSTART:20190331T010000
END:DAYLIGHT
BEGIN:STANDARD
TZOFFSETFROM:+0200
TZOFFSETTO:+0100
TZNAME:CET
DTSTART:20191027T010000
END:STANDARD
END:VTIMEZONE
BEGIN:VEVENT
DTSTART;VALUE=DATE:20181218
DTEND;VALUE=DATE:20181219
DTSTAMP:20260425T132743
CREATED:20181129T101856Z
LAST-MODIFIED:20181129T101902Z
UID:8449-1545091200-1545177599@sp26gdynia.pl
SUMMARY:Warsztaty cukiernicze klasy 1a w "Ciuciu"
DESCRIPTION:
URL:https://sp26gdynia.pl/wydarzenie/warsztaty-cukiernicze-klasy-1a-w-ciuciu/
CATEGORIES:Ważne wydarzenia
END:VEVENT
BEGIN:VEVENT
DTSTART;TZID=Europe/Warsaw:20181217T170000
DTEND;TZID=Europe/Warsaw:20181217T183000
DTSTAMP:20260425T132743
CREATED:20181129T101247Z
LAST-MODIFIED:20181129T101247Z
UID:8447-1545066000-1545071400@sp26gdynia.pl
SUMMARY:Jasełka dla rodziców w 1b
DESCRIPTION:
URL:https://sp26gdynia.pl/wydarzenie/jaselka-dla-rodzicow-w-1b/
CATEGORIES:Ważne wydarzenia
END:VEVENT
BEGIN:VEVENT
DTSTART;TZID=Europe/Warsaw:20181217T080000
DTEND;TZID=Europe/Warsaw:20181217T090000
DTSTAMP:20260425T132743
CREATED:20181211T102124Z
LAST-MODIFIED:20181211T102124Z
UID:8803-1545033600-1545037200@sp26gdynia.pl
SUMMARY:I etap Mistrzostw w Grach Logicznych łamigłówki logiczne
DESCRIPTION:Zgłoszenia do piątku\, 14 grudnia. \nSala 11.
URL:https://sp26gdynia.pl/wydarzenie/i-etap-mistrzostw-w-grach-logicznych-lamiglowki-logiczne/
LOCATION:Tatrzańska 40
CATEGORIES:Ważne wydarzenia
END:VEVENT
BEGIN:VEVENT
DTSTART;TZID=Europe/Warsaw:20181214T140000
DTEND;TZID=Europe/Warsaw:20181214T150000
DTSTAMP:20260425T132743
CREATED:20181212T141315Z
LAST-MODIFIED:20181212T141322Z
UID:8822-1544796000-1544799600@sp26gdynia.pl
SUMMARY:Konkurs języka angielskiego dla uczniów klas 4 - 6\, godz. 14.00\, sala nr 10
DESCRIPTION:
URL:https://sp26gdynia.pl/wydarzenie/konkurs-jezyka-angielskiego-dla-uczniow-klas-4-6-godz-14-00-sala-nr-10/
CATEGORIES:Ważne wydarzenia
END:VEVENT
BEGIN:VEVENT
DTSTART;TZID=Europe/Warsaw:20181214T120000
DTEND;TZID=Europe/Warsaw:20181214T130000
DTSTAMP:20260425T132743
CREATED:20181212T141445Z
LAST-MODIFIED:20181213T140208Z
UID:8824-1544788800-1544792400@sp26gdynia.pl
SUMMARY:Konkurs wiedzy o Gdyni dla uczniów klas 4 - 6\, godz. 12.00\, sala nr 31
DESCRIPTION:
URL:https://sp26gdynia.pl/wydarzenie/konkurs-wiedzy-o-gdyni-dla-uczniow-klas-4-6-godz-12-30-sala-nr-31/
CATEGORIES:Ważne wydarzenia
END:VEVENT
BEGIN:VEVENT
DTSTART;TZID=Europe/Warsaw:20181214T095000
DTEND;TZID=Europe/Warsaw:20181214T103500
DTSTAMP:20260425T132743
CREATED:20181212T141633Z
LAST-MODIFIED:20181212T141648Z
UID:8826-1544781000-1544783700@sp26gdynia.pl
SUMMARY:Koncert świąteczny dla przedszkoli
DESCRIPTION:
URL:https://sp26gdynia.pl/wydarzenie/koncert-swiateczny-dla-przedszkoli/
CATEGORIES:Ważne wydarzenia
END:VEVENT
BEGIN:VEVENT
DTSTART;VALUE=DATE:20181214
DTEND;VALUE=DATE:20181215
DTSTAMP:20260425T132743
CREATED:20181123T073853Z
LAST-MODIFIED:20181123T073927Z
UID:8308-1544745600-1544831999@sp26gdynia.pl
SUMMARY:0 a w Teatrze Muzycznym w Gdyni
DESCRIPTION:
URL:https://sp26gdynia.pl/wydarzenie/0-a-w-teatrze-muzycznym-w-gdyni/
CATEGORIES:Ważne wydarzenia
END:VEVENT
BEGIN:VEVENT
DTSTART;TZID=Europe/Warsaw:20181213T180000
DTEND;TZID=Europe/Warsaw:20181213T190000
DTSTAMP:20260425T132743
CREATED:20181123T073757Z
LAST-MODIFIED:20181123T073757Z
UID:8306-1544724000-1544727600@sp26gdynia.pl
SUMMARY:Konsultacja dla Rodziców
DESCRIPTION:
URL:https://sp26gdynia.pl/wydarzenie/konsultacja-dla-rodzicow/
CATEGORIES:Ważne wydarzenia
END:VEVENT
BEGIN:VEVENT
DTSTART;TZID=Europe/Warsaw:20181213T170000
DTEND;TZID=Europe/Warsaw:20181213T180000
DTSTAMP:20260425T132743
CREATED:20181123T073700Z
LAST-MODIFIED:20181123T073700Z
UID:8304-1544720400-1544724000@sp26gdynia.pl
SUMMARY:KONCERT ŚWIĄTECZNY (ul. Tatrzańska)
DESCRIPTION:
URL:https://sp26gdynia.pl/wydarzenie/koncert-swiateczny-ul-tatrzanska/
CATEGORIES:Ważne wydarzenia
END:VEVENT
BEGIN:VEVENT
DTSTART;TZID=Europe/Warsaw:20181213T090000
DTEND;TZID=Europe/Warsaw:20181213T120000
DTSTAMP:20260425T132743
CREATED:20181123T073540Z
LAST-MODIFIED:20181123T073540Z
UID:8302-1544691600-1544702400@sp26gdynia.pl
SUMMARY:MIĘDZYSZKOLNY KONKURS PIOSENKI I POEZJI ŚWIĄTECZNO - ZIMOWEJ DLA KLAS 1 - 3
DESCRIPTION:
URL:https://sp26gdynia.pl/wydarzenie/miedzyszkolny-konkurs-piosenki-i-poezji-swiateczno-zimowej-dla-klas-1-3/
CATEGORIES:Ważne wydarzenia
END:VEVENT
BEGIN:VEVENT
DTSTART;VALUE=DATE:20181211
DTEND;VALUE=DATE:20181212
DTSTAMP:20260425T132743
CREATED:20181129T094352Z
LAST-MODIFIED:20181129T094403Z
UID:8437-1544486400-1544572799@sp26gdynia.pl
SUMMARY:Szkolne eliminacje do Konkursu Piosenki i Poezji Świąteczno - Zimowej (klasy 1-3) - w trakcie lekcji
DESCRIPTION:
URL:https://sp26gdynia.pl/wydarzenie/szkolne-eliminacje-do-konkursu-piosenki-i-poezji-swiateczno-zimowej-klasy-1-3-w-trakcie-lekcji/
CATEGORIES:Ważne wydarzenia
END:VEVENT
BEGIN:VEVENT
DTSTART;TZID=Europe/Warsaw:20181210T110000
DTEND;TZID=Europe/Warsaw:20181210T123000
DTSTAMP:20260425T132743
CREATED:20181129T101111Z
LAST-MODIFIED:20181129T101120Z
UID:8445-1544439600-1544445000@sp26gdynia.pl
SUMMARY:Mistrzostwa w bowlingu w U7
DESCRIPTION:
URL:https://sp26gdynia.pl/wydarzenie/mistrzostwa-w-bowlingu-w-u7/
CATEGORIES:Ważne wydarzenia
END:VEVENT
BEGIN:VEVENT
DTSTART;TZID=Europe/Warsaw:20181210T085500
DTEND;TZID=Europe/Warsaw:20181210T094000
DTSTAMP:20260425T132743
CREATED:20181129T095521Z
LAST-MODIFIED:20181129T100932Z
UID:8443-1544432100-1544434800@sp26gdynia.pl
SUMMARY:Warsztaty czytelnicze dla klasy 6a i 6b
DESCRIPTION:
URL:https://sp26gdynia.pl/wydarzenie/warsztaty-czytelnicze-dla-klasy-6a-i-6b/
CATEGORIES:Ważne wydarzenia
END:VEVENT
BEGIN:VEVENT
DTSTART;TZID=Europe/Warsaw:20181206T100000
DTEND;TZID=Europe/Warsaw:20181206T120000
DTSTAMP:20260425T132743
CREATED:20181123T073220Z
LAST-MODIFIED:20181123T073335Z
UID:8298-1544090400-1544097600@sp26gdynia.pl
SUMMARY:0a i 1b Mikołajki w kinie
DESCRIPTION:
URL:https://sp26gdynia.pl/wydarzenie/1a-warsztaty-w-pizzy-hut/
CATEGORIES:Ważne wydarzenia
END:VEVENT
BEGIN:VEVENT
DTSTART;TZID=Europe/Warsaw:20181206T090000
DTEND;TZID=Europe/Warsaw:20181206T100000
DTSTAMP:20260425T132743
CREATED:20181123T072927Z
LAST-MODIFIED:20181123T072927Z
UID:8296-1544086800-1544090400@sp26gdynia.pl
SUMMARY:2a w U7 na kręglach
DESCRIPTION:
URL:https://sp26gdynia.pl/wydarzenie/2a-w-u7-na-kreglach/
CATEGORIES:Ważne wydarzenia
END:VEVENT
BEGIN:VEVENT
DTSTART;TZID=Europe/Warsaw:20181206T080000
DTEND;TZID=Europe/Warsaw:20181206T170000
DTSTAMP:20260425T132743
CREATED:20181120T061451Z
LAST-MODIFIED:20181120T061451Z
UID:8168-1544083200-1544115600@sp26gdynia.pl
SUMMARY:Mikołajki w świetlicy
DESCRIPTION:
URL:https://sp26gdynia.pl/wydarzenie/mikolajki-w-swietlicy/
CATEGORIES:Ważne wydarzenia
END:VEVENT
BEGIN:VEVENT
DTSTART;VALUE=DATE:20181206
DTEND;VALUE=DATE:20181207
DTSTAMP:20260425T132743
CREATED:20181129T095151Z
LAST-MODIFIED:20181129T095157Z
UID:8441-1544054400-1544140799@sp26gdynia.pl
SUMMARY:1a na warsztatach w Pizzy Hut
DESCRIPTION:
URL:https://sp26gdynia.pl/wydarzenie/1a-na-warsztatach-w-pizzy-hut/
CATEGORIES:Ważne wydarzenia
END:VEVENT
BEGIN:VEVENT
DTSTART;TZID=Europe/Warsaw:20181203T090000
DTEND;TZID=Europe/Warsaw:20181203T160000
DTSTAMP:20260425T132743
CREATED:20181120T061403Z
LAST-MODIFIED:20181120T061403Z
UID:8166-1543827600-1543852800@sp26gdynia.pl
SUMMARY:Międzynarodowy Dzień Niepełnosprawnych w świetlicy
DESCRIPTION:
URL:https://sp26gdynia.pl/wydarzenie/miedzynarodowy-dzien-niepelnosprawnych-w-swietlicy/
CATEGORIES:Ważne wydarzenia
END:VEVENT
BEGIN:VEVENT
DTSTART;TZID=Europe/Warsaw:20181130T130000
DTEND;TZID=Europe/Warsaw:20181130T170000
DTSTAMP:20260425T132743
CREATED:20181120T061259Z
LAST-MODIFIED:20181120T061259Z
UID:8164-1543582800-1543597200@sp26gdynia.pl
SUMMARY:Andrzejki w świetlicy
DESCRIPTION:
URL:https://sp26gdynia.pl/wydarzenie/andrzejki-w-swietlicy/
CATEGORIES:Ważne wydarzenia
END:VEVENT
BEGIN:VEVENT
DTSTART;TZID=Europe/Warsaw:20181130T104500
DTEND;TZID=Europe/Warsaw:20181130T113000
DTSTAMP:20260425T132743
CREATED:20181123T072634Z
LAST-MODIFIED:20181123T072705Z
UID:8294-1543574700-1543577400@sp26gdynia.pl
SUMMARY:Podsumowanie TYGODNIA HISZPAŃSKIEGO
DESCRIPTION:
URL:https://sp26gdynia.pl/wydarzenie/podsumowanie-tygodnia-hiszpanskiego/
CATEGORIES:Ważne wydarzenia
END:VEVENT
BEGIN:VEVENT
DTSTART;TZID=Europe/Warsaw:20181130T100000
DTEND;TZID=Europe/Warsaw:20181130T123000
DTSTAMP:20260425T132743
CREATED:20181129T094801Z
LAST-MODIFIED:20181129T094807Z
UID:8439-1543572000-1543581000@sp26gdynia.pl
SUMMARY:6a na warsztatach historycznych
DESCRIPTION:
URL:https://sp26gdynia.pl/wydarzenie/6a-na-warsztatach-historycznych/
CATEGORIES:Ważne wydarzenia
END:VEVENT
BEGIN:VEVENT
DTSTART;TZID=Europe/Warsaw:20181130T080000
DTEND;TZID=Europe/Warsaw:20181130T140000
DTSTAMP:20260425T132743
CREATED:20181130T201615Z
LAST-MODIFIED:20181130T201615Z
UID:8542-1543564800-1543586400@sp26gdynia.pl
SUMMARY:Wróżby andrzejkowe w bibliotece
DESCRIPTION:
URL:https://sp26gdynia.pl/wydarzenie/wrozby-andrzejkowe-w-bibliotece/
END:VEVENT
BEGIN:VEVENT
DTSTART;TZID=Europe/Warsaw:20181129T160000
DTEND;TZID=Europe/Warsaw:20181129T183000
DTSTAMP:20260425T132743
CREATED:20181115T084652Z
LAST-MODIFIED:20181115T085100Z
UID:8102-1543507200-1543516200@sp26gdynia.pl
SUMMARY:Dyskoteka Andrzejkowa dla uczniów klas 4-6
DESCRIPTION:Dyskoteka Andrzejkowa dla uczniów klas 4-6\, godz. 16:00 – 18:30. Wymagane zgody na udział i samodzielny powrót/ lub deklaracja odbioru.
URL:https://sp26gdynia.pl/wydarzenie/dyskoteka-andrzejkowa-dla-uczniow-klas-4-6/
LOCATION:Tatrzańska 40
CATEGORIES:Ważne wydarzenia
END:VEVENT
BEGIN:VEVENT
DTSTART;TZID=Europe/Warsaw:20181129T085500
DTEND;TZID=Europe/Warsaw:20181129T094000
DTSTAMP:20260425T132743
CREATED:20181123T072442Z
LAST-MODIFIED:20181123T072500Z
UID:8290-1543481700-1543484400@sp26gdynia.pl
SUMMARY:VI Wojewódzki Konkurs Ortograficzny dla klas 3 (szkoła podstawowa)\, sala 22
DESCRIPTION:
URL:https://sp26gdynia.pl/wydarzenie/vi-wojewodzki-konkurs-ortograficzny-dla-klas-3-szkola-podstawowa/
CATEGORIES:Ważne wydarzenia
END:VEVENT
BEGIN:VEVENT
DTSTART;TZID=Europe/Warsaw:20181126T080000
DTEND;TZID=Europe/Warsaw:20181126T170000
DTSTAMP:20260425T132743
CREATED:20181109T193053Z
LAST-MODIFIED:20181109T193200Z
UID:7938-1543219200-1543251600@sp26gdynia.pl
SUMMARY:Dzień Pluszowego Misia w świetlicy
DESCRIPTION:
URL:https://sp26gdynia.pl/wydarzenie/dzien-pluszowego-misia-w-swietlicy/
CATEGORIES:Ważne wydarzenia
END:VEVENT
BEGIN:VEVENT
DTSTART;TZID=Europe/Warsaw:20181126T080000
DTEND;TZID=Europe/Warsaw:20181126T140000
DTSTAMP:20260425T132743
CREATED:20181115T083932Z
LAST-MODIFIED:20181115T084047Z
UID:8097-1543219200-1543240800@sp26gdynia.pl
SUMMARY:Dzień Pluszowego Misia w bibliotece
DESCRIPTION:
URL:https://sp26gdynia.pl/wydarzenie/dzien-pluszowego-misia-w-bibliotece/
END:VEVENT
BEGIN:VEVENT
DTSTART;VALUE=DATE:20181126
DTEND;VALUE=DATE:20181127
DTSTAMP:20260425T132743
CREATED:20181120T102728Z
LAST-MODIFIED:20181120T102728Z
UID:8195-1543190400-1543276799@sp26gdynia.pl
SUMMARY:Dzień Pluszowego Misia oraz Dzień Piżamowy
DESCRIPTION:W tym dniu można przyjść do szkoły w piżamie i przynieść ulubioną maskotkę.
URL:https://sp26gdynia.pl/wydarzenie/dzien-pluszowego-misia-oraz-dzien-pizamowy/
LOCATION:Tatrzańska 40
CATEGORIES:Ważne wydarzenia
END:VEVENT
BEGIN:VEVENT
DTSTART;TZID=Europe/Warsaw:20181123T080000
DTEND;TZID=Europe/Warsaw:20181123T123000
DTSTAMP:20260425T132743
CREATED:20181123T074205Z
LAST-MODIFIED:20181123T074205Z
UID:8311-1542960000-1542976200@sp26gdynia.pl
SUMMARY:Zajęcia z harcerzami
DESCRIPTION:
URL:https://sp26gdynia.pl/wydarzenie/zajecia-z-harcerzami/
CATEGORIES:Ważne wydarzenia
END:VEVENT
BEGIN:VEVENT
DTSTART;TZID=Europe/Warsaw:20181122T140000
DTEND;TZID=Europe/Warsaw:20181122T150000
DTSTAMP:20260425T132743
CREATED:20181107T092909Z
LAST-MODIFIED:20181107T093023Z
UID:7841-1542895200-1542898800@sp26gdynia.pl
SUMMARY:Konkurs kuratoryjny z informatyki dla klas 4 - 8
DESCRIPTION:
URL:https://sp26gdynia.pl/wydarzenie/konkurs-kuratoryjny-z-matematyki-dla-klas-4-8/
CATEGORIES:Ważne wydarzenia
END:VEVENT
BEGIN:VEVENT
DTSTART;TZID=Europe/Warsaw:20181121T140000
DTEND;TZID=Europe/Warsaw:20181121T150000
DTSTAMP:20260425T132743
CREATED:20181107T090346Z
LAST-MODIFIED:20181107T090354Z
UID:7837-1542808800-1542812400@sp26gdynia.pl
SUMMARY:Konkurs kuratoryjny z języka niemieckiego dla klas 7 i 8
DESCRIPTION:
URL:https://sp26gdynia.pl/wydarzenie/konkurs-kuratoryjny-z-jezyka-niemieckiego-dla-klas-7-i-8/
CATEGORIES:Ważne wydarzenia
END:VEVENT
END:VCALENDAR