BEGIN:VCALENDAR
VERSION:2.0
PRODID:-//Szkoła Podstawowa nr 26 w Gdyni - ECPv6.15.17//NONSGML v1.0//EN
CALSCALE:GREGORIAN
METHOD:PUBLISH
X-ORIGINAL-URL:https://sp26gdynia.pl
X-WR-CALDESC:Wydarzenia dla Szkoła Podstawowa nr 26 w Gdyni
REFRESH-INTERVAL;VALUE=DURATION:PT1H
X-Robots-Tag:noindex
X-PUBLISHED-TTL:PT1H
BEGIN:VTIMEZONE
TZID:Europe/Warsaw
BEGIN:DAYLIGHT
TZOFFSETFROM:+0100
TZOFFSETTO:+0200
TZNAME:CEST
DTSTART:20180325T010000
END:DAYLIGHT
BEGIN:STANDARD
TZOFFSETFROM:+0200
TZOFFSETTO:+0100
TZNAME:CET
DTSTART:20181028T010000
END:STANDARD
BEGIN:DAYLIGHT
TZOFFSETFROM:+0100
TZOFFSETTO:+0200
TZNAME:CEST
DTSTART:20190331T010000
END:DAYLIGHT
BEGIN:STANDARD
TZOFFSETFROM:+0200
TZOFFSETTO:+0100
TZNAME:CET
DTSTART:20191027T010000
END:STANDARD
BEGIN:DAYLIGHT
TZOFFSETFROM:+0100
TZOFFSETTO:+0200
TZNAME:CEST
DTSTART:20200329T010000
END:DAYLIGHT
BEGIN:STANDARD
TZOFFSETFROM:+0200
TZOFFSETTO:+0100
TZNAME:CET
DTSTART:20201025T010000
END:STANDARD
END:VTIMEZONE
BEGIN:VEVENT
DTSTART;VALUE=DATE:20190321
DTEND;VALUE=DATE:20190322
DTSTAMP:20260425T035451
CREATED:20190104T074055Z
LAST-MODIFIED:20190104T074055Z
UID:9249-1553126400-1553212799@sp26gdynia.pl
SUMMARY:Konkurs matematyczny KANGUR
DESCRIPTION:
URL:https://sp26gdynia.pl/wydarzenie/konkurs-matematyczny-kangur/
CATEGORIES:Ważne wydarzenia
END:VEVENT
BEGIN:VEVENT
DTSTART;VALUE=DATE:20190320
DTEND;VALUE=DATE:20190323
DTSTAMP:20260425T035451
CREATED:20190319T212307Z
LAST-MODIFIED:20190319T212307Z
UID:11352-1553040000-1553299199@sp26gdynia.pl
SUMMARY:Rekolekcje Wielkopostne
DESCRIPTION:
URL:https://sp26gdynia.pl/wydarzenie/rekolekcje-wielkopostne/
CATEGORIES:Ważne wydarzenia
END:VEVENT
BEGIN:VEVENT
DTSTART;VALUE=DATE:20190320
DTEND;VALUE=DATE:20190321
DTSTAMP:20260425T035451
CREATED:20190319T210841Z
LAST-MODIFIED:20190319T210945Z
UID:11348-1553040000-1553126399@sp26gdynia.pl
SUMMARY:Wyjście 8 a i 8 b UG
DESCRIPTION:
URL:https://sp26gdynia.pl/wydarzenie/wyjscie-8-a-i-8-b-ug/
CATEGORIES:Ważne wydarzenia
END:VEVENT
BEGIN:VEVENT
DTSTART;TZID=Europe/Warsaw:20190319T170000
DTEND;TZID=Europe/Warsaw:20190319T190000
DTSTAMP:20260425T035451
CREATED:20190308T161419Z
LAST-MODIFIED:20190308T161419Z
UID:10909-1553014800-1553022000@sp26gdynia.pl
SUMMARY:Spotkanie integracyjne z rodzicami kl.0 "Coś z niczego"
DESCRIPTION:
URL:https://sp26gdynia.pl/wydarzenie/spotkanie-integracyjne-z-rodzicami-kl-0-cos-z-niczego/
CATEGORIES:Ważne wydarzenia
END:VEVENT
BEGIN:VEVENT
DTSTART;TZID=Europe/Warsaw:20190317T113000
DTEND;TZID=Europe/Warsaw:20190317T140000
DTSTAMP:20260425T035451
CREATED:20190306T194716Z
LAST-MODIFIED:20190306T194716Z
UID:10824-1552822200-1552831200@sp26gdynia.pl
SUMMARY:STREFA KIBICA SP26 NA GDYŃSKIM PÓŁMARATONIE
DESCRIPTION:
URL:https://sp26gdynia.pl/wydarzenie/strefa-kibica-sp26-na-gdynskim-polmaratonie/
CATEGORIES:Ważne wydarzenia
END:VEVENT
BEGIN:VEVENT
DTSTART;VALUE=DATE:20190316
DTEND;VALUE=DATE:20190317
DTSTAMP:20260425T035451
CREATED:20190319T212452Z
LAST-MODIFIED:20190319T212452Z
UID:11354-1552694400-1552780799@sp26gdynia.pl
SUMMARY:Konkurs Poezji i Prozy Frankofońskiej
DESCRIPTION:
URL:https://sp26gdynia.pl/wydarzenie/konkurs-poezji-i-prozy-frankofonskiej/
CATEGORIES:Ważne wydarzenia
END:VEVENT
BEGIN:VEVENT
DTSTART;VALUE=DATE:20190315
DTEND;VALUE=DATE:20190316
DTSTAMP:20260425T035451
CREATED:20190319T211107Z
LAST-MODIFIED:20190319T211107Z
UID:11350-1552608000-1552694399@sp26gdynia.pl
SUMMARY:Wyjście 7 a - IO PAN Sopot
DESCRIPTION:
URL:https://sp26gdynia.pl/wydarzenie/wyjscie-7-a-io-pan-sopot/
CATEGORIES:Ważne wydarzenia
END:VEVENT
BEGIN:VEVENT
DTSTART;VALUE=DATE:20190315
DTEND;VALUE=DATE:20190316
DTSTAMP:20260425T035451
CREATED:20190207T141211Z
LAST-MODIFIED:20190207T141211Z
UID:10131-1552608000-1552694399@sp26gdynia.pl
SUMMARY:6a w teatrze
DESCRIPTION:
URL:https://sp26gdynia.pl/wydarzenie/6a-w-teatrze/
CATEGORIES:Ważne wydarzenia
END:VEVENT
BEGIN:VEVENT
DTSTART;TZID=Europe/Warsaw:20190314T104500
DTEND;TZID=Europe/Warsaw:20190314T113000
DTSTAMP:20260425T035451
CREATED:20190207T141056Z
LAST-MODIFIED:20190207T141056Z
UID:10129-1552560300-1552563000@sp26gdynia.pl
SUMMARY:ARMENIA - PODSUMOWANIE TYGODNIA
DESCRIPTION:
URL:https://sp26gdynia.pl/wydarzenie/armenia-podsumowanie-tygodnia/
CATEGORIES:Ważne wydarzenia
END:VEVENT
BEGIN:VEVENT
DTSTART;TZID=Europe/Warsaw:20190314T100000
DTEND;TZID=Europe/Warsaw:20190314T140000
DTSTAMP:20260425T035451
CREATED:20190314T102226Z
LAST-MODIFIED:20190314T102231Z
UID:11148-1552557600-1552572000@sp26gdynia.pl
SUMMARY:Dzień liczby Pi w bibliotece
DESCRIPTION:
URL:https://sp26gdynia.pl/wydarzenie/dzien-liczby-pi-w-bibliotece/
END:VEVENT
BEGIN:VEVENT
DTSTART;TZID=Europe/Warsaw:20190312T080000
DTEND;TZID=Europe/Warsaw:20190314T170000
DTSTAMP:20260425T035451
CREATED:20190306T212602Z
LAST-MODIFIED:20190306T212602Z
UID:10836-1552377600-1552582800@sp26gdynia.pl
SUMMARY:Egzamin próbny klas ósmych
DESCRIPTION:
URL:https://sp26gdynia.pl/wydarzenie/egzamin-probny-klas-osmych/
END:VEVENT
BEGIN:VEVENT
DTSTART;TZID=Europe/Warsaw:20190312T080000
DTEND;TZID=Europe/Warsaw:20190312T120000
DTSTAMP:20260425T035451
CREATED:20190312T175106Z
LAST-MODIFIED:20190312T175106Z
UID:11082-1552377600-1552392000@sp26gdynia.pl
SUMMARY:Świetlicowy Dzień Matematyki
DESCRIPTION:
URL:https://sp26gdynia.pl/wydarzenie/swietlicowy-dzien-matematyki/
CATEGORIES:Ważne wydarzenia
END:VEVENT
BEGIN:VEVENT
DTSTART;VALUE=DATE:20190312
DTEND;VALUE=DATE:20190313
DTSTAMP:20260425T035451
CREATED:20190306T194956Z
LAST-MODIFIED:20190306T194956Z
UID:10826-1552348800-1552435199@sp26gdynia.pl
SUMMARY:Konkurs Recytatorski Poezji Polskiej dla uczniów klas 1 - 6.
DESCRIPTION:
URL:https://sp26gdynia.pl/wydarzenie/konkurs-recytatorski-poezji-polskiej-dla-uczniow-klas-1-6/
CATEGORIES:Ważne wydarzenia
END:VEVENT
BEGIN:VEVENT
DTSTART;VALUE=DATE:20190311
DTEND;VALUE=DATE:20190312
DTSTAMP:20260425T035451
CREATED:20190207T140922Z
LAST-MODIFIED:20190207T140927Z
UID:10127-1552262400-1552348799@sp26gdynia.pl
SUMMARY:Koncert Edukacyjny "Dźwięki z E - kranu" dla klas 4 - 6
DESCRIPTION:
URL:https://sp26gdynia.pl/wydarzenie/koncert-edukacyjny-dzwieki-z-e-kranu-dla-klas-4-6/
CATEGORIES:Ważne wydarzenia
END:VEVENT
BEGIN:VEVENT
DTSTART;TZID=Europe/Warsaw:20190309T100000
DTEND;TZID=Europe/Warsaw:20190309T120000
DTSTAMP:20260425T035451
CREATED:20190104T073836Z
LAST-MODIFIED:20190306T194047Z
UID:9247-1552125600-1552132800@sp26gdynia.pl
SUMMARY:DZIEŃ OTWARTY SP26
DESCRIPTION:
URL:https://sp26gdynia.pl/wydarzenie/dzien-otwarty-sp26/
CATEGORIES:Ważne wydarzenia
END:VEVENT
BEGIN:VEVENT
DTSTART;TZID=Europe/Warsaw:20190308T133000
DTEND;TZID=Europe/Warsaw:20190308T150000
DTSTAMP:20260425T035451
CREATED:20190131T203710Z
LAST-MODIFIED:20190131T203710Z
UID:9909-1552051800-1552057200@sp26gdynia.pl
SUMMARY:Świetlica - Dzień Kobiet
DESCRIPTION:
URL:https://sp26gdynia.pl/wydarzenie/swietlica-dzien-kobiet/
CATEGORIES:Ważne wydarzenia
END:VEVENT
BEGIN:VEVENT
DTSTART;TZID=Europe/Warsaw:20190308T130000
DTEND;TZID=Europe/Warsaw:20190308T134000
DTSTAMP:20260425T035451
CREATED:20190306T193848Z
LAST-MODIFIED:20190306T193848Z
UID:10822-1552050000-1552052400@sp26gdynia.pl
SUMMARY:Klasy 4 -6 na przedstawieniu "Balladyna" na ul. Wolności
DESCRIPTION:
URL:https://sp26gdynia.pl/wydarzenie/klasy-4-6-na-przedstawieniu-balladyna-na-ul-wolnosci/
CATEGORIES:Ważne wydarzenia
END:VEVENT
BEGIN:VEVENT
DTSTART;TZID=Europe/Warsaw:20190308T103000
DTEND;TZID=Europe/Warsaw:20190308T140000
DTSTAMP:20260425T035451
CREATED:20190306T193557Z
LAST-MODIFIED:20190306T193557Z
UID:10820-1552041000-1552053600@sp26gdynia.pl
SUMMARY:6a na KOLOSACH
DESCRIPTION:
URL:https://sp26gdynia.pl/wydarzenie/6a-na-kolosach/
CATEGORIES:Ważne wydarzenia
END:VEVENT
BEGIN:VEVENT
DTSTART;TZID=Europe/Warsaw:20190308T090000
DTEND;TZID=Europe/Warsaw:20190308T130000
DTSTAMP:20260425T035451
CREATED:20190306T193446Z
LAST-MODIFIED:20190306T193446Z
UID:10818-1552035600-1552050000@sp26gdynia.pl
SUMMARY:0a na warsztatach ceramicznych
DESCRIPTION:
URL:https://sp26gdynia.pl/wydarzenie/0a-na-warsztatach-ceramicznych/
CATEGORIES:Ważne wydarzenia
END:VEVENT
BEGIN:VEVENT
DTSTART;TZID=Europe/Warsaw:20190307T125000
DTEND;TZID=Europe/Warsaw:20190307T133000
DTSTAMP:20260425T035451
CREATED:20190306T193257Z
LAST-MODIFIED:20190306T193304Z
UID:10816-1551963000-1551965400@sp26gdynia.pl
SUMMARY:Spotkanie z koszykarzami ASSECO Arka Gdynia - klasa 3a i koszykarki Gdyni Młodej Ligi
DESCRIPTION:
URL:https://sp26gdynia.pl/wydarzenie/spotkanie-z-koszykarzami-asseco-arka-gdynia-klasa-3a-i-koszykarki-gdyni-mlodej-ligi/
CATEGORIES:Ważne wydarzenia
END:VEVENT
BEGIN:VEVENT
DTSTART;TZID=Europe/Warsaw:20190307T083000
DTEND;TZID=Europe/Warsaw:20190307T123000
DTSTAMP:20260425T035451
CREATED:20190306T192557Z
LAST-MODIFIED:20190306T192557Z
UID:10814-1551947400-1551961800@sp26gdynia.pl
SUMMARY:Reprezentanci klas 4a\, 4b i 4c w EKODOLINIE
DESCRIPTION:
URL:https://sp26gdynia.pl/wydarzenie/reprezentanci-klas-4a-4b-i-4c-w-ekodolinie/
CATEGORIES:Ważne wydarzenia
END:VEVENT
BEGIN:VEVENT
DTSTART;TZID=Europe/Warsaw:20190307T083000
DTEND;TZID=Europe/Warsaw:20190307T113000
DTSTAMP:20260425T035451
CREATED:20190207T135741Z
LAST-MODIFIED:20190207T135745Z
UID:10125-1551947400-1551958200@sp26gdynia.pl
SUMMARY:6a na warsztatach w Centrum Filmowym
DESCRIPTION:
URL:https://sp26gdynia.pl/wydarzenie/6a-na-warsztatach-w-centrum-filmowym/
CATEGORIES:Ważne wydarzenia
END:VEVENT
BEGIN:VEVENT
DTSTART;TZID=Europe/Warsaw:20190305T094000
DTEND;TZID=Europe/Warsaw:20190305T103500
DTSTAMP:20260425T035451
CREATED:20190207T135222Z
LAST-MODIFIED:20190207T135228Z
UID:10119-1551778800-1551782100@sp26gdynia.pl
SUMMARY:Lekcja muzyki "4 żywioły" dla klas 0 -3
DESCRIPTION:
URL:https://sp26gdynia.pl/wydarzenie/lekcja-muzyki-4-zywioly-dla-klas-0-3/
CATEGORIES:Ważne wydarzenia
END:VEVENT
BEGIN:VEVENT
DTSTART;TZID=Europe/Warsaw:20190301T115000
DTEND;TZID=Europe/Warsaw:20190301T123500
DTSTAMP:20260425T035451
CREATED:20190228T123321Z
LAST-MODIFIED:20190228T123740Z
UID:10524-1551441000-1551443700@sp26gdynia.pl
SUMMARY:Między nami kobietkami - zajęcia dla dziewcząt klas 6a i 6b
DESCRIPTION:
URL:https://sp26gdynia.pl/wydarzenie/miedzy-nami-kobietkami-zajecia-dla-dziewczat-klas-6a-i-6b/
CATEGORIES:Ważne wydarzenia
END:VEVENT
BEGIN:VEVENT
DTSTART;TZID=Europe/Warsaw:20190228T104500
DTEND;TZID=Europe/Warsaw:20190228T113000
DTSTAMP:20260425T035451
CREATED:20190207T135007Z
LAST-MODIFIED:20190207T135007Z
UID:10117-1551350700-1551353400@sp26gdynia.pl
SUMMARY:DZIEŃ PATRONA (przedstawienie "Czarno - białe zaklęcie")
DESCRIPTION:
URL:https://sp26gdynia.pl/wydarzenie/dzien-patrona-przedstawienie-czarno-biale-zaklecie/
CATEGORIES:Ważne wydarzenia
END:VEVENT
BEGIN:VEVENT
DTSTART;TZID=Europe/Warsaw:20190228T095000
DTEND;TZID=Europe/Warsaw:20190228T103500
DTSTAMP:20260425T035451
CREATED:20190207T134624Z
LAST-MODIFIED:20190207T134824Z
UID:10115-1551347400-1551350100@sp26gdynia.pl
SUMMARY:Konkurs ZUCH (j. angielski) klasy 1 - 3
DESCRIPTION:
URL:https://sp26gdynia.pl/wydarzenie/konkurs-zuch-j-angielski-klasy-1-3/
CATEGORIES:Ważne wydarzenia
END:VEVENT
BEGIN:VEVENT
DTSTART;TZID=Europe/Warsaw:20190228T085500
DTEND;TZID=Europe/Warsaw:20190228T094000
DTSTAMP:20260425T035451
CREATED:20190104T073733Z
LAST-MODIFIED:20190104T073745Z
UID:9245-1551344100-1551346800@sp26gdynia.pl
SUMMARY:II etap Wojewódzkiego Konkursu Ortograficznego dla klasy 3 (szkoły podstawowej)\, sala 22
DESCRIPTION:
URL:https://sp26gdynia.pl/wydarzenie/ii-etap-wojewodzkiego-konkursu-ortograficznego-dla-klasy-3-szkoly-podstawowej-sala-22/
CATEGORIES:Ważne wydarzenia
END:VEVENT
BEGIN:VEVENT
DTSTART;TZID=Europe/Warsaw:20190227T095000
DTEND;TZID=Europe/Warsaw:20190227T103500
DTSTAMP:20260425T035451
CREATED:20190207T134156Z
LAST-MODIFIED:20190207T134354Z
UID:10113-1551261000-1551263700@sp26gdynia.pl
SUMMARY:Konkurs ZUCH (test zintegrowany) dla klas 1- 3
DESCRIPTION:
URL:https://sp26gdynia.pl/wydarzenie/konkurs-zuch-test-zintegrowany-dla-klas-1-3/
CATEGORIES:Ważne wydarzenia
END:VEVENT
BEGIN:VEVENT
DTSTART;TZID=Europe/Warsaw:20190225T080000
DTEND;TZID=Europe/Warsaw:20190225T133000
DTSTAMP:20260425T035451
CREATED:20190224T173507Z
LAST-MODIFIED:20190224T173518Z
UID:10393-1551081600-1551101400@sp26gdynia.pl
SUMMARY:Biblioteka na Tatrzańskiej - Dzień Dinozaura
DESCRIPTION:
URL:https://sp26gdynia.pl/wydarzenie/biblioteka-na-tatrzanskiej-dzien-dinozaura/
LOCATION:Tatrzańska 40
END:VEVENT
BEGIN:VEVENT
DTSTART;VALUE=DATE:20190211
DTEND;VALUE=DATE:20190223
DTSTAMP:20260425T035451
CREATED:20190104T073500Z
LAST-MODIFIED:20190104T073506Z
UID:9243-1549843200-1550879999@sp26gdynia.pl
SUMMARY:FERIE ZIMOWE
DESCRIPTION:
URL:https://sp26gdynia.pl/wydarzenie/ferie-zimowe-2/
CATEGORIES:Ważne wydarzenia
END:VEVENT
END:VCALENDAR