BEGIN:VCALENDAR
VERSION:2.0
PRODID:-//Szkoła Podstawowa nr 26 w Gdyni - ECPv6.15.17//NONSGML v1.0//EN
CALSCALE:GREGORIAN
METHOD:PUBLISH
X-WR-CALNAME:Szkoła Podstawowa nr 26 w Gdyni
X-ORIGINAL-URL:https://sp26gdynia.pl
X-WR-CALDESC:Wydarzenia dla Szkoła Podstawowa nr 26 w Gdyni
REFRESH-INTERVAL;VALUE=DURATION:PT1H
X-Robots-Tag:noindex
X-PUBLISHED-TTL:PT1H
BEGIN:VTIMEZONE
TZID:Europe/Warsaw
BEGIN:DAYLIGHT
TZOFFSETFROM:+0100
TZOFFSETTO:+0200
TZNAME:CEST
DTSTART:20180325T010000
END:DAYLIGHT
BEGIN:STANDARD
TZOFFSETFROM:+0200
TZOFFSETTO:+0100
TZNAME:CET
DTSTART:20181028T010000
END:STANDARD
BEGIN:DAYLIGHT
TZOFFSETFROM:+0100
TZOFFSETTO:+0200
TZNAME:CEST
DTSTART:20190331T010000
END:DAYLIGHT
BEGIN:STANDARD
TZOFFSETFROM:+0200
TZOFFSETTO:+0100
TZNAME:CET
DTSTART:20191027T010000
END:STANDARD
BEGIN:DAYLIGHT
TZOFFSETFROM:+0100
TZOFFSETTO:+0200
TZNAME:CEST
DTSTART:20200329T010000
END:DAYLIGHT
BEGIN:STANDARD
TZOFFSETFROM:+0200
TZOFFSETTO:+0100
TZNAME:CET
DTSTART:20201025T010000
END:STANDARD
END:VTIMEZONE
BEGIN:VEVENT
DTSTART;TZID=Europe/Warsaw:20191016T080000
DTEND;TZID=Europe/Warsaw:20191016T090000
DTSTAMP:20260424T163818
CREATED:20191015T160459Z
LAST-MODIFIED:20191015T160459Z
UID:14946-1571212800-1571216400@sp26gdynia.pl
SUMMARY:Strażnicy miejscy w klasach 0a i 0b
DESCRIPTION:
URL:https://sp26gdynia.pl/wydarzenie/straznicy-miejscy-w-klasach-0a-i-0b/
CATEGORIES:Ważne wydarzenia
END:VEVENT
BEGIN:VEVENT
DTSTART;TZID=Europe/Warsaw:20191015T140000
DTEND;TZID=Europe/Warsaw:20191015T150000
DTSTAMP:20260424T163818
CREATED:20191016T135330Z
LAST-MODIFIED:20191016T135330Z
UID:15024-1571148000-1571151600@sp26gdynia.pl
SUMMARY:JĘZYK ANGIELSKI - SZKOLNY KONKURS KURATORYJNY
DESCRIPTION:
URL:https://sp26gdynia.pl/wydarzenie/jezyk-angielski-szkolny-konkurs-kuratoryjny/
CATEGORIES:Ważne wydarzenia
END:VEVENT
BEGIN:VEVENT
DTSTART;TZID=Europe/Warsaw:20191014T090000
DTEND;TZID=Europe/Warsaw:20191014T110000
DTSTAMP:20260424T163818
CREATED:20190930T105634Z
LAST-MODIFIED:20190930T105634Z
UID:14230-1571043600-1571050800@sp26gdynia.pl
SUMMARY:Dzień Edukacji Narodowej - zajęcia z wychowawcami klas
DESCRIPTION:
URL:https://sp26gdynia.pl/wydarzenie/dzien-edukacji-narodowej-zajecia-z-wychowawcami-klas/
CATEGORIES:Ważne wydarzenia
END:VEVENT
BEGIN:VEVENT
DTSTART;TZID=Europe/Warsaw:20191004T140000
DTEND;TZID=Europe/Warsaw:20191004T150000
DTSTAMP:20260424T163818
CREATED:20190917T172820Z
LAST-MODIFIED:20190917T172820Z
UID:13829-1570197600-1570201200@sp26gdynia.pl
SUMMARY:Pasowanie na Świetliczaka
DESCRIPTION:
URL:https://sp26gdynia.pl/wydarzenie/pasowanie-na-swietliczaka/
CATEGORIES:Ważne wydarzenia
END:VEVENT
BEGIN:VEVENT
DTSTART;TZID=Europe/Warsaw:20191004T090000
DTEND;TZID=Europe/Warsaw:20191004T110000
DTSTAMP:20260424T163818
CREATED:20190929T161234Z
LAST-MODIFIED:20190929T161234Z
UID:14178-1570179600-1570186800@sp26gdynia.pl
SUMMARY:Warsztaty czytelnicze z autorką książek dla dzieci p.Roksaną Jędrzejewską-Wróbel w księgarni "Szymelka" dla klasy OA
DESCRIPTION:
URL:https://sp26gdynia.pl/wydarzenie/warsztaty-czytelnicze-z-autorka-ksiazek-dla-dzieci-p-roksana-jedrzejewska-wrobel-w-ksiegarni-szymelka-dla-klasy-oa/
END:VEVENT
BEGIN:VEVENT
DTSTART;TZID=Europe/Warsaw:20191004T080000
DTEND;TZID=Europe/Warsaw:20191004T170000
DTSTAMP:20260424T163818
CREATED:20190930T105447Z
LAST-MODIFIED:20190930T105447Z
UID:14228-1570176000-1570208400@sp26gdynia.pl
SUMMARY:5a i 5b w teatrze
DESCRIPTION:
URL:https://sp26gdynia.pl/wydarzenie/5a-i-5b-w-teatrze/
CATEGORIES:Ważne wydarzenia
END:VEVENT
BEGIN:VEVENT
DTSTART;TZID=Europe/Warsaw:20191003T170000
DTEND;TZID=Europe/Warsaw:20191003T193000
DTSTAMP:20260424T163818
CREATED:20190929T161423Z
LAST-MODIFIED:20190929T161423Z
UID:14181-1570122000-1570131000@sp26gdynia.pl
SUMMARY:Noc bibliotek dla chętnych w szkolnej bibliotece
DESCRIPTION:
URL:https://sp26gdynia.pl/wydarzenie/noc-bibliotek-dla-chetnych-w-szkolnej-bibliotece/
END:VEVENT
BEGIN:VEVENT
DTSTART;TZID=Europe/Warsaw:20191002T123000
DTEND;TZID=Europe/Warsaw:20191002T150000
DTSTAMP:20260424T163818
CREATED:20190930T105340Z
LAST-MODIFIED:20190930T105340Z
UID:14226-1570019400-1570028400@sp26gdynia.pl
SUMMARY:7a i 7b w kinie
DESCRIPTION:
URL:https://sp26gdynia.pl/wydarzenie/7a-i-7b-w-kinie/
CATEGORIES:Ważne wydarzenia
END:VEVENT
BEGIN:VEVENT
DTSTART;TZID=Europe/Warsaw:20191001T090000
DTEND;TZID=Europe/Warsaw:20191001T110000
DTSTAMP:20260424T163818
CREATED:20190929T161027Z
LAST-MODIFIED:20190929T161027Z
UID:14175-1569920400-1569927600@sp26gdynia.pl
SUMMARY:Warsztaty czytelnicze z autorką książek dla dzieci p.Roksaną Jędrzejewską-Wróbel w księgarni "Szymelka" dla klasy OB
DESCRIPTION:
URL:https://sp26gdynia.pl/wydarzenie/warsztaty-czytelnicze-z-autorka-ksiazek-dla-dzieci-p-roksana-jedrzejewska-wrobel-w-ksiegarni-szymelka-dla-klasy-ob/
END:VEVENT
BEGIN:VEVENT
DTSTART;TZID=Europe/Warsaw:20190930T130000
DTEND;TZID=Europe/Warsaw:20190930T143000
DTSTAMP:20260424T163818
CREATED:20190917T150632Z
LAST-MODIFIED:20190917T203225Z
UID:13811-1569848400-1569853800@sp26gdynia.pl
SUMMARY:Kręgle 4a
DESCRIPTION:
URL:https://sp26gdynia.pl/wydarzenie/kregle-4a/
CATEGORIES:Ważne wydarzenia
END:VEVENT
BEGIN:VEVENT
DTSTART;TZID=Europe/Warsaw:20190930T120000
DTEND;TZID=Europe/Warsaw:20190930T170000
DTSTAMP:20260424T163818
CREATED:20190925T143147Z
LAST-MODIFIED:20190925T143147Z
UID:14027-1569844800-1569862800@sp26gdynia.pl
SUMMARY:Dzień Chłopaka w świetlicy
DESCRIPTION:
URL:https://sp26gdynia.pl/wydarzenie/dzien-chlopaka-w-swietlicy/
CATEGORIES:Ważne wydarzenia
END:VEVENT
BEGIN:VEVENT
DTSTART;TZID=Europe/Warsaw:20190930T090000
DTEND;TZID=Europe/Warsaw:20190930T140000
DTSTAMP:20260424T163818
CREATED:20190929T160706Z
LAST-MODIFIED:20190929T160731Z
UID:14172-1569834000-1569852000@sp26gdynia.pl
SUMMARY:Atrakcje z okazji Dnia Chłopca w bibliotece szkolnej
DESCRIPTION:
URL:https://sp26gdynia.pl/wydarzenie/atrakcje-z-okazji-dnia-chlopca-w-bibliotece-szkolnej/
END:VEVENT
BEGIN:VEVENT
DTSTART;VALUE=DATE:20190927
DTEND;VALUE=DATE:20190928
DTSTAMP:20260424T163818
CREATED:20190909T185207Z
LAST-MODIFIED:20190909T185248Z
UID:13627-1569542400-1569628799@sp26gdynia.pl
SUMMARY:PASOWANIE UCZNIÓW KLAS PIERWSZYCH NA SKWERZE KOŚCIUSZKI
DESCRIPTION:
URL:https://sp26gdynia.pl/wydarzenie/pasowanie-uczniow-klas-pierwszych/
CATEGORIES:Ważne wydarzenia
END:VEVENT
BEGIN:VEVENT
DTSTART;TZID=Europe/Warsaw:20190919T123000
DTEND;TZID=Europe/Warsaw:20190919T143000
DTSTAMP:20260424T163818
CREATED:20190909T185110Z
LAST-MODIFIED:20190910T180207Z
UID:13625-1568896200-1568903400@sp26gdynia.pl
SUMMARY:Gra miejska (klasa 7a\, 8a\, 8b)
DESCRIPTION:
URL:https://sp26gdynia.pl/wydarzenie/gra-miejska-klasa-7-a/
CATEGORIES:Ważne wydarzenia
END:VEVENT
BEGIN:VEVENT
DTSTART;TZID=Europe/Warsaw:20190918T100000
DTEND;TZID=Europe/Warsaw:20190918T133000
DTSTAMP:20260424T163818
CREATED:20190909T185011Z
LAST-MODIFIED:20190909T185011Z
UID:13623-1568800800-1568813400@sp26gdynia.pl
SUMMARY:5 a i 5 b na Festiwalu Filmowym Gdynia Dzieciom
DESCRIPTION:
URL:https://sp26gdynia.pl/wydarzenie/5-a-i-5-b-na-festiwalu-filmowym-gdynia-dzieciom/
CATEGORIES:Ważne wydarzenia
END:VEVENT
BEGIN:VEVENT
DTSTART;TZID=Europe/Warsaw:20190916T100000
DTEND;TZID=Europe/Warsaw:20190916T133000
DTSTAMP:20260424T163818
CREATED:20190909T184859Z
LAST-MODIFIED:20190909T185426Z
UID:13621-1568628000-1568640600@sp26gdynia.pl
SUMMARY:7 b na Festiwalu Polskich Filmów Fabularnych
DESCRIPTION:
URL:https://sp26gdynia.pl/wydarzenie/7-b-na-festiwalu-filmow-fabularnych/
CATEGORIES:Ważne wydarzenia
END:VEVENT
BEGIN:VEVENT
DTSTART;TZID=Europe/Warsaw:20190913T120000
DTEND;TZID=Europe/Warsaw:20190913T170000
DTSTAMP:20260424T163818
CREATED:20190910T181322Z
LAST-MODIFIED:20190910T181322Z
UID:13655-1568376000-1568394000@sp26gdynia.pl
SUMMARY:Dzień Kropki w świetlicy
DESCRIPTION:
URL:https://sp26gdynia.pl/wydarzenie/dzien-kropki-w-swietlicy/
CATEGORIES:Ważne wydarzenia
END:VEVENT
BEGIN:VEVENT
DTSTART;TZID=Europe/Warsaw:20190912T170000
DTEND;TZID=Europe/Warsaw:20190912T183000
DTSTAMP:20260424T163818
CREATED:20190909T184720Z
LAST-MODIFIED:20190909T184720Z
UID:13619-1568307600-1568313000@sp26gdynia.pl
SUMMARY:Zebrania dla klas 4 - 8 (klasa 6 a od 16.30)
DESCRIPTION:
URL:https://sp26gdynia.pl/wydarzenie/zebrania-dla-klas-4-8-klasa-6-a-od-16-30/
CATEGORIES:Ważne wydarzenia
END:VEVENT
BEGIN:VEVENT
DTSTART;TZID=Europe/Warsaw:20190911T170000
DTEND;TZID=Europe/Warsaw:20190911T183000
DTSTAMP:20260424T163818
CREATED:20190909T184611Z
LAST-MODIFIED:20190909T184611Z
UID:13617-1568221200-1568226600@sp26gdynia.pl
SUMMARY:ZEBRANIA W KLASACH 0 -3 (klasa 0a od 17.30)
DESCRIPTION:
URL:https://sp26gdynia.pl/wydarzenie/zebrania-w-klasach-0-3-klasa-0a-od-17-30/
CATEGORIES:Ważne wydarzenia
END:VEVENT
BEGIN:VEVENT
DTSTART;TZID=Europe/Warsaw:20190911T100000
DTEND;TZID=Europe/Warsaw:20190911T120000
DTSTAMP:20260424T163818
CREATED:20190909T184442Z
LAST-MODIFIED:20190909T184442Z
UID:13615-1568196000-1568203200@sp26gdynia.pl
SUMMARY:Odprowadzam sam czyli zajęcia w klasie 1a z chemicznej kleksografii
DESCRIPTION:
URL:https://sp26gdynia.pl/wydarzenie/odprowadzam-sam-czyli-zajecia-w-klasie-1a-z-chemicznej-kleksografii/
CATEGORIES:Ważne wydarzenia
END:VEVENT
BEGIN:VEVENT
DTSTART;TZID=Europe/Warsaw:20190902T090000
DTEND;TZID=Europe/Warsaw:20190902T100000
DTSTAMP:20260424T163818
CREATED:20190820T101406Z
LAST-MODIFIED:20190820T101406Z
UID:13479-1567414800-1567418400@sp26gdynia.pl
SUMMARY:Rozpoczęcie roku szkolnego 2019/2020
DESCRIPTION:
URL:https://sp26gdynia.pl/wydarzenie/rozpoczecie-roku-szkolnego-2019-2020/
CATEGORIES:Ważne wydarzenia
END:VEVENT
BEGIN:VEVENT
DTSTART;TZID=Europe/Warsaw:20190620T080000
DTEND;TZID=Europe/Warsaw:20190620T170000
DTSTAMP:20260424T163818
CREATED:20190429T123555Z
LAST-MODIFIED:20190523T134330Z
UID:12076-1561017600-1561050000@sp26gdynia.pl
SUMMARY:Boże Ciało
DESCRIPTION:
URL:https://sp26gdynia.pl/wydarzenie/boe-cialo/
CATEGORIES:Ważne wydarzenia
END:VEVENT
BEGIN:VEVENT
DTSTART;VALUE=DATE:20190619
DTEND;VALUE=DATE:20190620
DTSTAMP:20260424T163818
CREATED:20190528T095712Z
LAST-MODIFIED:20190614T091042Z
UID:12704-1560902400-1560988799@sp26gdynia.pl
SUMMARY:UROCZYSTE ZAKOŃCZENIE ROKU SZKOLNEGO
DESCRIPTION:
URL:https://sp26gdynia.pl/wydarzenie/uroczyste-zakonczenie-roku-szkolnego/
CATEGORIES:Ważne wydarzenia
END:VEVENT
BEGIN:VEVENT
DTSTART;TZID=Europe/Warsaw:20190617T133000
DTEND;TZID=Europe/Warsaw:20190617T170000
DTSTAMP:20260424T163818
CREATED:20190612T192258Z
LAST-MODIFIED:20190612T192258Z
UID:13294-1560778200-1560790800@sp26gdynia.pl
SUMMARY:Piknik w świetlicy szkolnej
DESCRIPTION:
URL:https://sp26gdynia.pl/wydarzenie/piknik-w-swietlicy-szkolnej/
CATEGORIES:Ważne wydarzenia
END:VEVENT
BEGIN:VEVENT
DTSTART;TZID=Europe/Warsaw:20190613T080000
DTEND;TZID=Europe/Warsaw:20190613T113000
DTSTAMP:20260424T163818
CREATED:20190205T101308Z
LAST-MODIFIED:20190205T101308Z
UID:10036-1560412800-1560425400@sp26gdynia.pl
SUMMARY:Wyjście na przedstawienie Hejt School Musical 4A\, 4B
DESCRIPTION:
URL:https://sp26gdynia.pl/wydarzenie/wyjscie-na-przedstawienie-hejt-school-musical-4a-4b/
CATEGORIES:Ważne wydarzenia
END:VEVENT
BEGIN:VEVENT
DTSTART;TZID=Europe/Warsaw:20190612T080000
DTEND;TZID=Europe/Warsaw:20190614T170000
DTSTAMP:20260424T163818
CREATED:20190429T123045Z
LAST-MODIFIED:20190429T123045Z
UID:12072-1560326400-1560531600@sp26gdynia.pl
SUMMARY:Wycieczka uczniów klas 5 - 6
DESCRIPTION:
URL:https://sp26gdynia.pl/wydarzenie/wycieczka-uczniow-klas-5-6/
CATEGORIES:Ważne wydarzenia
END:VEVENT
BEGIN:VEVENT
DTSTART;VALUE=DATE:20190610
DTEND;VALUE=DATE:20190611
DTSTAMP:20260424T163818
CREATED:20190207T142007Z
LAST-MODIFIED:20190207T142011Z
UID:10139-1560124800-1560211199@sp26gdynia.pl
SUMMARY:Wystawienie ocen rocznych
DESCRIPTION:
URL:https://sp26gdynia.pl/wydarzenie/wystawienie-ocen-rocznych/
CATEGORIES:Ważne wydarzenia
END:VEVENT
BEGIN:VEVENT
DTSTART;TZID=Europe/Warsaw:20190607T133000
DTEND;TZID=Europe/Warsaw:20190607T150000
DTSTAMP:20260424T163818
CREATED:20190523T134236Z
LAST-MODIFIED:20190523T134236Z
UID:12588-1559914200-1559919600@sp26gdynia.pl
SUMMARY:Świetlica - dyskoteka wakacyjna
DESCRIPTION:
URL:https://sp26gdynia.pl/wydarzenie/swietlica-dyskoteka-wakacyjna/
CATEGORIES:Ważne wydarzenia
END:VEVENT
BEGIN:VEVENT
DTSTART;TZID=Europe/Warsaw:20190607T110000
DTEND;TZID=Europe/Warsaw:20190607T140000
DTSTAMP:20260424T163818
CREATED:20190528T095345Z
LAST-MODIFIED:20190528T095345Z
UID:12702-1559905200-1559916000@sp26gdynia.pl
SUMMARY:5b w Jump City
DESCRIPTION:
URL:https://sp26gdynia.pl/wydarzenie/5b-w-jump-city/
CATEGORIES:Ważne wydarzenia
END:VEVENT
BEGIN:VEVENT
DTSTART;TZID=Europe/Warsaw:20190607T100000
DTEND;TZID=Europe/Warsaw:20190607T110000
DTSTAMP:20260424T163818
CREATED:20190603T081439Z
LAST-MODIFIED:20190603T081444Z
UID:12961-1559901600-1559905200@sp26gdynia.pl
SUMMARY:Udział w ogólnopolskiej akcji "Jak nie czytam\, jak czytam"
DESCRIPTION:
URL:https://sp26gdynia.pl/wydarzenie/udzial-w-ogolnopolskiej-akcji-jak-nie-czytam-jak-czytam/
END:VEVENT
END:VCALENDAR