BEGIN:VCALENDAR
VERSION:2.0
PRODID:-//Szkoła Podstawowa nr 26 w Gdyni - ECPv6.15.17//NONSGML v1.0//EN
CALSCALE:GREGORIAN
METHOD:PUBLISH
X-WR-CALNAME:Szkoła Podstawowa nr 26 w Gdyni
X-ORIGINAL-URL:https://sp26gdynia.pl
X-WR-CALDESC:Wydarzenia dla Szkoła Podstawowa nr 26 w Gdyni
REFRESH-INTERVAL;VALUE=DURATION:PT1H
X-Robots-Tag:noindex
X-PUBLISHED-TTL:PT1H
BEGIN:VTIMEZONE
TZID:Europe/Warsaw
BEGIN:DAYLIGHT
TZOFFSETFROM:+0100
TZOFFSETTO:+0200
TZNAME:CEST
DTSTART:20180325T010000
END:DAYLIGHT
BEGIN:STANDARD
TZOFFSETFROM:+0200
TZOFFSETTO:+0100
TZNAME:CET
DTSTART:20181028T010000
END:STANDARD
BEGIN:DAYLIGHT
TZOFFSETFROM:+0100
TZOFFSETTO:+0200
TZNAME:CEST
DTSTART:20190331T010000
END:DAYLIGHT
BEGIN:STANDARD
TZOFFSETFROM:+0200
TZOFFSETTO:+0100
TZNAME:CET
DTSTART:20191027T010000
END:STANDARD
BEGIN:DAYLIGHT
TZOFFSETFROM:+0100
TZOFFSETTO:+0200
TZNAME:CEST
DTSTART:20200329T010000
END:DAYLIGHT
BEGIN:STANDARD
TZOFFSETFROM:+0200
TZOFFSETTO:+0100
TZNAME:CET
DTSTART:20201025T010000
END:STANDARD
END:VTIMEZONE
BEGIN:VEVENT
DTSTART;TZID=Europe/Warsaw:20191121T120000
DTEND;TZID=Europe/Warsaw:20191121T150000
DTSTAMP:20260424T100926
CREATED:20191108T084001Z
LAST-MODIFIED:20191108T084001Z
UID:15953-1574337600-1574348400@sp26gdynia.pl
SUMMARY:7b na warsztatach w Państwowej Galerii Sztuki w Sopocie
DESCRIPTION:
URL:https://sp26gdynia.pl/wydarzenie/7b-na-warsztatach-w-panstwowej-galerii-sztuki-w-sopocie/
CATEGORIES:Ważne wydarzenia
END:VEVENT
BEGIN:VEVENT
DTSTART;TZID=Europe/Warsaw:20191121T095000
DTEND;TZID=Europe/Warsaw:20191121T113000
DTSTAMP:20260424T100926
CREATED:20191108T083757Z
LAST-MODIFIED:20191108T083757Z
UID:15951-1574329800-1574335800@sp26gdynia.pl
SUMMARY:Odpowiedzialność karna za cyberprzemoc - warsztaty dla 6a i 6c
DESCRIPTION:
URL:https://sp26gdynia.pl/wydarzenie/odpowiedzialnosc-karna-za-cyberprzemoc-warsztaty-dla-6a-i-6c/
CATEGORIES:Ważne wydarzenia
END:VEVENT
BEGIN:VEVENT
DTSTART;VALUE=DATE:20191121
DTEND;VALUE=DATE:20191122
DTSTAMP:20260424T100926
CREATED:20191031T095041Z
LAST-MODIFIED:20191121T225825Z
UID:15540-1574294400-1574380799@sp26gdynia.pl
SUMMARY:Próbny  sprawdzian klasy 8 - język obcy nowożytny
DESCRIPTION:
URL:https://sp26gdynia.pl/wydarzenie/probny-sprawdzian-kl-8-jezyk-obcy-nowozytny/
CATEGORIES:Ważne wydarzenia
END:VEVENT
BEGIN:VEVENT
DTSTART;TZID=Europe/Warsaw:20191120T104500
DTEND;TZID=Europe/Warsaw:20191120T133000
DTSTAMP:20260424T100926
CREATED:20191108T083451Z
LAST-MODIFIED:20191108T083451Z
UID:15947-1574246700-1574256600@sp26gdynia.pl
SUMMARY:Wyjście do teatru - klasy 4a\, 5c
DESCRIPTION:
URL:https://sp26gdynia.pl/wydarzenie/wyjscie-do-teatru-klasy-4a-5c/
CATEGORIES:Ważne wydarzenia
END:VEVENT
BEGIN:VEVENT
DTSTART;TZID=Europe/Warsaw:20191120T080000
DTEND;TZID=Europe/Warsaw:20191120T084500
DTSTAMP:20260424T100926
CREATED:20191108T083154Z
LAST-MODIFIED:20191108T083302Z
UID:15945-1574236800-1574239500@sp26gdynia.pl
SUMMARY:Spotkanie integracyjne dla obcokrajowców
DESCRIPTION:
URL:https://sp26gdynia.pl/wydarzenie/spotkanie-integracyjne-dla-obcokrajowcow/
CATEGORIES:Ważne wydarzenia
END:VEVENT
BEGIN:VEVENT
DTSTART;VALUE=DATE:20191120
DTEND;VALUE=DATE:20191121
DTSTAMP:20260424T100926
CREATED:20191108T083549Z
LAST-MODIFIED:20191108T083549Z
UID:15949-1574208000-1574294399@sp26gdynia.pl
SUMMARY:6a na warsztatach w ZOO
DESCRIPTION:
URL:https://sp26gdynia.pl/wydarzenie/6a-na-warsztatach-w-zoo/
CATEGORIES:Ważne wydarzenia
END:VEVENT
BEGIN:VEVENT
DTSTART;VALUE=DATE:20191120
DTEND;VALUE=DATE:20191121
DTSTAMP:20260424T100926
CREATED:20191031T094333Z
LAST-MODIFIED:20191031T094333Z
UID:15538-1574208000-1574294399@sp26gdynia.pl
SUMMARY:PRÓBNY SPRAWDZIAN KL. 8 - MATEMATYKA
DESCRIPTION:
URL:https://sp26gdynia.pl/wydarzenie/probny-sprawdzian-kl-8-matematyka/
CATEGORIES:Ważne wydarzenia
END:VEVENT
BEGIN:VEVENT
DTSTART;VALUE=DATE:20191119
DTEND;VALUE=DATE:20191120
DTSTAMP:20260424T100926
CREATED:20191031T094232Z
LAST-MODIFIED:20191031T094249Z
UID:15536-1574121600-1574207999@sp26gdynia.pl
SUMMARY:PRÓBNY SPRAWDZIAN KL. 8 - JĘZYK POLSKI
DESCRIPTION:
URL:https://sp26gdynia.pl/wydarzenie/probny-sprawdzian-kl-8-jezyk-polski/
CATEGORIES:Ważne wydarzenia
END:VEVENT
BEGIN:VEVENT
DTSTART;TZID=Europe/Warsaw:20191118T080000
DTEND;TZID=Europe/Warsaw:20191118T170000
DTSTAMP:20260424T100926
CREATED:20191108T083022Z
LAST-MODIFIED:20191108T083022Z
UID:15943-1574064000-1574096400@sp26gdynia.pl
SUMMARY:Spotkanie z kolejarzem - klasy 0 -3
DESCRIPTION:
URL:https://sp26gdynia.pl/wydarzenie/spotkanie-z-kolejarzem-klasy-0-3-2/
CATEGORIES:Ważne wydarzenia
END:VEVENT
BEGIN:VEVENT
DTSTART;TZID=Europe/Warsaw:20191115T120000
DTEND;TZID=Europe/Warsaw:20191115T170000
DTSTAMP:20260424T100926
CREATED:20191104T183801Z
LAST-MODIFIED:20191104T183801Z
UID:15681-1573819200-1573837200@sp26gdynia.pl
SUMMARY:Świetlica szkolna - Dzień Tolerancji
DESCRIPTION:
URL:https://sp26gdynia.pl/wydarzenie/swietlica-szkolna-dzien-tolerancji/
CATEGORIES:Ważne wydarzenia
END:VEVENT
BEGIN:VEVENT
DTSTART;TZID=Europe/Warsaw:20191115T110000
DTEND;TZID=Europe/Warsaw:20191115T140000
DTSTAMP:20260424T100926
CREATED:20191031T100356Z
LAST-MODIFIED:20191115T002420Z
UID:15542-1573815600-1573826400@sp26gdynia.pl
SUMMARY:Gdyńskie forum nauczycieli chemii
DESCRIPTION:
URL:https://sp26gdynia.pl/wydarzenie/gdynskie-forum-nauczycieli-chemii-ul-wolnosci/
LOCATION:ul. Wolności 25
CATEGORIES:Ważne wydarzenia
END:VEVENT
BEGIN:VEVENT
DTSTART;TZID=Europe/Warsaw:20191114T080000
DTEND;TZID=Europe/Warsaw:20191114T170000
DTSTAMP:20260424T100926
CREATED:20191104T163754Z
LAST-MODIFIED:20191104T163754Z
UID:15670-1573718400-1573750800@sp26gdynia.pl
SUMMARY:Samorząd Uczniowski - Dzień Szalonych Fryzur
DESCRIPTION:
URL:https://sp26gdynia.pl/wydarzenie/samorzad-uczniowski-dzien-szalonych-fryzur/
CATEGORIES:Ważne wydarzenia
END:VEVENT
BEGIN:VEVENT
DTSTART;TZID=Europe/Warsaw:20191111T113000
DTEND;TZID=Europe/Warsaw:20191111T130000
DTSTAMP:20260424T100926
CREATED:20191111T082748Z
LAST-MODIFIED:20191108T084347Z
UID:15939-1573471800-1573477200@sp26gdynia.pl
SUMMARY:PARADA NIEPODLEGŁOŚCI
DESCRIPTION:
URL:https://sp26gdynia.pl/wydarzenie/parada-niepodleglosci/
CATEGORIES:Ważne wydarzenia
END:VEVENT
BEGIN:VEVENT
DTSTART;TZID=Europe/Warsaw:20191111T113000
DTEND;TZID=Europe/Warsaw:20191111T130000
DTSTAMP:20260424T100926
CREATED:20191108T093740Z
LAST-MODIFIED:20191108T093740Z
UID:15959-1573471800-1573477200@sp26gdynia.pl
SUMMARY:PARADA NIEPODLEGŁOŚCI
DESCRIPTION:
URL:https://sp26gdynia.pl/wydarzenie/parada-niepodleglosci-2/
CATEGORIES:Ważne wydarzenia
END:VEVENT
BEGIN:VEVENT
DTSTART;TZID=Europe/Warsaw:20191108T120000
DTEND;TZID=Europe/Warsaw:20191108T170000
DTSTAMP:20260424T100926
CREATED:20191104T183710Z
LAST-MODIFIED:20191104T183710Z
UID:15679-1573214400-1573232400@sp26gdynia.pl
SUMMARY:Świetlica szkolna - Europejski Dzień Zdrowego Jedzenia
DESCRIPTION:
URL:https://sp26gdynia.pl/wydarzenie/swietlica-szkolna-europejski-dzien-zdrowego-jedzenia/
CATEGORIES:Ważne wydarzenia
END:VEVENT
BEGIN:VEVENT
DTSTART;VALUE=DATE:20191108
DTEND;VALUE=DATE:20191109
DTSTAMP:20260424T100926
CREATED:20191108T082621Z
LAST-MODIFIED:20191108T082621Z
UID:15937-1573171200-1573257599@sp26gdynia.pl
SUMMARY:1a i 7b na zajęciach w ZOO
DESCRIPTION:
URL:https://sp26gdynia.pl/wydarzenie/1a-i-7b-na-zajeciach-w-zoo/
CATEGORIES:Ważne wydarzenia
END:VEVENT
BEGIN:VEVENT
DTSTART;TZID=Europe/Warsaw:20191107T140000
DTEND;TZID=Europe/Warsaw:20191107T150000
DTSTAMP:20260424T100926
CREATED:20191016T135424Z
LAST-MODIFIED:20191016T135424Z
UID:15026-1573135200-1573138800@sp26gdynia.pl
SUMMARY:INFORMATYKA - SZKOLNY KONKURS KURATORYJNY
DESCRIPTION:
URL:https://sp26gdynia.pl/wydarzenie/informatyka-szkolny-konkurs-kuratoryjny/
CATEGORIES:Ważne wydarzenia
END:VEVENT
BEGIN:VEVENT
DTSTART;TZID=Europe/Warsaw:20191107T090000
DTEND;TZID=Europe/Warsaw:20191107T120000
DTSTAMP:20260424T100926
CREATED:20190930T110139Z
LAST-MODIFIED:20191029T184032Z
UID:14236-1573117200-1573128000@sp26gdynia.pl
SUMMARY:Miejski Konkurs Piosenki i Poezji Patriotycznej
DESCRIPTION:
URL:https://sp26gdynia.pl/wydarzenie/miedzyszkolny-konkurs-piosenki-i-poezji-patriotycznej/
CATEGORIES:Ważne wydarzenia
END:VEVENT
BEGIN:VEVENT
DTSTART;TZID=Europe/Warsaw:20191107T085500
DTEND;TZID=Europe/Warsaw:20191107T094000
DTSTAMP:20260424T100926
CREATED:20191029T185200Z
LAST-MODIFIED:20191029T185452Z
UID:15433-1573116900-1573119600@sp26gdynia.pl
SUMMARY:Warsztaty dla 4a -  "Jem zdrowo"
DESCRIPTION:
URL:https://sp26gdynia.pl/wydarzenie/warsztaty-dla-4a-jem-zdrowo/
CATEGORIES:Ważne wydarzenia
END:VEVENT
BEGIN:VEVENT
DTSTART;TZID=Europe/Warsaw:20191105T140000
DTEND;TZID=Europe/Warsaw:20191105T150000
DTSTAMP:20260424T100926
CREATED:20191016T135143Z
LAST-MODIFIED:20191016T135143Z
UID:15020-1572962400-1572966000@sp26gdynia.pl
SUMMARY:CHEMIA - SZKOLNY KONKURS KURATORYJNY
DESCRIPTION:
URL:https://sp26gdynia.pl/wydarzenie/chemia-szkolny-konkurs-kuratoryjny/
CATEGORIES:Ważne wydarzenia
END:VEVENT
BEGIN:VEVENT
DTSTART;TZID=Europe/Warsaw:20191105T120000
DTEND;TZID=Europe/Warsaw:20191105T170000
DTSTAMP:20260424T100926
CREATED:20190925T143437Z
LAST-MODIFIED:20190925T143458Z
UID:14031-1572955200-1572973200@sp26gdynia.pl
SUMMARY:Świetlica - Dzień Postaci z Bajek
DESCRIPTION:
URL:https://sp26gdynia.pl/wydarzenie/dzien-postaci-z-bajek/
CATEGORIES:Ważne wydarzenia
END:VEVENT
BEGIN:VEVENT
DTSTART;TZID=Europe/Warsaw:20191105T080000
DTEND;TZID=Europe/Warsaw:20191105T140000
DTSTAMP:20260424T100926
CREATED:20191014T065714Z
LAST-MODIFIED:20191014T070016Z
UID:14890-1572940800-1572962400@sp26gdynia.pl
SUMMARY:Dzień Postaci z Bajek w szkolnej bibliotece
DESCRIPTION:
URL:https://sp26gdynia.pl/wydarzenie/dzien-postaci-z-bajek-w-szkolnej-bibliotece/
CATEGORIES:Ważne wydarzenia
END:VEVENT
BEGIN:VEVENT
DTSTART;VALUE=DATE:20191105
DTEND;VALUE=DATE:20191106
DTSTAMP:20260424T100926
CREATED:20191016T133434Z
LAST-MODIFIED:20191016T133434Z
UID:15005-1572912000-1572998399@sp26gdynia.pl
SUMMARY:Szkolne eliminacje do Konkursu Poezji i Piosenki Patriotycznej\, klasy 0 - 3
DESCRIPTION:
URL:https://sp26gdynia.pl/wydarzenie/szkolne-eliminacje-do-konkursu-poezji-i-piosenki-patriotycznej-klasy-0-3/
CATEGORIES:Ważne wydarzenia
END:VEVENT
BEGIN:VEVENT
DTSTART;VALUE=DATE:20191104
DTEND;VALUE=DATE:20191105
DTSTAMP:20260424T100926
CREATED:20191016T133329Z
LAST-MODIFIED:20191016T133329Z
UID:15003-1572825600-1572911999@sp26gdynia.pl
SUMMARY:Szkolne eliminacje do Konkursu Poezji i Piosenki Patriotycznej\, klasy 4 - 8
DESCRIPTION:
URL:https://sp26gdynia.pl/wydarzenie/szkolne-eliminacje-do-konkursu-poezji-i-piosenki-patriotycznej-klasy-4-8/
CATEGORIES:Ważne wydarzenia
END:VEVENT
BEGIN:VEVENT
DTSTART;TZID=Europe/Warsaw:20191031T120000
DTEND;TZID=Europe/Warsaw:20191031T170000
DTSTAMP:20260424T100926
CREATED:20191028T080505Z
LAST-MODIFIED:20191028T080505Z
UID:15362-1572523200-1572541200@sp26gdynia.pl
SUMMARY:Świetlica - Dzień Dyni
DESCRIPTION:
URL:https://sp26gdynia.pl/wydarzenie/swietlica-dzien-dyni/
CATEGORIES:Ważne wydarzenia
END:VEVENT
BEGIN:VEVENT
DTSTART;TZID=Europe/Warsaw:20191031T080000
DTEND;TZID=Europe/Warsaw:20191031T140000
DTSTAMP:20260424T100926
CREATED:20191031T115906Z
LAST-MODIFIED:20200217T092120Z
UID:15565-1572508800-1572530400@sp26gdynia.pl
SUMMARY:Biblioteka- wystawa książek "z dreszczykiem"\,  kodowanie\, sudoku i inne zabawy edukacyjne
DESCRIPTION:
URL:https://sp26gdynia.pl/wydarzenie/biblioteka-wystawa-ksiazek-z-dreszczykiem-kodowanie-sudoku-i-inne-zabawy-edukacyjne/
CATEGORIES:Ważne wydarzenia
END:VEVENT
BEGIN:VEVENT
DTSTART;TZID=Europe/Warsaw:20191025T140000
DTEND;TZID=Europe/Warsaw:20191025T150000
DTSTAMP:20260424T100926
CREATED:20191016T135226Z
LAST-MODIFIED:20191016T135226Z
UID:15022-1572012000-1572015600@sp26gdynia.pl
SUMMARY:HISTORIA - SZKOLNY KONKURS KURATORYJNY
DESCRIPTION:
URL:https://sp26gdynia.pl/wydarzenie/historia-szkolny-konkurs-kuratoryjny/
CATEGORIES:Ważne wydarzenia
END:VEVENT
BEGIN:VEVENT
DTSTART;TZID=Europe/Warsaw:20191025T120000
DTEND;TZID=Europe/Warsaw:20191025T170000
DTSTAMP:20260424T100926
CREATED:20191017T165607Z
LAST-MODIFIED:20191017T165607Z
UID:15107-1572004800-1572022800@sp26gdynia.pl
SUMMARY:Świetlica - Dzień Kundelka
DESCRIPTION:
URL:https://sp26gdynia.pl/wydarzenie/swietlica-dzien-kundelka/
CATEGORIES:Ważne wydarzenia
END:VEVENT
BEGIN:VEVENT
DTSTART;VALUE=DATE:20191025
DTEND;VALUE=DATE:20191026
DTSTAMP:20260424T100926
CREATED:20191022T205445Z
LAST-MODIFIED:20191022T205445Z
UID:15222-1571961600-1572047999@sp26gdynia.pl
SUMMARY:Szkoła pamięta
DESCRIPTION:
URL:https://sp26gdynia.pl/wydarzenie/szkola-pamieta/
CATEGORIES:Ważne wydarzenia
ATTACH;FMTTYPE=image/jpeg:https://sp26gdynia.pl/wp-content/uploads/2019/10/SzkolapamietaLOGOTYP.jpg
END:VEVENT
BEGIN:VEVENT
DTSTART;TZID=Europe/Warsaw:20191024T170000
DTEND;TZID=Europe/Warsaw:20191024T180000
DTSTAMP:20260424T100926
CREATED:20190930T105938Z
LAST-MODIFIED:20190930T105938Z
UID:14234-1571936400-1571940000@sp26gdynia.pl
SUMMARY:ZEBRANIE DLA RODZICÓW KLAS 8
DESCRIPTION:
URL:https://sp26gdynia.pl/wydarzenie/zebranie-dla-rodzicow-klas-8/
CATEGORIES:Ważne wydarzenia
END:VEVENT
END:VCALENDAR