BEGIN:VCALENDAR
VERSION:2.0
PRODID:-//Szkoła Podstawowa nr 26 w Gdyni - ECPv6.15.17//NONSGML v1.0//EN
CALSCALE:GREGORIAN
METHOD:PUBLISH
X-WR-CALNAME:Szkoła Podstawowa nr 26 w Gdyni
X-ORIGINAL-URL:https://sp26gdynia.pl
X-WR-CALDESC:Wydarzenia dla Szkoła Podstawowa nr 26 w Gdyni
REFRESH-INTERVAL;VALUE=DURATION:PT1H
X-Robots-Tag:noindex
X-PUBLISHED-TTL:PT1H
BEGIN:VTIMEZONE
TZID:Europe/Warsaw
BEGIN:DAYLIGHT
TZOFFSETFROM:+0100
TZOFFSETTO:+0200
TZNAME:CEST
DTSTART:20180325T010000
END:DAYLIGHT
BEGIN:STANDARD
TZOFFSETFROM:+0200
TZOFFSETTO:+0100
TZNAME:CET
DTSTART:20181028T010000
END:STANDARD
BEGIN:DAYLIGHT
TZOFFSETFROM:+0100
TZOFFSETTO:+0200
TZNAME:CEST
DTSTART:20190331T010000
END:DAYLIGHT
BEGIN:STANDARD
TZOFFSETFROM:+0200
TZOFFSETTO:+0100
TZNAME:CET
DTSTART:20191027T010000
END:STANDARD
BEGIN:DAYLIGHT
TZOFFSETFROM:+0100
TZOFFSETTO:+0200
TZNAME:CEST
DTSTART:20200329T010000
END:DAYLIGHT
BEGIN:STANDARD
TZOFFSETFROM:+0200
TZOFFSETTO:+0100
TZNAME:CET
DTSTART:20201025T010000
END:STANDARD
BEGIN:DAYLIGHT
TZOFFSETFROM:+0100
TZOFFSETTO:+0200
TZNAME:CEST
DTSTART:20210328T010000
END:DAYLIGHT
BEGIN:STANDARD
TZOFFSETFROM:+0200
TZOFFSETTO:+0100
TZNAME:CET
DTSTART:20211031T010000
END:STANDARD
END:VTIMEZONE
BEGIN:VEVENT
DTSTART;TZID=Europe/Warsaw:20200108T130000
DTEND;TZID=Europe/Warsaw:20200108T170000
DTSTAMP:20260424T051135
CREATED:20200108T141145Z
LAST-MODIFIED:20200108T141145Z
UID:17949-1578488400-1578502800@sp26gdynia.pl
SUMMARY:Świetlica - Dzień Elvisa Presleya
DESCRIPTION:
URL:https://sp26gdynia.pl/wydarzenie/swietlica-dzien-elvisa-presleya/
CATEGORIES:Ważne wydarzenia
END:VEVENT
BEGIN:VEVENT
DTSTART;VALUE=DATE:20200108
DTEND;VALUE=DATE:20200109
DTSTAMP:20260424T051135
CREATED:20191015T163236Z
LAST-MODIFIED:20191015T163236Z
UID:14974-1578441600-1578527999@sp26gdynia.pl
SUMMARY:RADA ZATWIERDZAJĄCA
DESCRIPTION:
URL:https://sp26gdynia.pl/wydarzenie/rada-zatwierdzajaca/
CATEGORIES:Ważne wydarzenia
END:VEVENT
BEGIN:VEVENT
DTSTART;VALUE=DATE:20200107
DTEND;VALUE=DATE:20200108
DTSTAMP:20260424T051135
CREATED:20191015T163155Z
LAST-MODIFIED:20191015T163155Z
UID:14972-1578355200-1578441599@sp26gdynia.pl
SUMMARY:RADA KLASYFIKACYJNA
DESCRIPTION:
URL:https://sp26gdynia.pl/wydarzenie/rada-klasyfikacyjna/
CATEGORIES:Ważne wydarzenia
END:VEVENT
BEGIN:VEVENT
DTSTART;VALUE=DATE:20200103
DTEND;VALUE=DATE:20200104
DTSTAMP:20260424T051135
CREATED:20191015T163113Z
LAST-MODIFIED:20191015T163113Z
UID:14970-1578009600-1578095999@sp26gdynia.pl
SUMMARY:WYSTAWIENIE WSZYSTKICH OCEN
DESCRIPTION:
URL:https://sp26gdynia.pl/wydarzenie/wystawienie-wszystkich-ocen/
CATEGORIES:Ważne wydarzenia
END:VEVENT
BEGIN:VEVENT
DTSTART;TZID=Europe/Warsaw:20191220T090000
DTEND;TZID=Europe/Warsaw:20191220T113000
DTSTAMP:20260424T051135
CREATED:20191205T165142Z
LAST-MODIFIED:20191205T165142Z
UID:17137-1576832400-1576841400@sp26gdynia.pl
SUMMARY:Spotkania świąteczne - dzień wolny od zajęć dydaktyczno - wychowawczych
DESCRIPTION:
URL:https://sp26gdynia.pl/wydarzenie/spotkania-swiateczne-dzien-wolny-od-zajec-dydaktyczno-wychowawczych/
CATEGORIES:Ważne wydarzenia
END:VEVENT
BEGIN:VEVENT
DTSTART;TZID=Europe/Warsaw:20191219T160000
DTEND;TZID=Europe/Warsaw:20191219T170000
DTSTAMP:20260424T051135
CREATED:20191205T164940Z
LAST-MODIFIED:20191213T182033Z
UID:17135-1576771200-1576774800@sp26gdynia.pl
SUMMARY:Świetlica - Jasełka
DESCRIPTION:
URL:https://sp26gdynia.pl/wydarzenie/przedstawienie-bozonarodzeniowe-w-swietlicy-szkolnej/
CATEGORIES:Ważne wydarzenia
END:VEVENT
BEGIN:VEVENT
DTSTART;TZID=Europe/Warsaw:20191217T170000
DTEND;TZID=Europe/Warsaw:20191217T183000
DTSTAMP:20260424T051135
CREATED:20191205T164726Z
LAST-MODIFIED:20191205T164726Z
UID:17133-1576602000-1576607400@sp26gdynia.pl
SUMMARY:Koncert świąteczny klas 0 - 3
DESCRIPTION:
URL:https://sp26gdynia.pl/wydarzenie/koncert-swiateczny-klas-0-3/
CATEGORIES:Ważne wydarzenia
END:VEVENT
BEGIN:VEVENT
DTSTART;TZID=Europe/Warsaw:20191216T080000
DTEND;TZID=Europe/Warsaw:20191216T170000
DTSTAMP:20260424T051135
CREATED:20191015T162947Z
LAST-MODIFIED:20191015T163028Z
UID:14968-1576483200-1576515600@sp26gdynia.pl
SUMMARY:WYSTAWIENIE PROPOZYCJI OCEN
DESCRIPTION:
URL:https://sp26gdynia.pl/wydarzenie/wystawienie-propozycji-ocen/
CATEGORIES:Ważne wydarzenia
END:VEVENT
BEGIN:VEVENT
DTSTART;TZID=Europe/Warsaw:20191211T094000
DTEND;TZID=Europe/Warsaw:20191211T113000
DTSTAMP:20260424T051135
CREATED:20191205T164607Z
LAST-MODIFIED:20191205T164607Z
UID:17131-1576057200-1576063800@sp26gdynia.pl
SUMMARY:6a - warsztaty o grafitti
DESCRIPTION:
URL:https://sp26gdynia.pl/wydarzenie/6a-warsztaty-o-grafitti/
CATEGORIES:Ważne wydarzenia
END:VEVENT
BEGIN:VEVENT
DTSTART;VALUE=DATE:20191211
DTEND;VALUE=DATE:20191212
DTSTAMP:20260424T051135
CREATED:20191015T162847Z
LAST-MODIFIED:20191015T162847Z
UID:14966-1576022400-1576108799@sp26gdynia.pl
SUMMARY:Wyjazd klas 5a\, 5b\, 6b i 7b do Filharmonii Bałtyckiej
DESCRIPTION:
URL:https://sp26gdynia.pl/wydarzenie/wyjazd-klas-5a-5b-6b-i-7b-do-filharmonii-baltyckiej/
CATEGORIES:Ważne wydarzenia
END:VEVENT
BEGIN:VEVENT
DTSTART;TZID=Europe/Warsaw:20191210T094000
DTEND;TZID=Europe/Warsaw:20191210T113000
DTSTAMP:20260424T051135
CREATED:20191205T164426Z
LAST-MODIFIED:20191205T164426Z
UID:17129-1575970800-1575977400@sp26gdynia.pl
SUMMARY:Pieszo i rowerem - warsztaty w 6b
DESCRIPTION:
URL:https://sp26gdynia.pl/wydarzenie/pieszo-i-rowerem-warsztaty-w-6b/
CATEGORIES:Ważne wydarzenia
END:VEVENT
BEGIN:VEVENT
DTSTART;VALUE=DATE:20191210
DTEND;VALUE=DATE:20191211
DTSTAMP:20260424T051135
CREATED:20191205T164318Z
LAST-MODIFIED:20191205T164318Z
UID:17127-1575936000-1576022399@sp26gdynia.pl
SUMMARY:2b - wyjście do kina
DESCRIPTION:
URL:https://sp26gdynia.pl/wydarzenie/2b-wyjscie-do-kina/
CATEGORIES:Ważne wydarzenia
END:VEVENT
BEGIN:VEVENT
DTSTART;TZID=Europe/Warsaw:20191209T115000
DTEND;TZID=Europe/Warsaw:20191209T133000
DTSTAMP:20260424T051135
CREATED:20191205T164217Z
LAST-MODIFIED:20191205T164217Z
UID:17125-1575892200-1575898200@sp26gdynia.pl
SUMMARY:4a na warsztatach w Info Box
DESCRIPTION:
URL:https://sp26gdynia.pl/wydarzenie/4a-na-warsztatach-w-info-box/
CATEGORIES:Ważne wydarzenia
END:VEVENT
BEGIN:VEVENT
DTSTART;TZID=Europe/Warsaw:20191206T120000
DTEND;TZID=Europe/Warsaw:20191206T170000
DTSTAMP:20260424T051135
CREATED:20191129T194136Z
LAST-MODIFIED:20191129T194136Z
UID:16888-1575633600-1575651600@sp26gdynia.pl
SUMMARY:Mikołajki w świetlicy
DESCRIPTION:
URL:https://sp26gdynia.pl/wydarzenie/mikolajki-w-swietlicy-2/
CATEGORIES:Ważne wydarzenia
END:VEVENT
BEGIN:VEVENT
DTSTART;VALUE=DATE:20191206
DTEND;VALUE=DATE:20191207
DTSTAMP:20260424T051135
CREATED:20191125T214255Z
LAST-MODIFIED:20191125T214255Z
UID:16596-1575590400-1575676799@sp26gdynia.pl
SUMMARY:Warsztaty w IOPAN klasa 8A
DESCRIPTION:
URL:https://sp26gdynia.pl/wydarzenie/warsztaty-w-iopan-klasa-8a/
CATEGORIES:Ważne wydarzenia
END:VEVENT
BEGIN:VEVENT
DTSTART;VALUE=DATE:20191205
DTEND;VALUE=DATE:20191206
DTSTAMP:20260424T051135
CREATED:20191015T161806Z
LAST-MODIFIED:20191205T144047Z
UID:14962-1575504000-1575590399@sp26gdynia.pl
SUMMARY:Termin wystawienia propozycji ocen niedostatecznych oraz nagannych i nieodpowiednich z zachowania
DESCRIPTION:
URL:https://sp26gdynia.pl/wydarzenie/termin-wystawienia-propozycji-ocen-niedostatecznych-i-nagannych-z-zachowania/
CATEGORIES:Ważne wydarzenia
END:VEVENT
BEGIN:VEVENT
DTSTART;TZID=Europe/Warsaw:20191204T080000
DTEND;TZID=Europe/Warsaw:20191204T113000
DTSTAMP:20260424T051135
CREATED:20191015T161658Z
LAST-MODIFIED:20191015T161658Z
UID:14960-1575446400-1575459000@sp26gdynia.pl
SUMMARY:Warsztaty czytelnicze dla klasy 4a i 5abc
DESCRIPTION:
URL:https://sp26gdynia.pl/wydarzenie/warsztaty-czytelnicze-dla-klasy-4a-i-5abc/
CATEGORIES:Ważne wydarzenia
END:VEVENT
BEGIN:VEVENT
DTSTART;TZID=Europe/Warsaw:20191203T080000
DTEND;TZID=Europe/Warsaw:20191203T123000
DTSTAMP:20260424T051135
CREATED:20191015T161549Z
LAST-MODIFIED:20191015T161549Z
UID:14958-1575360000-1575376200@sp26gdynia.pl
SUMMARY:Warsztaty czytelnicze dla klas 0\, 1 i 3
DESCRIPTION:
URL:https://sp26gdynia.pl/wydarzenie/warsztaty-czytelnicze-dla-klas-0-1-i-3/
CATEGORIES:Ważne wydarzenia
END:VEVENT
BEGIN:VEVENT
DTSTART;TZID=Europe/Warsaw:20191129T120000
DTEND;TZID=Europe/Warsaw:20191129T170000
DTSTAMP:20260424T051135
CREATED:20191104T183913Z
LAST-MODIFIED:20191107T190534Z
UID:15685-1575028800-1575046800@sp26gdynia.pl
SUMMARY:Świetlica szkolna - Dyskoteka andrzejkowa
DESCRIPTION:
URL:https://sp26gdynia.pl/wydarzenie/swietlica-szkolna-andrzejki/
CATEGORIES:Ważne wydarzenia
END:VEVENT
BEGIN:VEVENT
DTSTART;TZID=Europe/Warsaw:20191129T080000
DTEND;TZID=Europe/Warsaw:20191129T140000
DTSTAMP:20260424T051135
CREATED:20191129T073848Z
LAST-MODIFIED:20200217T092025Z
UID:16854-1575014400-1575036000@sp26gdynia.pl
SUMMARY:Andrzejkowe wróżby w bibliotece
DESCRIPTION:
URL:https://sp26gdynia.pl/wydarzenie/andrzejkowe-wrozby-w-bibliotece/
CATEGORIES:Ważne wydarzenia
END:VEVENT
BEGIN:VEVENT
DTSTART;VALUE=DATE:20191129
DTEND;VALUE=DATE:20191130
DTSTAMP:20260424T051135
CREATED:20191024T200320Z
LAST-MODIFIED:20191024T200320Z
UID:15233-1574985600-1575071999@sp26gdynia.pl
SUMMARY:Warsztaty Sopot klasa IV A
DESCRIPTION:
URL:https://sp26gdynia.pl/wydarzenie/warsztaty-sopot-klasa-iv-a/
CATEGORIES:Ważne wydarzenia
END:VEVENT
BEGIN:VEVENT
DTSTART;TZID=Europe/Warsaw:20191128T170000
DTEND;TZID=Europe/Warsaw:20191128T190000
DTSTAMP:20260424T051135
CREATED:20191107T190427Z
LAST-MODIFIED:20191107T190427Z
UID:15920-1574960400-1574967600@sp26gdynia.pl
SUMMARY:Dyskoteka andrzejkowa dla klas 4-8
DESCRIPTION:
URL:https://sp26gdynia.pl/wydarzenie/dyskoteka-andrzejkowa-dla-klas-4-8/
CATEGORIES:Ważne wydarzenia
END:VEVENT
BEGIN:VEVENT
DTSTART;TZID=Europe/Warsaw:20191128T104500
DTEND;TZID=Europe/Warsaw:20191128T113000
DTSTAMP:20260424T051135
CREATED:20191029T190347Z
LAST-MODIFIED:20191104T112912Z
UID:15438-1574937900-1574940600@sp26gdynia.pl
SUMMARY:PODSUMOWANIE TYGODNIA MALTAŃSKIEGO
DESCRIPTION:
URL:https://sp26gdynia.pl/wydarzenie/podsumowanie-tygodnia-albanskiego-2/
CATEGORIES:Ważne wydarzenia
END:VEVENT
BEGIN:VEVENT
DTSTART;TZID=Europe/Warsaw:20191128T090000
DTEND;TZID=Europe/Warsaw:20191128T100000
DTSTAMP:20260424T051135
CREATED:20191015T161428Z
LAST-MODIFIED:20191015T161444Z
UID:14956-1574931600-1574935200@sp26gdynia.pl
SUMMARY:WOJEWÓDZKI KONKURS ORTOGRAFICZNY KL. 3
DESCRIPTION:
URL:https://sp26gdynia.pl/wydarzenie/wojewodzki-konkurs-ortograficzny-kl-3/
CATEGORIES:Ważne wydarzenia
END:VEVENT
BEGIN:VEVENT
DTSTART;TZID=Europe/Warsaw:20191127T085500
DTEND;TZID=Europe/Warsaw:20191127T123500
DTSTAMP:20260424T051135
CREATED:20191029T190949Z
LAST-MODIFIED:20191029T191020Z
UID:15440-1574844900-1574858100@sp26gdynia.pl
SUMMARY:CYFROWO BEZPIECZNI - warsztaty dla 7a 7b 5a 5b 5c
DESCRIPTION:
URL:https://sp26gdynia.pl/wydarzenie/cyfrowo-bezpieczni-warsztaty-dla-7a-7b-5a-5b-5c/
CATEGORIES:Ważne wydarzenia
END:VEVENT
BEGIN:VEVENT
DTSTART;TZID=Europe/Warsaw:20191126T210000
DTEND;TZID=Europe/Warsaw:20191126T230000
DTSTAMP:20260424T051135
CREATED:20191126T134949Z
LAST-MODIFIED:20191126T134949Z
UID:16673-1574802000-1574809200@sp26gdynia.pl
SUMMARY:Premiera spektaklu "Lilje" - Ogólnopolski Przegląd Teatrów Amatorskich "Kurtyna"
DESCRIPTION:
URL:https://sp26gdynia.pl/wydarzenie/premiera-spektaklu-lilje-ogolnopolski-przeglad-teatrow-amatorskich-kurtyna/
CATEGORIES:Ważne wydarzenia
END:VEVENT
BEGIN:VEVENT
DTSTART;TZID=Europe/Warsaw:20191125T120000
DTEND;TZID=Europe/Warsaw:20191125T170000
DTSTAMP:20260424T051135
CREATED:20190925T143345Z
LAST-MODIFIED:20190925T143345Z
UID:14029-1574683200-1574701200@sp26gdynia.pl
SUMMARY:Świetlica - Dzień Pluszowego Misia
DESCRIPTION:
URL:https://sp26gdynia.pl/wydarzenie/swietlica-dzien-pluszowego-misia/
CATEGORIES:Ważne wydarzenia
END:VEVENT
BEGIN:VEVENT
DTSTART;TZID=Europe/Warsaw:20191125T080000
DTEND;TZID=Europe/Warsaw:20191125T140000
DTSTAMP:20260424T051135
CREATED:20191014T065845Z
LAST-MODIFIED:20191014T065956Z
UID:14893-1574668800-1574690400@sp26gdynia.pl
SUMMARY:Dzień Pluszowego Misia w bibliotece
DESCRIPTION:
URL:https://sp26gdynia.pl/wydarzenie/dzien-pluszowego-misia-w-bibliotece-2/
CATEGORIES:Ważne wydarzenia
END:VEVENT
BEGIN:VEVENT
DTSTART;TZID=Europe/Warsaw:20191122T120000
DTEND;TZID=Europe/Warsaw:20191122T170000
DTSTAMP:20260424T051135
CREATED:20191104T183837Z
LAST-MODIFIED:20191104T183837Z
UID:15683-1574424000-1574442000@sp26gdynia.pl
SUMMARY:Świetlica szkolna - Dzień Kredki
DESCRIPTION:
URL:https://sp26gdynia.pl/wydarzenie/swietlica-szkolna-dzien-kredki/
CATEGORIES:Ważne wydarzenia
END:VEVENT
BEGIN:VEVENT
DTSTART;TZID=Europe/Warsaw:20191122T080000
DTEND;TZID=Europe/Warsaw:20191122T170000
DTSTAMP:20260424T051135
CREATED:20191108T084105Z
LAST-MODIFIED:20191108T084105Z
UID:15955-1574409600-1574442000@sp26gdynia.pl
SUMMARY:Sesja zdjęciowa dla chętnych uczniów
DESCRIPTION:
URL:https://sp26gdynia.pl/wydarzenie/sesja-zdjeciowa-dla-chetnych-uczniow/
CATEGORIES:Ważne wydarzenia
END:VEVENT
END:VCALENDAR