BEGIN:VCALENDAR
VERSION:2.0
PRODID:-//Szkoła Podstawowa nr 26 w Gdyni - ECPv6.15.17//NONSGML v1.0//EN
CALSCALE:GREGORIAN
METHOD:PUBLISH
X-ORIGINAL-URL:https://sp26gdynia.pl
X-WR-CALDESC:Wydarzenia dla Szkoła Podstawowa nr 26 w Gdyni
REFRESH-INTERVAL;VALUE=DURATION:PT1H
X-Robots-Tag:noindex
X-PUBLISHED-TTL:PT1H
BEGIN:VTIMEZONE
TZID:Europe/Warsaw
BEGIN:DAYLIGHT
TZOFFSETFROM:+0100
TZOFFSETTO:+0200
TZNAME:CEST
DTSTART:20180325T010000
END:DAYLIGHT
BEGIN:STANDARD
TZOFFSETFROM:+0200
TZOFFSETTO:+0100
TZNAME:CET
DTSTART:20181028T010000
END:STANDARD
BEGIN:DAYLIGHT
TZOFFSETFROM:+0100
TZOFFSETTO:+0200
TZNAME:CEST
DTSTART:20190331T010000
END:DAYLIGHT
BEGIN:STANDARD
TZOFFSETFROM:+0200
TZOFFSETTO:+0100
TZNAME:CET
DTSTART:20191027T010000
END:STANDARD
BEGIN:DAYLIGHT
TZOFFSETFROM:+0100
TZOFFSETTO:+0200
TZNAME:CEST
DTSTART:20200329T010000
END:DAYLIGHT
BEGIN:STANDARD
TZOFFSETFROM:+0200
TZOFFSETTO:+0100
TZNAME:CET
DTSTART:20201025T010000
END:STANDARD
BEGIN:DAYLIGHT
TZOFFSETFROM:+0100
TZOFFSETTO:+0200
TZNAME:CEST
DTSTART:20210328T010000
END:DAYLIGHT
BEGIN:STANDARD
TZOFFSETFROM:+0200
TZOFFSETTO:+0100
TZNAME:CET
DTSTART:20211031T010000
END:STANDARD
END:VTIMEZONE
BEGIN:VEVENT
DTSTART;TZID=Europe/Warsaw:20200221T170000
DTEND;TZID=Europe/Warsaw:20200221T190000
DTSTAMP:20260424T020933
CREATED:20200109T100144Z
LAST-MODIFIED:20200109T100144Z
UID:18038-1582304400-1582311600@sp26gdynia.pl
SUMMARY:Dyskoteka karnawałowa 4-8
DESCRIPTION:
URL:https://sp26gdynia.pl/wydarzenie/dyskoteka-karnawalowa-4-8/
CATEGORIES:Ważne wydarzenia
END:VEVENT
BEGIN:VEVENT
DTSTART;TZID=Europe/Warsaw:20200220T080000
DTEND;TZID=Europe/Warsaw:20200220T140000
DTSTAMP:20260424T020933
CREATED:20200220T113246Z
LAST-MODIFIED:20200220T113246Z
UID:19345-1582185600-1582207200@sp26gdynia.pl
SUMMARY:Biblioteka- zwyczaje karnawałowe
DESCRIPTION:
URL:https://sp26gdynia.pl/wydarzenie/biblioteka-zwyczaje-karnawalowe/
CATEGORIES:Ważne wydarzenia
END:VEVENT
BEGIN:VEVENT
DTSTART;TZID=Europe/Warsaw:20200219T133000
DTEND;TZID=Europe/Warsaw:20200219T150000
DTSTAMP:20260424T020933
CREATED:20200109T100053Z
LAST-MODIFIED:20200109T100053Z
UID:18036-1582119000-1582124400@sp26gdynia.pl
SUMMARY:Świetlica szkolna - dyskoteka karnawałowa
DESCRIPTION:
URL:https://sp26gdynia.pl/wydarzenie/swietlica-szkolna-dyskoteka-karnawalowa/
CATEGORIES:Ważne wydarzenia
END:VEVENT
BEGIN:VEVENT
DTSTART;TZID=Europe/Warsaw:20200219T100000
DTEND;TZID=Europe/Warsaw:20200219T130000
DTSTAMP:20260424T020933
CREATED:20200210T131324Z
LAST-MODIFIED:20200210T131324Z
UID:18780-1582106400-1582117200@sp26gdynia.pl
SUMMARY:6a\, 6b\, 6c - wyjście na  lodowisko miejskie
DESCRIPTION:
URL:https://sp26gdynia.pl/wydarzenie/6a-6b-6c-wyjscie-na-lodowisko-miejskie/
CATEGORIES:Ważne wydarzenia
END:VEVENT
BEGIN:VEVENT
DTSTART;TZID=Europe/Warsaw:20200218T140000
DTEND;TZID=Europe/Warsaw:20200218T153000
DTSTAMP:20260424T020933
CREATED:20200210T132033Z
LAST-MODIFIED:20200210T132033Z
UID:18788-1582034400-1582039800@sp26gdynia.pl
SUMMARY:Konkurs ortograficzny dla klas 3. - Mistrz Ortografii Junior
DESCRIPTION:
URL:https://sp26gdynia.pl/wydarzenie/konkurs-ortograficzny-dla-klas-3-mistrz-ortografii-junior/
CATEGORIES:Ważne wydarzenia
END:VEVENT
BEGIN:VEVENT
DTSTART;TZID=Europe/Warsaw:20200217T130000
DTEND;TZID=Europe/Warsaw:20200217T170000
DTSTAMP:20260424T020933
CREATED:20200108T141720Z
LAST-MODIFIED:20200108T141720Z
UID:17957-1581944400-1581958800@sp26gdynia.pl
SUMMARY:Świetlica szkolna - Dzień Kota
DESCRIPTION:
URL:https://sp26gdynia.pl/wydarzenie/swietlica-szkolna-dzien-kota/
CATEGORIES:Ważne wydarzenia
END:VEVENT
BEGIN:VEVENT
DTSTART;TZID=Europe/Warsaw:20200217T080000
DTEND;TZID=Europe/Warsaw:20200217T140000
DTSTAMP:20260424T020933
CREATED:20200217T091032Z
LAST-MODIFIED:20200217T091826Z
UID:19166-1581926400-1581948000@sp26gdynia.pl
SUMMARY:Dzień Kota w bibliotece
DESCRIPTION:
URL:https://sp26gdynia.pl/wydarzenie/dzien-kota-w-bibliotece/
CATEGORIES:Ważne wydarzenia
END:VEVENT
BEGIN:VEVENT
DTSTART;TZID=Europe/Warsaw:20200214T080000
DTEND;TZID=Europe/Warsaw:20200214T170000
DTSTAMP:20260424T020933
CREATED:20200108T141639Z
LAST-MODIFIED:20200108T141639Z
UID:17955-1581667200-1581699600@sp26gdynia.pl
SUMMARY:Świetlica szkolna - Walentynki
DESCRIPTION:
URL:https://sp26gdynia.pl/wydarzenie/swietlica-szkolna-walentynki/
CATEGORIES:Ważne wydarzenia
END:VEVENT
BEGIN:VEVENT
DTSTART;TZID=Europe/Warsaw:20200214T080000
DTEND;TZID=Europe/Warsaw:20200214T120000
DTSTAMP:20260424T020933
CREATED:20200213T105123Z
LAST-MODIFIED:20200217T091923Z
UID:18990-1581667200-1581681600@sp26gdynia.pl
SUMMARY:Walentynkowa randka z książką w bibliotece! Zakochaj się w czytaniu!
DESCRIPTION:
URL:https://sp26gdynia.pl/wydarzenie/walentynkowa-randka-z-ksiazka-w-bibliotece-zakochaj-sie-w-czytaniu/
CATEGORIES:Ważne wydarzenia
END:VEVENT
BEGIN:VEVENT
DTSTART;TZID=Europe/Warsaw:20200213T130000
DTEND;TZID=Europe/Warsaw:20200213T170000
DTSTAMP:20260424T020933
CREATED:20200108T141558Z
LAST-MODIFIED:20200108T141558Z
UID:17953-1581598800-1581613200@sp26gdynia.pl
SUMMARY:Świetlica szkolna - Dzień Carlosa Santany
DESCRIPTION:
URL:https://sp26gdynia.pl/wydarzenie/swietlica-szkolna-dzien-carlosa-santany/
CATEGORIES:Ważne wydarzenia
END:VEVENT
BEGIN:VEVENT
DTSTART;TZID=Europe/Warsaw:20200213T100000
DTEND;TZID=Europe/Warsaw:20200213T130000
DTSTAMP:20260424T020933
CREATED:20200210T131124Z
LAST-MODIFIED:20200210T131124Z
UID:18778-1581588000-1581598800@sp26gdynia.pl
SUMMARY:5 b w Airspace
DESCRIPTION:
URL:https://sp26gdynia.pl/wydarzenie/5-b-w-airspace/
CATEGORIES:Ważne wydarzenia
END:VEVENT
BEGIN:VEVENT
DTSTART;TZID=Europe/Warsaw:20200213T090000
DTEND;TZID=Europe/Warsaw:20200213T110000
DTSTAMP:20260424T020933
CREATED:20200210T131038Z
LAST-MODIFIED:20200210T131038Z
UID:18776-1581584400-1581591600@sp26gdynia.pl
SUMMARY:Bal karnawałowy dla klas 0 -3
DESCRIPTION:
URL:https://sp26gdynia.pl/wydarzenie/bal-karnawalowy-dla-klas-0-3/
CATEGORIES:Ważne wydarzenia
END:VEVENT
BEGIN:VEVENT
DTSTART;TZID=Europe/Warsaw:20200211T095000
DTEND;TZID=Europe/Warsaw:20200211T103500
DTSTAMP:20260424T020933
CREATED:20200210T130933Z
LAST-MODIFIED:20200210T130933Z
UID:18774-1581414600-1581417300@sp26gdynia.pl
SUMMARY:Lekcja muzyki dla klas 0 -3
DESCRIPTION:
URL:https://sp26gdynia.pl/wydarzenie/lekcja-muzyki-dla-klas-0-3-2/
CATEGORIES:Ważne wydarzenia
END:VEVENT
BEGIN:VEVENT
DTSTART;VALUE=DATE:20200211
DTEND;VALUE=DATE:20200212
DTSTAMP:20260424T020933
CREATED:20200207T113914Z
LAST-MODIFIED:20200217T091858Z
UID:18737-1581379200-1581465599@sp26gdynia.pl
SUMMARY:Biblioteka - Dzień Bezpiecznego Internetu
DESCRIPTION:
URL:https://sp26gdynia.pl/wydarzenie/biblioteka-dzien-bezpiecznego-internetu/
CATEGORIES:Ważne wydarzenia
END:VEVENT
BEGIN:VEVENT
DTSTART;TZID=Europe/Warsaw:20200205T090000
DTEND;TZID=Europe/Warsaw:20200205T120000
DTSTAMP:20260424T020933
CREATED:20200203T130240Z
LAST-MODIFIED:20200217T091748Z
UID:18444-1580893200-1580904000@sp26gdynia.pl
SUMMARY:Uroczyste pasowanie na czytelnika uczniów klas pierwszych
DESCRIPTION:
URL:https://sp26gdynia.pl/wydarzenie/uroczyste-pasowanie-na-czytelnika-uczniow-klas-pierwszych/
CATEGORIES:Ważne wydarzenia
END:VEVENT
BEGIN:VEVENT
DTSTART;VALUE=DATE:20200127
DTEND;VALUE=DATE:20200128
DTSTAMP:20260424T020933
CREATED:20191015T163912Z
LAST-MODIFIED:20191015T163912Z
UID:14989-1580083200-1580169599@sp26gdynia.pl
SUMMARY:początek II semestru
DESCRIPTION:
URL:https://sp26gdynia.pl/wydarzenie/poczatek-ii-semestru/
CATEGORIES:Ważne wydarzenia
END:VEVENT
BEGIN:VEVENT
DTSTART;VALUE=DATE:20200113
DTEND;VALUE=DATE:20200127
DTSTAMP:20260424T020933
CREATED:20191015T163809Z
LAST-MODIFIED:20191015T163825Z
UID:14986-1578873600-1580083199@sp26gdynia.pl
SUMMARY:FERIE ZIMOWE
DESCRIPTION:
URL:https://sp26gdynia.pl/wydarzenie/ferie-zimowe-3/
CATEGORIES:Ważne wydarzenia
END:VEVENT
BEGIN:VEVENT
DTSTART;VALUE=DATE:20200110
DTEND;VALUE=DATE:20200111
DTSTAMP:20260424T020933
CREATED:20191015T163702Z
LAST-MODIFIED:20191015T163702Z
UID:14984-1578614400-1578700799@sp26gdynia.pl
SUMMARY:koniec I semestru
DESCRIPTION:
URL:https://sp26gdynia.pl/wydarzenie/koniec-i-semestru/
CATEGORIES:Ważne wydarzenia
END:VEVENT
BEGIN:VEVENT
DTSTART;TZID=Europe/Warsaw:20200109T170000
DTEND;TZID=Europe/Warsaw:20200109T180000
DTSTAMP:20260424T020933
CREATED:20191015T163532Z
LAST-MODIFIED:20191216T142058Z
UID:14980-1578589200-1578592800@sp26gdynia.pl
SUMMARY:ZEBRANIE DLA RODZICÓW KLAS 4 - 8
DESCRIPTION:
URL:https://sp26gdynia.pl/wydarzenie/zebranie-dla-rodzicow-klas-4-8/
CATEGORIES:Ważne wydarzenia
END:VEVENT
BEGIN:VEVENT
DTSTART;TZID=Europe/Warsaw:20200108T170000
DTEND;TZID=Europe/Warsaw:20200108T180000
DTSTAMP:20260424T020933
CREATED:20191015T163333Z
LAST-MODIFIED:20191216T142024Z
UID:14976-1578502800-1578506400@sp26gdynia.pl
SUMMARY:ZEBRANIE DLA RODZICÓW KLAS 1 - 3
DESCRIPTION:
URL:https://sp26gdynia.pl/wydarzenie/zebranie-dla-klas-0-3/
CATEGORIES:Ważne wydarzenia
END:VEVENT
BEGIN:VEVENT
DTSTART;TZID=Europe/Warsaw:20200108T130000
DTEND;TZID=Europe/Warsaw:20200108T170000
DTSTAMP:20260424T020933
CREATED:20200108T141145Z
LAST-MODIFIED:20200108T141145Z
UID:17949-1578488400-1578502800@sp26gdynia.pl
SUMMARY:Świetlica - Dzień Elvisa Presleya
DESCRIPTION:
URL:https://sp26gdynia.pl/wydarzenie/swietlica-dzien-elvisa-presleya/
CATEGORIES:Ważne wydarzenia
END:VEVENT
BEGIN:VEVENT
DTSTART;VALUE=DATE:20200108
DTEND;VALUE=DATE:20200109
DTSTAMP:20260424T020933
CREATED:20191015T163236Z
LAST-MODIFIED:20191015T163236Z
UID:14974-1578441600-1578527999@sp26gdynia.pl
SUMMARY:RADA ZATWIERDZAJĄCA
DESCRIPTION:
URL:https://sp26gdynia.pl/wydarzenie/rada-zatwierdzajaca/
CATEGORIES:Ważne wydarzenia
END:VEVENT
BEGIN:VEVENT
DTSTART;VALUE=DATE:20200107
DTEND;VALUE=DATE:20200108
DTSTAMP:20260424T020934
CREATED:20191015T163155Z
LAST-MODIFIED:20191015T163155Z
UID:14972-1578355200-1578441599@sp26gdynia.pl
SUMMARY:RADA KLASYFIKACYJNA
DESCRIPTION:
URL:https://sp26gdynia.pl/wydarzenie/rada-klasyfikacyjna/
CATEGORIES:Ważne wydarzenia
END:VEVENT
BEGIN:VEVENT
DTSTART;VALUE=DATE:20200103
DTEND;VALUE=DATE:20200104
DTSTAMP:20260424T020934
CREATED:20191015T163113Z
LAST-MODIFIED:20191015T163113Z
UID:14970-1578009600-1578095999@sp26gdynia.pl
SUMMARY:WYSTAWIENIE WSZYSTKICH OCEN
DESCRIPTION:
URL:https://sp26gdynia.pl/wydarzenie/wystawienie-wszystkich-ocen/
CATEGORIES:Ważne wydarzenia
END:VEVENT
BEGIN:VEVENT
DTSTART;TZID=Europe/Warsaw:20191220T090000
DTEND;TZID=Europe/Warsaw:20191220T113000
DTSTAMP:20260424T020934
CREATED:20191205T165142Z
LAST-MODIFIED:20191205T165142Z
UID:17137-1576832400-1576841400@sp26gdynia.pl
SUMMARY:Spotkania świąteczne - dzień wolny od zajęć dydaktyczno - wychowawczych
DESCRIPTION:
URL:https://sp26gdynia.pl/wydarzenie/spotkania-swiateczne-dzien-wolny-od-zajec-dydaktyczno-wychowawczych/
CATEGORIES:Ważne wydarzenia
END:VEVENT
BEGIN:VEVENT
DTSTART;TZID=Europe/Warsaw:20191219T160000
DTEND;TZID=Europe/Warsaw:20191219T170000
DTSTAMP:20260424T020934
CREATED:20191205T164940Z
LAST-MODIFIED:20191213T182033Z
UID:17135-1576771200-1576774800@sp26gdynia.pl
SUMMARY:Świetlica - Jasełka
DESCRIPTION:
URL:https://sp26gdynia.pl/wydarzenie/przedstawienie-bozonarodzeniowe-w-swietlicy-szkolnej/
CATEGORIES:Ważne wydarzenia
END:VEVENT
BEGIN:VEVENT
DTSTART;TZID=Europe/Warsaw:20191217T170000
DTEND;TZID=Europe/Warsaw:20191217T183000
DTSTAMP:20260424T020934
CREATED:20191205T164726Z
LAST-MODIFIED:20191205T164726Z
UID:17133-1576602000-1576607400@sp26gdynia.pl
SUMMARY:Koncert świąteczny klas 0 - 3
DESCRIPTION:
URL:https://sp26gdynia.pl/wydarzenie/koncert-swiateczny-klas-0-3/
CATEGORIES:Ważne wydarzenia
END:VEVENT
BEGIN:VEVENT
DTSTART;TZID=Europe/Warsaw:20191216T080000
DTEND;TZID=Europe/Warsaw:20191216T170000
DTSTAMP:20260424T020934
CREATED:20191015T162947Z
LAST-MODIFIED:20191015T163028Z
UID:14968-1576483200-1576515600@sp26gdynia.pl
SUMMARY:WYSTAWIENIE PROPOZYCJI OCEN
DESCRIPTION:
URL:https://sp26gdynia.pl/wydarzenie/wystawienie-propozycji-ocen/
CATEGORIES:Ważne wydarzenia
END:VEVENT
BEGIN:VEVENT
DTSTART;TZID=Europe/Warsaw:20191211T094000
DTEND;TZID=Europe/Warsaw:20191211T113000
DTSTAMP:20260424T020934
CREATED:20191205T164607Z
LAST-MODIFIED:20191205T164607Z
UID:17131-1576057200-1576063800@sp26gdynia.pl
SUMMARY:6a - warsztaty o grafitti
DESCRIPTION:
URL:https://sp26gdynia.pl/wydarzenie/6a-warsztaty-o-grafitti/
CATEGORIES:Ważne wydarzenia
END:VEVENT
BEGIN:VEVENT
DTSTART;VALUE=DATE:20191211
DTEND;VALUE=DATE:20191212
DTSTAMP:20260424T020934
CREATED:20191015T162847Z
LAST-MODIFIED:20191015T162847Z
UID:14966-1576022400-1576108799@sp26gdynia.pl
SUMMARY:Wyjazd klas 5a\, 5b\, 6b i 7b do Filharmonii Bałtyckiej
DESCRIPTION:
URL:https://sp26gdynia.pl/wydarzenie/wyjazd-klas-5a-5b-6b-i-7b-do-filharmonii-baltyckiej/
CATEGORIES:Ważne wydarzenia
END:VEVENT
END:VCALENDAR