BEGIN:VCALENDAR
VERSION:2.0
PRODID:-//Szkoła Podstawowa nr 26 w Gdyni - ECPv6.15.17//NONSGML v1.0//EN
CALSCALE:GREGORIAN
METHOD:PUBLISH
X-WR-CALNAME:Szkoła Podstawowa nr 26 w Gdyni
X-ORIGINAL-URL:https://sp26gdynia.pl
X-WR-CALDESC:Wydarzenia dla Szkoła Podstawowa nr 26 w Gdyni
REFRESH-INTERVAL;VALUE=DURATION:PT1H
X-Robots-Tag:noindex
X-PUBLISHED-TTL:PT1H
BEGIN:VTIMEZONE
TZID:Europe/Warsaw
BEGIN:DAYLIGHT
TZOFFSETFROM:+0100
TZOFFSETTO:+0200
TZNAME:CEST
DTSTART:20190331T010000
END:DAYLIGHT
BEGIN:STANDARD
TZOFFSETFROM:+0200
TZOFFSETTO:+0100
TZNAME:CET
DTSTART:20191027T010000
END:STANDARD
BEGIN:DAYLIGHT
TZOFFSETFROM:+0100
TZOFFSETTO:+0200
TZNAME:CEST
DTSTART:20200329T010000
END:DAYLIGHT
BEGIN:STANDARD
TZOFFSETFROM:+0200
TZOFFSETTO:+0100
TZNAME:CET
DTSTART:20201025T010000
END:STANDARD
BEGIN:DAYLIGHT
TZOFFSETFROM:+0100
TZOFFSETTO:+0200
TZNAME:CEST
DTSTART:20210328T010000
END:DAYLIGHT
BEGIN:STANDARD
TZOFFSETFROM:+0200
TZOFFSETTO:+0100
TZNAME:CET
DTSTART:20211031T010000
END:STANDARD
END:VTIMEZONE
BEGIN:VEVENT
DTSTART;VALUE=DATE:20200610
DTEND;VALUE=DATE:20200611
DTSTAMP:20260423T214251
CREATED:20200210T134537Z
LAST-MODIFIED:20200210T134537Z
UID:18826-1591747200-1591833599@sp26gdynia.pl
SUMMARY:Wystawienie ocen rocznych
DESCRIPTION:
URL:https://sp26gdynia.pl/wydarzenie/wystawienie-ocen-rocznych-2/
CATEGORIES:Ważne wydarzenia
END:VEVENT
BEGIN:VEVENT
DTSTART;VALUE=DATE:20200602
DTEND;VALUE=DATE:20200603
DTSTAMP:20260423T214251
CREATED:20200210T134454Z
LAST-MODIFIED:20200210T134454Z
UID:18824-1591056000-1591142399@sp26gdynia.pl
SUMMARY:Wystawienie wszystkich ocen przewidywanych
DESCRIPTION:
URL:https://sp26gdynia.pl/wydarzenie/wystawienie-wszystkich-ocen-przewidywanych/
CATEGORIES:Ważne wydarzenia
END:VEVENT
BEGIN:VEVENT
DTSTART;TZID=Europe/Warsaw:20200521T170000
DTEND;TZID=Europe/Warsaw:20200521T180000
DTSTAMP:20260423T214251
CREATED:20200210T134350Z
LAST-MODIFIED:20200210T134350Z
UID:18822-1590080400-1590084000@sp26gdynia.pl
SUMMARY:Zebranie dla rodziców klas 4 -8
DESCRIPTION:
URL:https://sp26gdynia.pl/wydarzenie/zebranie-dla-rodzicow-klas-4-8-3/
CATEGORIES:Ważne wydarzenia
END:VEVENT
BEGIN:VEVENT
DTSTART;TZID=Europe/Warsaw:20200520T170000
DTEND;TZID=Europe/Warsaw:20200520T180000
DTSTAMP:20260423T214251
CREATED:20200210T134313Z
LAST-MODIFIED:20200210T134313Z
UID:18820-1589994000-1589997600@sp26gdynia.pl
SUMMARY:Zebranie dla rodziców klas 0 -3
DESCRIPTION:
URL:https://sp26gdynia.pl/wydarzenie/zebranie-dla-rodzicow-klas-0-3-2/
CATEGORIES:Ważne wydarzenia
END:VEVENT
BEGIN:VEVENT
DTSTART;VALUE=DATE:20200515
DTEND;VALUE=DATE:20200516
DTSTAMP:20260423T214251
CREATED:20200210T134206Z
LAST-MODIFIED:20200210T134206Z
UID:18818-1589500800-1589587199@sp26gdynia.pl
SUMMARY:Wystawienie propozycji ocen niedostatecznych i nagannych
DESCRIPTION:
URL:https://sp26gdynia.pl/wydarzenie/wystawienie-propozycji-ocen-niedostatecznych-i-nagannych/
CATEGORIES:Ważne wydarzenia
END:VEVENT
BEGIN:VEVENT
DTSTART;TZID=Europe/Warsaw:20200512T095000
DTEND;TZID=Europe/Warsaw:20200512T103500
DTSTAMP:20260423T214251
CREATED:20200210T134108Z
LAST-MODIFIED:20200210T134108Z
UID:18816-1589277000-1589279700@sp26gdynia.pl
SUMMARY:Lekcja muzyki dla klas 0 -3
DESCRIPTION:
URL:https://sp26gdynia.pl/wydarzenie/lekcja-muzyki-dla-klas-0-3-4/
CATEGORIES:Ważne wydarzenia
END:VEVENT
BEGIN:VEVENT
DTSTART;VALUE=DATE:20200409
DTEND;VALUE=DATE:20200415
DTSTAMP:20260423T214251
CREATED:20200210T133807Z
LAST-MODIFIED:20200210T133807Z
UID:18812-1586390400-1586908799@sp26gdynia.pl
SUMMARY:Przerwa wiosenna
DESCRIPTION:
URL:https://sp26gdynia.pl/wydarzenie/przerwa-wiosenna/
CATEGORIES:Ważne wydarzenia
END:VEVENT
BEGIN:VEVENT
DTSTART;VALUE=DATE:20200406
DTEND;VALUE=DATE:20200407
DTSTAMP:20260423T214251
CREATED:20200210T133715Z
LAST-MODIFIED:20200210T133715Z
UID:18810-1586131200-1586217599@sp26gdynia.pl
SUMMARY:1a z wizytą u strażaków
DESCRIPTION:
URL:https://sp26gdynia.pl/wydarzenie/1a-z-wizyta-u-strazakow/
CATEGORIES:Ważne wydarzenia
END:VEVENT
BEGIN:VEVENT
DTSTART;TZID=Europe/Warsaw:20200331T095000
DTEND;TZID=Europe/Warsaw:20200331T103500
DTSTAMP:20260423T214251
CREATED:20200210T133624Z
LAST-MODIFIED:20200210T133624Z
UID:18808-1585648200-1585650900@sp26gdynia.pl
SUMMARY:Lekcja muzyki dla klas 0 - 3
DESCRIPTION:
URL:https://sp26gdynia.pl/wydarzenie/lekcja-muzyki-dla-klas-0-3-3/
CATEGORIES:Ważne wydarzenia
END:VEVENT
BEGIN:VEVENT
DTSTART;TZID=Europe/Warsaw:20200327T120000
DTEND;TZID=Europe/Warsaw:20200327T170000
DTSTAMP:20260423T214251
CREATED:20200310T061108Z
LAST-MODIFIED:20200310T061108Z
UID:20015-1585310400-1585328400@sp26gdynia.pl
SUMMARY:Świetlica szkolna - Dzień Teatru
DESCRIPTION:
URL:https://sp26gdynia.pl/wydarzenie/swietlica-szkolna-dzien-teatru/
CATEGORIES:Ważne wydarzenia
END:VEVENT
BEGIN:VEVENT
DTSTART;TZID=Europe/Warsaw:20200326T170000
DTEND;TZID=Europe/Warsaw:20200326T180000
DTSTAMP:20260423T214251
CREATED:20200210T133246Z
LAST-MODIFIED:20200210T133509Z
UID:18806-1585242000-1585245600@sp26gdynia.pl
SUMMARY:Zebranie dla rodziców klas 4 -8
DESCRIPTION:
URL:https://sp26gdynia.pl/wydarzenie/zebranie-dla-rodzicow-klas-4-8-2/
CATEGORIES:Ważne wydarzenia
END:VEVENT
BEGIN:VEVENT
DTSTART;TZID=Europe/Warsaw:20200325T170000
DTEND;TZID=Europe/Warsaw:20200325T180000
DTSTAMP:20260423T214251
CREATED:20200210T133202Z
LAST-MODIFIED:20200210T133202Z
UID:18804-1585155600-1585159200@sp26gdynia.pl
SUMMARY:Zebranie dla rodziców klas 0 -3
DESCRIPTION:
URL:https://sp26gdynia.pl/wydarzenie/zebranie-dla-rodzicow-klas-0-3/
CATEGORIES:Ważne wydarzenia
END:VEVENT
BEGIN:VEVENT
DTSTART;TZID=Europe/Warsaw:20200320T120000
DTEND;TZID=Europe/Warsaw:20200320T170000
DTSTAMP:20260423T214251
CREATED:20200310T061026Z
LAST-MODIFIED:20200310T061026Z
UID:20013-1584705600-1584723600@sp26gdynia.pl
SUMMARY:Świetlica szkolna - Międzynarodowy Dzień Szczęścia
DESCRIPTION:
URL:https://sp26gdynia.pl/wydarzenie/swietlica-szkolna-miedzynarodowy-dzien-szczescia/
CATEGORIES:Ważne wydarzenia
END:VEVENT
BEGIN:VEVENT
DTSTART;VALUE=DATE:20200320
DTEND;VALUE=DATE:20200321
DTSTAMP:20260423T214251
CREATED:20200210T132936Z
LAST-MODIFIED:20200210T132936Z
UID:18802-1584662400-1584748799@sp26gdynia.pl
SUMMARY:Obchody 60 - lecia szkoły
DESCRIPTION:
URL:https://sp26gdynia.pl/wydarzenie/obchody-60-lecia-szkoly/
CATEGORIES:Ważne wydarzenia
END:VEVENT
BEGIN:VEVENT
DTSTART;VALUE=DATE:20200319
DTEND;VALUE=DATE:20200320
DTSTAMP:20260423T214251
CREATED:20200210T132750Z
LAST-MODIFIED:20200210T132750Z
UID:18800-1584576000-1584662399@sp26gdynia.pl
SUMMARY:Międzynarodowy konkurs matematyczny KANGUR
DESCRIPTION:
URL:https://sp26gdynia.pl/wydarzenie/miedzynarodowy-konkurs-matematyczny-kangur/
CATEGORIES:Ważne wydarzenia
END:VEVENT
BEGIN:VEVENT
DTSTART;TZID=Europe/Warsaw:20200318T120000
DTEND;TZID=Europe/Warsaw:20200318T170000
DTSTAMP:20260423T214251
CREATED:20200310T060938Z
LAST-MODIFIED:20200310T060938Z
UID:20011-1584532800-1584550800@sp26gdynia.pl
SUMMARY:Świetlica szkolna - Europejski Dzień Mózgu
DESCRIPTION:
URL:https://sp26gdynia.pl/wydarzenie/swietlica-szkolna-europejski-dzien-mozgu/
CATEGORIES:Ważne wydarzenia
END:VEVENT
BEGIN:VEVENT
DTSTART;VALUE=DATE:20200318
DTEND;VALUE=DATE:20200319
DTSTAMP:20260423T214251
CREATED:20200210T132525Z
LAST-MODIFIED:20200210T132525Z
UID:18796-1584489600-1584575999@sp26gdynia.pl
SUMMARY:Warsztaty z wychowania komunikacyjnego - klasy 5b i 5c
DESCRIPTION:
URL:https://sp26gdynia.pl/wydarzenie/warsztaty-z-wychowania-komunikacyjnego-klasy-5b-i-5c/
CATEGORIES:Ważne wydarzenia
END:VEVENT
BEGIN:VEVENT
DTSTART;TZID=Europe/Warsaw:20200317T120000
DTEND;TZID=Europe/Warsaw:20200317T170000
DTSTAMP:20260423T214251
CREATED:20200310T060825Z
LAST-MODIFIED:20200310T060901Z
UID:20009-1584446400-1584464400@sp26gdynia.pl
SUMMARY:Świetlica szkolna - Dzień Św. Patryka
DESCRIPTION:
URL:https://sp26gdynia.pl/wydarzenie/swietlica-szkolna-dzien-sw-patryka/
CATEGORIES:Ważne wydarzenia
END:VEVENT
BEGIN:VEVENT
DTSTART;VALUE=DATE:20200317
DTEND;VALUE=DATE:20200318
DTSTAMP:20260423T214251
CREATED:20200210T132636Z
LAST-MODIFIED:20200210T132636Z
UID:18798-1584403200-1584489599@sp26gdynia.pl
SUMMARY:Przedstawienie "Jaś i Małgosia" dla klas 0 - 3
DESCRIPTION:
URL:https://sp26gdynia.pl/wydarzenie/przedstawienie-jas-i-malgosia-dla-klas-0-3/
CATEGORIES:Ważne wydarzenia
END:VEVENT
BEGIN:VEVENT
DTSTART;VALUE=DATE:20200316
DTEND;VALUE=DATE:20200317
DTSTAMP:20260423T214251
CREATED:20200210T132442Z
LAST-MODIFIED:20200210T132442Z
UID:18794-1584316800-1584403199@sp26gdynia.pl
SUMMARY:Warsztaty z wychowania komunikacyjnego - klasy 4a i 5a
DESCRIPTION:
URL:https://sp26gdynia.pl/wydarzenie/warsztaty-z-wychowania-komunikacyjnego-klasy-4a-i-5a/
CATEGORIES:Ważne wydarzenia
END:VEVENT
BEGIN:VEVENT
DTSTART;TZID=Europe/Warsaw:20200312T120000
DTEND;TZID=Europe/Warsaw:20200312T170000
DTSTAMP:20260423T214251
CREATED:20200310T060733Z
LAST-MODIFIED:20200310T060733Z
UID:20007-1584014400-1584032400@sp26gdynia.pl
SUMMARY:Świetlica szkolna - Dzień Matematyki
DESCRIPTION:
URL:https://sp26gdynia.pl/wydarzenie/swietlica-szkolna-dzien-matematyki/
CATEGORIES:Ważne wydarzenia
END:VEVENT
BEGIN:VEVENT
DTSTART;VALUE=DATE:20200311
DTEND;VALUE=DATE:20200314
DTSTAMP:20260423T214251
CREATED:20200308T190440Z
LAST-MODIFIED:20200308T190440Z
UID:19889-1583884800-1584143999@sp26gdynia.pl
SUMMARY:Rekolekcje wielkopostne
DESCRIPTION:
URL:https://sp26gdynia.pl/wydarzenie/rekolekcje-wielkopostne-2/
END:VEVENT
BEGIN:VEVENT
DTSTART;TZID=Europe/Warsaw:20200309T133000
DTEND;TZID=Europe/Warsaw:20200309T150000
DTSTAMP:20260423T214251
CREATED:20200308T190307Z
LAST-MODIFIED:20200308T190307Z
UID:19887-1583760600-1583766000@sp26gdynia.pl
SUMMARY:Jump City klasa 4a
DESCRIPTION:
URL:https://sp26gdynia.pl/wydarzenie/jump-city-klasa-4a/
END:VEVENT
BEGIN:VEVENT
DTSTART;TZID=Europe/Warsaw:20200307T100000
DTEND;TZID=Europe/Warsaw:20200307T120000
DTSTAMP:20260423T214251
CREATED:20200210T132319Z
LAST-MODIFIED:20200210T132319Z
UID:18792-1583575200-1583582400@sp26gdynia.pl
SUMMARY:Dzień Otwarty Szkoły
DESCRIPTION:
URL:https://sp26gdynia.pl/wydarzenie/dzien-otwarty-szkoly/
CATEGORIES:Ważne wydarzenia
END:VEVENT
BEGIN:VEVENT
DTSTART;TZID=Europe/Warsaw:20200305T100000
DTEND;TZID=Europe/Warsaw:20200305T110000
DTSTAMP:20260423T214251
CREATED:20200210T132222Z
LAST-MODIFIED:20200210T132222Z
UID:18790-1583402400-1583406000@sp26gdynia.pl
SUMMARY:Klasy 0a i 0b w U7
DESCRIPTION:
URL:https://sp26gdynia.pl/wydarzenie/klasy-0a-i-0b-w-u7/
CATEGORIES:Ważne wydarzenia
END:VEVENT
BEGIN:VEVENT
DTSTART;TZID=Europe/Warsaw:20200226T080000
DTEND;TZID=Europe/Warsaw:20200226T170000
DTSTAMP:20260423T214251
CREATED:20200108T141934Z
LAST-MODIFIED:20200108T141934Z
UID:17959-1582704000-1582736400@sp26gdynia.pl
SUMMARY:Świetlica szkolna - Dzień Dinozaura
DESCRIPTION:
URL:https://sp26gdynia.pl/wydarzenie/swietlica-szkolna-dzien-dinozaura/
CATEGORIES:Ważne wydarzenia
END:VEVENT
BEGIN:VEVENT
DTSTART;TZID=Europe/Warsaw:20200226T080000
DTEND;TZID=Europe/Warsaw:20200226T140000
DTSTAMP:20260423T214251
CREATED:20200217T091241Z
LAST-MODIFIED:20200217T091704Z
UID:19169-1582704000-1582725600@sp26gdynia.pl
SUMMARY:Biblioteka - Dzień Dinozaura
DESCRIPTION:
URL:https://sp26gdynia.pl/wydarzenie/biblioteka-dzien-dinozaura/
CATEGORIES:Ważne wydarzenia
END:VEVENT
BEGIN:VEVENT
DTSTART;VALUE=DATE:20200226
DTEND;VALUE=DATE:20200227
DTSTAMP:20260423T214251
CREATED:20200210T131618Z
LAST-MODIFIED:20200210T131618Z
UID:18786-1582675200-1582761599@sp26gdynia.pl
SUMMARY:Konkurs ZUCH - język angielski dla klas 1 - 3
DESCRIPTION:
URL:https://sp26gdynia.pl/wydarzenie/konkurs-zuch-jezyk-angielski-dla-klas-1-3/
CATEGORIES:Ważne wydarzenia
END:VEVENT
BEGIN:VEVENT
DTSTART;VALUE=DATE:20200225
DTEND;VALUE=DATE:20200226
DTSTAMP:20260423T214251
CREATED:20200210T131541Z
LAST-MODIFIED:20200210T131541Z
UID:18784-1582588800-1582675199@sp26gdynia.pl
SUMMARY:Konkurs ZUCH - test zintegrowany dla klas 1 - 3
DESCRIPTION:
URL:https://sp26gdynia.pl/wydarzenie/konkurs-zuch-test-zintegrowany-dla-klas-1-3-2/
CATEGORIES:Ważne wydarzenia
END:VEVENT
BEGIN:VEVENT
DTSTART;VALUE=DATE:20200222
DTEND;VALUE=DATE:20200223
DTSTAMP:20260423T214251
CREATED:20200210T131426Z
LAST-MODIFIED:20200210T131426Z
UID:18782-1582329600-1582415999@sp26gdynia.pl
SUMMARY:Konkurs matematyczny dla klasy 4a
DESCRIPTION:
URL:https://sp26gdynia.pl/wydarzenie/konkurs-matematyczny-dla-klasy-4a/
CATEGORIES:Ważne wydarzenia
END:VEVENT
END:VCALENDAR