BEGIN:VCALENDAR
VERSION:2.0
PRODID:-//Szkoła Podstawowa nr 26 w Gdyni - ECPv6.15.17//NONSGML v1.0//EN
CALSCALE:GREGORIAN
METHOD:PUBLISH
X-ORIGINAL-URL:https://sp26gdynia.pl
X-WR-CALDESC:Wydarzenia dla Szkoła Podstawowa nr 26 w Gdyni
REFRESH-INTERVAL;VALUE=DURATION:PT1H
X-Robots-Tag:noindex
X-PUBLISHED-TTL:PT1H
BEGIN:VTIMEZONE
TZID:Europe/Warsaw
BEGIN:DAYLIGHT
TZOFFSETFROM:+0100
TZOFFSETTO:+0200
TZNAME:CEST
DTSTART:20190331T010000
END:DAYLIGHT
BEGIN:STANDARD
TZOFFSETFROM:+0200
TZOFFSETTO:+0100
TZNAME:CET
DTSTART:20191027T010000
END:STANDARD
BEGIN:DAYLIGHT
TZOFFSETFROM:+0100
TZOFFSETTO:+0200
TZNAME:CEST
DTSTART:20200329T010000
END:DAYLIGHT
BEGIN:STANDARD
TZOFFSETFROM:+0200
TZOFFSETTO:+0100
TZNAME:CET
DTSTART:20201025T010000
END:STANDARD
BEGIN:DAYLIGHT
TZOFFSETFROM:+0100
TZOFFSETTO:+0200
TZNAME:CEST
DTSTART:20210328T010000
END:DAYLIGHT
BEGIN:STANDARD
TZOFFSETFROM:+0200
TZOFFSETTO:+0100
TZNAME:CET
DTSTART:20211031T010000
END:STANDARD
BEGIN:DAYLIGHT
TZOFFSETFROM:+0100
TZOFFSETTO:+0200
TZNAME:CEST
DTSTART:20220327T010000
END:DAYLIGHT
BEGIN:STANDARD
TZOFFSETFROM:+0200
TZOFFSETTO:+0100
TZNAME:CET
DTSTART:20221030T010000
END:STANDARD
END:VTIMEZONE
BEGIN:VEVENT
DTSTART;TZID=Europe/Warsaw:20210210T080000
DTEND;TZID=Europe/Warsaw:20210210T170000
DTSTAMP:20260423T135456
CREATED:20210126T064418Z
LAST-MODIFIED:20210126T064418Z
UID:27214-1612944000-1612976400@sp26gdynia.pl
SUMMARY:Świetlica szkolna - Dzień Parasolki
DESCRIPTION:
URL:https://sp26gdynia.pl/wydarzenie/swietlica-szkolna-dzien-parasolki/
CATEGORIES:Ważne wydarzenia
END:VEVENT
BEGIN:VEVENT
DTSTART;TZID=Europe/Warsaw:20210209T080000
DTEND;TZID=Europe/Warsaw:20210209T170000
DTSTAMP:20260423T135456
CREATED:20210126T064357Z
LAST-MODIFIED:20210126T064357Z
UID:27212-1612857600-1612890000@sp26gdynia.pl
SUMMARY:Świetlica szkolna - Dzień Bezpiecznego Internetu
DESCRIPTION:
URL:https://sp26gdynia.pl/wydarzenie/swietlica-szkolna-dzien-bezpiecznego-internetu/
CATEGORIES:Ważne wydarzenia
END:VEVENT
BEGIN:VEVENT
DTSTART;TZID=Europe/Warsaw:20210208T080000
DTEND;TZID=Europe/Warsaw:20210208T170000
DTSTAMP:20260423T135456
CREATED:20210126T064334Z
LAST-MODIFIED:20210126T064334Z
UID:27210-1612771200-1612803600@sp26gdynia.pl
SUMMARY:Świetlica szkolna - Dzień Bystrzaka
DESCRIPTION:
URL:https://sp26gdynia.pl/wydarzenie/swietlica-szkolna-dzien-bystrzaka/
CATEGORIES:Ważne wydarzenia
END:VEVENT
BEGIN:VEVENT
DTSTART;TZID=Europe/Warsaw:20210205T080000
DTEND;TZID=Europe/Warsaw:20210205T170000
DTSTAMP:20260423T135456
CREATED:20210126T064313Z
LAST-MODIFIED:20210126T064313Z
UID:27208-1612512000-1612544400@sp26gdynia.pl
SUMMARY:Świetlica szkolna - Światowy Dzień Nutelli
DESCRIPTION:
URL:https://sp26gdynia.pl/wydarzenie/swietlica-szkolna-swiatowy-dzien-nutelli/
CATEGORIES:Ważne wydarzenia
END:VEVENT
BEGIN:VEVENT
DTSTART;VALUE=DATE:20210204
DTEND;VALUE=DATE:20210205
DTSTAMP:20260423T135456
CREATED:20201013T152330Z
LAST-MODIFIED:20201130T155436Z
UID:24743-1612396800-1612483199@sp26gdynia.pl
SUMMARY:Zebranie semestralne klasy 4 - 8
DESCRIPTION:
URL:https://sp26gdynia.pl/wydarzenie/zebranie-semestralne-klasy-4-8/
CATEGORIES:Ważne wydarzenia
END:VEVENT
BEGIN:VEVENT
DTSTART;TZID=Europe/Warsaw:20210203T080000
DTEND;TZID=Europe/Warsaw:20210203T170000
DTSTAMP:20260423T135456
CREATED:20210126T064242Z
LAST-MODIFIED:20210126T064242Z
UID:27206-1612339200-1612371600@sp26gdynia.pl
SUMMARY:Świetlica szkolna - Dzień Głośnego Czytania
DESCRIPTION:
URL:https://sp26gdynia.pl/wydarzenie/swietlica-szkolna-dzien-glosnego-czytania-2/
CATEGORIES:Ważne wydarzenia
END:VEVENT
BEGIN:VEVENT
DTSTART;VALUE=DATE:20210203
DTEND;VALUE=DATE:20210204
DTSTAMP:20260423T135456
CREATED:20201013T152245Z
LAST-MODIFIED:20201130T155402Z
UID:24741-1612310400-1612396799@sp26gdynia.pl
SUMMARY:Zebranie semestralne klasy 0 - 3
DESCRIPTION:
URL:https://sp26gdynia.pl/wydarzenie/zebranie-semestralne-klasy-0-3/
CATEGORIES:Ważne wydarzenia
END:VEVENT
BEGIN:VEVENT
DTSTART;TZID=Europe/Warsaw:20210129T080000
DTEND;TZID=Europe/Warsaw:20210129T170000
DTSTAMP:20260423T135456
CREATED:20210126T063828Z
LAST-MODIFIED:20210126T063828Z
UID:27204-1611907200-1611939600@sp26gdynia.pl
SUMMARY:Świetlica szkolna - Dzień Puzzli
DESCRIPTION:
URL:https://sp26gdynia.pl/wydarzenie/swietlica-szkolna-dzien-puzzli/
CATEGORIES:Ważne wydarzenia
END:VEVENT
BEGIN:VEVENT
DTSTART;VALUE=DATE:20210129
DTEND;VALUE=DATE:20210130
DTSTAMP:20260423T135456
CREATED:20201013T152417Z
LAST-MODIFIED:20201013T152417Z
UID:24745-1611878400-1611964799@sp26gdynia.pl
SUMMARY:Koniec I semestru
DESCRIPTION:
URL:https://sp26gdynia.pl/wydarzenie/koniec-i-semestru-2/
CATEGORIES:Ważne wydarzenia
END:VEVENT
BEGIN:VEVENT
DTSTART;TZID=Europe/Warsaw:20210126T080000
DTEND;TZID=Europe/Warsaw:20210126T170000
DTSTAMP:20260423T135456
CREATED:20210126T063742Z
LAST-MODIFIED:20210126T063742Z
UID:27202-1611648000-1611680400@sp26gdynia.pl
SUMMARY:Świetlica szkolna - Dzień Australii
DESCRIPTION:
URL:https://sp26gdynia.pl/wydarzenie/swietlica-szkolna-dzien-australii/
CATEGORIES:Ważne wydarzenia
END:VEVENT
BEGIN:VEVENT
DTSTART;VALUE=DATE:20210126
DTEND;VALUE=DATE:20210127
DTSTAMP:20260423T135456
CREATED:20201013T152117Z
LAST-MODIFIED:20201130T155040Z
UID:24739-1611619200-1611705599@sp26gdynia.pl
SUMMARY:Wystawienie ocen śródrocznych
DESCRIPTION:
URL:https://sp26gdynia.pl/wydarzenie/wystawienie-ocen-srodrocznych/
CATEGORIES:Ważne wydarzenia
END:VEVENT
BEGIN:VEVENT
DTSTART;VALUE=DATE:20210119
DTEND;VALUE=DATE:20210120
DTSTAMP:20260423T135456
CREATED:20201013T151936Z
LAST-MODIFIED:20201130T155007Z
UID:24737-1611014400-1611100799@sp26gdynia.pl
SUMMARY:Wystawienie wszystkich przewidywanych ocen
DESCRIPTION:
URL:https://sp26gdynia.pl/wydarzenie/wystawienie-wszystkich-przewidywanych-ocen/
CATEGORIES:Ważne wydarzenia
END:VEVENT
BEGIN:VEVENT
DTSTART;VALUE=DATE:20210104
DTEND;VALUE=DATE:20210118
DTSTAMP:20260423T135456
CREATED:20201130T155122Z
LAST-MODIFIED:20201130T155122Z
UID:25999-1609718400-1610927999@sp26gdynia.pl
SUMMARY:Ferie zimowe
DESCRIPTION:
URL:https://sp26gdynia.pl/wydarzenie/ferie-zimowe-4/
CATEGORIES:Ważne wydarzenia
END:VEVENT
BEGIN:VEVENT
DTSTART;VALUE=DATE:20210101
DTEND;VALUE=DATE:20210102
DTSTAMP:20260423T135456
CREATED:20201013T151558Z
LAST-MODIFIED:20201013T151558Z
UID:24731-1609459200-1609545599@sp26gdynia.pl
SUMMARY:Nowy Rok - dzień wolny od pracy
DESCRIPTION:
URL:https://sp26gdynia.pl/wydarzenie/nowy-rok-dzien-wolny-od-pracy/
CATEGORIES:Ważne wydarzenia
END:VEVENT
BEGIN:VEVENT
DTSTART;TZID=Europe/Warsaw:20201223T080000
DTEND;TZID=Europe/Warsaw:20201231T170000
DTSTAMP:20260423T135456
CREATED:20201013T151510Z
LAST-MODIFIED:20201013T151510Z
UID:24729-1608710400-1609434000@sp26gdynia.pl
SUMMARY:Zimowa przerwa świąteczna
DESCRIPTION:
URL:https://sp26gdynia.pl/wydarzenie/zimowa-przerwa-swiateczna/
CATEGORIES:Ważne wydarzenia
END:VEVENT
BEGIN:VEVENT
DTSTART;VALUE=DATE:20201222
DTEND;VALUE=DATE:20201223
DTSTAMP:20260423T135456
CREATED:20201013T151340Z
LAST-MODIFIED:20201013T151352Z
UID:24727-1608595200-1608681599@sp26gdynia.pl
SUMMARY:Spotkania świąteczne z wychowawcą
DESCRIPTION:
URL:https://sp26gdynia.pl/wydarzenie/spotkania-swiateczne-z-wychowawca/
CATEGORIES:Ważne wydarzenia
END:VEVENT
BEGIN:VEVENT
DTSTART;VALUE=DATE:20201218
DTEND;VALUE=DATE:20201219
DTSTAMP:20260423T135456
CREATED:20201013T151109Z
LAST-MODIFIED:20201130T154530Z
UID:24723-1608249600-1608335999@sp26gdynia.pl
SUMMARY:Wystawienie przewidywanych ocen niedostatecznych i nagannych z zachowania
DESCRIPTION:
URL:https://sp26gdynia.pl/wydarzenie/wystawienie-przewidywanych-ocen-niedostatecznych-i-nagannych-z-zachowania/
CATEGORIES:Ważne wydarzenia
END:VEVENT
BEGIN:VEVENT
DTSTART;TZID=Europe/Warsaw:20201204T080000
DTEND;TZID=Europe/Warsaw:20201204T170000
DTSTAMP:20260423T135456
CREATED:20201202T105811Z
LAST-MODIFIED:20201202T105811Z
UID:26067-1607068800-1607101200@sp26gdynia.pl
SUMMARY:Świetlica szkolna - Mikołajki
DESCRIPTION:
URL:https://sp26gdynia.pl/wydarzenie/swietlica-szkolna-mikolajki/
CATEGORIES:Ważne wydarzenia
END:VEVENT
BEGIN:VEVENT
DTSTART;TZID=Europe/Warsaw:20201130T080000
DTEND;TZID=Europe/Warsaw:20201130T170000
DTSTAMP:20260423T135456
CREATED:20201103T193233Z
LAST-MODIFIED:20201103T193233Z
UID:25413-1606723200-1606755600@sp26gdynia.pl
SUMMARY:Świetlica szkolna - Andrzejki
DESCRIPTION:
URL:https://sp26gdynia.pl/wydarzenie/swietlica-szkolna-andrzejki-2/
CATEGORIES:Ważne wydarzenia
END:VEVENT
BEGIN:VEVENT
DTSTART;TZID=Europe/Warsaw:20201125T080000
DTEND;TZID=Europe/Warsaw:20201125T170000
DTSTAMP:20260423T135456
CREATED:20201103T193136Z
LAST-MODIFIED:20201103T193136Z
UID:25411-1606291200-1606323600@sp26gdynia.pl
SUMMARY:Świetlica szkolna - Dzień Pluszowego Misia
DESCRIPTION:
URL:https://sp26gdynia.pl/wydarzenie/swietlica-szkolna-dzien-pluszowego-misia/
CATEGORIES:Ważne wydarzenia
END:VEVENT
BEGIN:VEVENT
DTSTART;VALUE=DATE:20201120
DTEND;VALUE=DATE:20201121
DTSTAMP:20260423T135456
CREATED:20201013T150945Z
LAST-MODIFIED:20201013T150945Z
UID:24721-1605830400-1605916799@sp26gdynia.pl
SUMMARY:Egzamin próbny ósmoklasisty - język obcy nowożytny
DESCRIPTION:
URL:https://sp26gdynia.pl/wydarzenie/egzamin-probny-osmoklasisty-jezyk-obcy-nowozytny/
CATEGORIES:Ważne wydarzenia
END:VEVENT
BEGIN:VEVENT
DTSTART;VALUE=DATE:20201119
DTEND;VALUE=DATE:20201120
DTSTAMP:20260423T135456
CREATED:20201013T150852Z
LAST-MODIFIED:20201013T150852Z
UID:24719-1605744000-1605830399@sp26gdynia.pl
SUMMARY:Egzamin próbny ósmoklasisty - matematyka
DESCRIPTION:
URL:https://sp26gdynia.pl/wydarzenie/egzamin-probny-osmoklasisty-matematyka/
CATEGORIES:Ważne wydarzenia
END:VEVENT
BEGIN:VEVENT
DTSTART;TZID=Europe/Warsaw:20201118T080000
DTEND;TZID=Europe/Warsaw:20201118T170000
DTSTAMP:20260423T135456
CREATED:20201103T193035Z
LAST-MODIFIED:20201103T193035Z
UID:25409-1605686400-1605718800@sp26gdynia.pl
SUMMARY:Świetlica szkolna - Dzień Myszki Miki
DESCRIPTION:
URL:https://sp26gdynia.pl/wydarzenie/swietlica-szkolna-dzien-myszki-miki/
CATEGORIES:Ważne wydarzenia
END:VEVENT
BEGIN:VEVENT
DTSTART;VALUE=DATE:20201118
DTEND;VALUE=DATE:20201119
DTSTAMP:20260423T135456
CREATED:20201013T150759Z
LAST-MODIFIED:20201013T150759Z
UID:24717-1605657600-1605743999@sp26gdynia.pl
SUMMARY:Egzamin próbny ósmoklasisty - język polski
DESCRIPTION:
URL:https://sp26gdynia.pl/wydarzenie/egzamin-probny-osmoklasisty-jezyk-polski/
CATEGORIES:Ważne wydarzenia
END:VEVENT
BEGIN:VEVENT
DTSTART;TZID=Europe/Warsaw:20201117T080000
DTEND;TZID=Europe/Warsaw:20201117T170000
DTSTAMP:20260423T135456
CREATED:20201103T192952Z
LAST-MODIFIED:20201103T192952Z
UID:25407-1605600000-1605632400@sp26gdynia.pl
SUMMARY:Świetlica szkolna - Dzień Czarnego Kota
DESCRIPTION:
URL:https://sp26gdynia.pl/wydarzenie/swietlica-szkolna-dzien-czarnego-kota/
CATEGORIES:Ważne wydarzenia
END:VEVENT
BEGIN:VEVENT
DTSTART;TZID=Europe/Warsaw:20201116T080000
DTEND;TZID=Europe/Warsaw:20201116T170000
DTSTAMP:20260423T135456
CREATED:20201103T192912Z
LAST-MODIFIED:20201103T192912Z
UID:25405-1605513600-1605546000@sp26gdynia.pl
SUMMARY:Świetlica szkolna - Dzień Tolerancji
DESCRIPTION:
URL:https://sp26gdynia.pl/wydarzenie/swietlica-szkolna-dzien-tolerancji-2/
CATEGORIES:Ważne wydarzenia
END:VEVENT
BEGIN:VEVENT
DTSTART;VALUE=DATE:20201113
DTEND;VALUE=DATE:20201114
DTSTAMP:20260423T135456
CREATED:20201013T083533Z
LAST-MODIFIED:20201013T083710Z
UID:24694-1605225600-1605311999@sp26gdynia.pl
SUMMARY:Dzień wolny od zajęć dydaktyczno - wychowawczych
DESCRIPTION:
URL:https://sp26gdynia.pl/wydarzenie/dzien-wolny-od-zajec-dydaktyczno-wychowawczych-2/
CATEGORIES:Ważne wydarzenia
END:VEVENT
BEGIN:VEVENT
DTSTART;VALUE=DATE:20201112
DTEND;VALUE=DATE:20201113
DTSTAMP:20260423T135456
CREATED:20201013T083445Z
LAST-MODIFIED:20201013T083445Z
UID:24692-1605139200-1605225599@sp26gdynia.pl
SUMMARY:Dzień wolny od zajęć dydaktyczno - wychowawczych
DESCRIPTION:
URL:https://sp26gdynia.pl/wydarzenie/dzien-wolny-od-zajec-dydaktyczno-wychowawczych/
CATEGORIES:Ważne wydarzenia
END:VEVENT
BEGIN:VEVENT
DTSTART;TZID=Europe/Warsaw:20201110T080000
DTEND;TZID=Europe/Warsaw:20201110T170000
DTSTAMP:20260423T135456
CREATED:20201103T192827Z
LAST-MODIFIED:20201103T192827Z
UID:25403-1604995200-1605027600@sp26gdynia.pl
SUMMARY:Świetlica szkolna - Dzień Jeża
DESCRIPTION:
URL:https://sp26gdynia.pl/wydarzenie/swietlica-szkolna-dzien-jeza/
CATEGORIES:Ważne wydarzenia
END:VEVENT
BEGIN:VEVENT
DTSTART;TZID=Europe/Warsaw:20201105T080000
DTEND;TZID=Europe/Warsaw:20201105T170000
DTSTAMP:20260423T135456
CREATED:20201103T191457Z
LAST-MODIFIED:20201103T191457Z
UID:25401-1604563200-1604595600@sp26gdynia.pl
SUMMARY:Świetlica szkolna - Dzień Postaci z Bajek
DESCRIPTION:
URL:https://sp26gdynia.pl/wydarzenie/swietlica-szkolna-dzien-postaci-z-bajek/
CATEGORIES:Ważne wydarzenia
END:VEVENT
END:VCALENDAR