BEGIN:VCALENDAR
VERSION:2.0
PRODID:-//Szkoła Podstawowa nr 26 w Gdyni - ECPv6.15.17//NONSGML v1.0//EN
CALSCALE:GREGORIAN
METHOD:PUBLISH
X-WR-CALNAME:Szkoła Podstawowa nr 26 w Gdyni
X-ORIGINAL-URL:https://sp26gdynia.pl
X-WR-CALDESC:Wydarzenia dla Szkoła Podstawowa nr 26 w Gdyni
REFRESH-INTERVAL;VALUE=DURATION:PT1H
X-Robots-Tag:noindex
X-PUBLISHED-TTL:PT1H
BEGIN:VTIMEZONE
TZID:Europe/Warsaw
BEGIN:DAYLIGHT
TZOFFSETFROM:+0100
TZOFFSETTO:+0200
TZNAME:CEST
DTSTART:20200329T010000
END:DAYLIGHT
BEGIN:STANDARD
TZOFFSETFROM:+0200
TZOFFSETTO:+0100
TZNAME:CET
DTSTART:20201025T010000
END:STANDARD
BEGIN:DAYLIGHT
TZOFFSETFROM:+0100
TZOFFSETTO:+0200
TZNAME:CEST
DTSTART:20210328T010000
END:DAYLIGHT
BEGIN:STANDARD
TZOFFSETFROM:+0200
TZOFFSETTO:+0100
TZNAME:CET
DTSTART:20211031T010000
END:STANDARD
BEGIN:DAYLIGHT
TZOFFSETFROM:+0100
TZOFFSETTO:+0200
TZNAME:CEST
DTSTART:20220327T010000
END:DAYLIGHT
BEGIN:STANDARD
TZOFFSETFROM:+0200
TZOFFSETTO:+0100
TZNAME:CET
DTSTART:20221030T010000
END:STANDARD
END:VTIMEZONE
BEGIN:VEVENT
DTSTART;VALUE=DATE:20210315
DTEND;VALUE=DATE:20210316
DTSTAMP:20260423T092327
CREATED:20210305T084148Z
LAST-MODIFIED:20210305T084148Z
UID:28409-1615766400-1615852799@sp26gdynia.pl
SUMMARY:Lekcja muzyki "Morskie opowieści" - klasy 0 - 3 wg harmonogramu
DESCRIPTION:
URL:https://sp26gdynia.pl/wydarzenie/lekcja-muzyki-morskie-opowiesci-klasy-0-3-wg-harmonogramu/
CATEGORIES:Ważne wydarzenia
END:VEVENT
BEGIN:VEVENT
DTSTART;TZID=Europe/Warsaw:20210312T080000
DTEND;TZID=Europe/Warsaw:20210312T170000
DTSTAMP:20260423T092327
CREATED:20210226T072651Z
LAST-MODIFIED:20210226T072651Z
UID:28164-1615536000-1615568400@sp26gdynia.pl
SUMMARY:Świetlica szkolna - Dzień Matematyki
DESCRIPTION:
URL:https://sp26gdynia.pl/wydarzenie/swietlica-szkolna-dzien-matematyki-2/
CATEGORIES:Ważne wydarzenia
END:VEVENT
BEGIN:VEVENT
DTSTART;TZID=Europe/Warsaw:20210312T080000
DTEND;TZID=Europe/Warsaw:20210312T090000
DTSTAMP:20260423T092327
CREATED:20210425T201351Z
LAST-MODIFIED:20210425T201351Z
UID:29809-1615536000-1615539600@sp26gdynia.pl
SUMMARY:Znamię! Znam je? 7 o
DESCRIPTION:
URL:https://sp26gdynia.pl/wydarzenie/znamie-znam-je-7-o/
CATEGORIES:Ważne wydarzenia
END:VEVENT
BEGIN:VEVENT
DTSTART;TZID=Europe/Warsaw:20210311T110000
DTEND;TZID=Europe/Warsaw:20210311T120000
DTSTAMP:20260423T092327
CREATED:20210425T201208Z
LAST-MODIFIED:20210425T201208Z
UID:29805-1615460400-1615464000@sp26gdynia.pl
SUMMARY:Znamię! Znam je? 8a
DESCRIPTION:
URL:https://sp26gdynia.pl/wydarzenie/znamie-znam-je-8a/
CATEGORIES:Ważne wydarzenia
END:VEVENT
BEGIN:VEVENT
DTSTART;TZID=Europe/Warsaw:20210311T080000
DTEND;TZID=Europe/Warsaw:20210311T090000
DTSTAMP:20260423T092327
CREATED:20210425T200723Z
LAST-MODIFIED:20210425T200723Z
UID:29799-1615449600-1615453200@sp26gdynia.pl
SUMMARY:Znamię! Znam je? 7a
DESCRIPTION:
URL:https://sp26gdynia.pl/wydarzenie/znamie-znam-je-7a/
CATEGORIES:Ważne wydarzenia
END:VEVENT
BEGIN:VEVENT
DTSTART;TZID=Europe/Warsaw:20210308T080000
DTEND;TZID=Europe/Warsaw:20210309T170000
DTSTAMP:20260423T092327
CREATED:20210303T163027Z
LAST-MODIFIED:20210308T105257Z
UID:28386-1615190400-1615309200@sp26gdynia.pl
SUMMARY:Warsztaty czytelnicze online wydawnictwa Zakamarki dla klas 1-3
DESCRIPTION:
URL:https://sp26gdynia.pl/wydarzenie/warsztaty-czytelnicze-wyd-zakamarki-dla-klas-1-3/
CATEGORIES:Ważne wydarzenia
END:VEVENT
BEGIN:VEVENT
DTSTART;TZID=Europe/Warsaw:20210308T080000
DTEND;TZID=Europe/Warsaw:20210308T170000
DTSTAMP:20260423T092327
CREATED:20210226T072604Z
LAST-MODIFIED:20210303T162922Z
UID:28162-1615190400-1615222800@sp26gdynia.pl
SUMMARY:Obchody Dnia Kobiet w szkole
DESCRIPTION:
URL:https://sp26gdynia.pl/wydarzenie/swietlica-szkolna-dzien-kobiet/
CATEGORIES:Ważne wydarzenia
END:VEVENT
BEGIN:VEVENT
DTSTART;TZID=Europe/Warsaw:20210308T080000
DTEND;TZID=Europe/Warsaw:20210308T140000
DTSTAMP:20260423T092327
CREATED:20210308T102646Z
LAST-MODIFIED:20210308T102655Z
UID:28532-1615190400-1615212000@sp26gdynia.pl
SUMMARY:Biblioteczne obchody Dnia Kobiet - Imiennik dziewczęcy\, wystawka książek z dziewczęcymi imionami w tytule
DESCRIPTION:
URL:https://sp26gdynia.pl/wydarzenie/biblioteczne-obchody-dnia-kobiet-imiennik-dziewczecy-wystawka-ksiazek-z-dziewczecymi-imionami-w-tytule/
CATEGORIES:Ważne wydarzenia
END:VEVENT
BEGIN:VEVENT
DTSTART;TZID=Europe/Warsaw:20210308T080000
DTEND;TZID=Europe/Warsaw:20210308T090000
DTSTAMP:20260423T092327
CREATED:20210425T201241Z
LAST-MODIFIED:20210425T201241Z
UID:29807-1615190400-1615194000@sp26gdynia.pl
SUMMARY:Znamię! Znam je? 8b
DESCRIPTION:
URL:https://sp26gdynia.pl/wydarzenie/znamie-znam-je-8b/
CATEGORIES:Ważne wydarzenia
END:VEVENT
BEGIN:VEVENT
DTSTART;TZID=Europe/Warsaw:20210305T090000
DTEND;TZID=Europe/Warsaw:20210305T100000
DTSTAMP:20260423T092327
CREATED:20210425T201000Z
LAST-MODIFIED:20210425T201000Z
UID:29803-1614934800-1614938400@sp26gdynia.pl
SUMMARY:Znamię! Znam je? 7c
DESCRIPTION:
URL:https://sp26gdynia.pl/wydarzenie/znamie-znam-je-7c/
CATEGORIES:Ważne wydarzenia
END:VEVENT
BEGIN:VEVENT
DTSTART;TZID=Europe/Warsaw:20210305T080000
DTEND;TZID=Europe/Warsaw:20210305T090000
DTSTAMP:20260423T092327
CREATED:20210425T200900Z
LAST-MODIFIED:20210425T200900Z
UID:29801-1614931200-1614934800@sp26gdynia.pl
SUMMARY:Znamię! Znam je? 7b
DESCRIPTION:
URL:https://sp26gdynia.pl/wydarzenie/znamie-znam-je-7b/
CATEGORIES:Ważne wydarzenia
END:VEVENT
BEGIN:VEVENT
DTSTART;VALUE=DATE:20210304
DTEND;VALUE=DATE:20210305
DTSTAMP:20260423T092327
CREATED:20210302T115658Z
LAST-MODIFIED:20210302T115658Z
UID:28283-1614816000-1614902399@sp26gdynia.pl
SUMMARY:Spotkanie z leśnikiem on line - klasy młodsze wg harmonogramu
DESCRIPTION:
URL:https://sp26gdynia.pl/wydarzenie/spotkanie-z-lesnikiem-on-line-klasy-mlodsze-wg-harmonogramu-4/
CATEGORIES:Ważne wydarzenia
END:VEVENT
BEGIN:VEVENT
DTSTART;VALUE=DATE:20210303
DTEND;VALUE=DATE:20210304
DTSTAMP:20260423T092327
CREATED:20210302T115628Z
LAST-MODIFIED:20210302T115628Z
UID:28281-1614729600-1614815999@sp26gdynia.pl
SUMMARY:Spotkanie z leśnikiem on line - klasy młodsze wg harmonogramu
DESCRIPTION:
URL:https://sp26gdynia.pl/wydarzenie/spotkanie-z-lesnikiem-on-line-klasy-mlodsze-wg-harmonogramu-3/
CATEGORIES:Ważne wydarzenia
END:VEVENT
BEGIN:VEVENT
DTSTART;VALUE=DATE:20210302
DTEND;VALUE=DATE:20210303
DTSTAMP:20260423T092327
CREATED:20210302T115605Z
LAST-MODIFIED:20210302T115605Z
UID:28279-1614643200-1614729599@sp26gdynia.pl
SUMMARY:Spotkanie z leśnikiem on line - klasy młodsze wg harmonogramu
DESCRIPTION:
URL:https://sp26gdynia.pl/wydarzenie/spotkanie-z-lesnikiem-on-line-klasy-mlodsze-wg-harmonogramu-2/
CATEGORIES:Ważne wydarzenia
END:VEVENT
BEGIN:VEVENT
DTSTART;VALUE=DATE:20210302
DTEND;VALUE=DATE:20210303
DTSTAMP:20260423T092327
CREATED:20210302T115216Z
LAST-MODIFIED:20210302T115216Z
UID:28275-1614643200-1614729599@sp26gdynia.pl
SUMMARY:Koniec nauki zdalnej klas 1- 3 - młodsi uczniowie wracają do szkoły :-)
DESCRIPTION:
URL:https://sp26gdynia.pl/wydarzenie/koniec-nauki-zdalnej-klas-1-3-mlodsi-uczniowie-wracaja-do-szkoly/
CATEGORIES:Ważne wydarzenia
END:VEVENT
BEGIN:VEVENT
DTSTART;TZID=Europe/Warsaw:20210301T080000
DTEND;TZID=Europe/Warsaw:20210301T170000
DTSTAMP:20260423T092327
CREATED:20210126T064824Z
LAST-MODIFIED:20210126T064824Z
UID:27226-1614585600-1614618000@sp26gdynia.pl
SUMMARY:Świetlica szkolna - Dzień Niedźwiedzia Polarnego
DESCRIPTION:
URL:https://sp26gdynia.pl/wydarzenie/swietlica-szkolna-dzien-niedzwiedzia-polarnego/
CATEGORIES:Ważne wydarzenia
END:VEVENT
BEGIN:VEVENT
DTSTART;VALUE=DATE:20210301
DTEND;VALUE=DATE:20210302
DTSTAMP:20260423T092327
CREATED:20210302T115520Z
LAST-MODIFIED:20210302T115520Z
UID:28277-1614556800-1614643199@sp26gdynia.pl
SUMMARY:Spotkanie z leśnikiem on line - klasy młodsze wg harmonogramu
DESCRIPTION:
URL:https://sp26gdynia.pl/wydarzenie/spotkanie-z-lesnikiem-on-line-klasy-mlodsze-wg-harmonogramu/
CATEGORIES:Ważne wydarzenia
END:VEVENT
BEGIN:VEVENT
DTSTART;TZID=Europe/Warsaw:20210226T080000
DTEND;TZID=Europe/Warsaw:20210226T170000
DTSTAMP:20260423T092327
CREATED:20210126T064740Z
LAST-MODIFIED:20210126T064740Z
UID:27224-1614326400-1614358800@sp26gdynia.pl
SUMMARY:Świetlica szkolna - Dzień Dinozaura
DESCRIPTION:
URL:https://sp26gdynia.pl/wydarzenie/swietlica-szkolna-dzien-dinozaura-2/
CATEGORIES:Ważne wydarzenia
END:VEVENT
BEGIN:VEVENT
DTSTART;TZID=Europe/Warsaw:20210225T104500
DTEND;TZID=Europe/Warsaw:20210225T113000
DTSTAMP:20260423T092327
CREATED:20210415T115659Z
LAST-MODIFIED:20210415T115659Z
UID:29569-1614249900-1614252600@sp26gdynia.pl
SUMMARY:"Śmieci czy skarby" - warsztaty eksperyment 5A
DESCRIPTION:
URL:https://sp26gdynia.pl/wydarzenie/smieci-czy-skarby-warsztaty-eksperyment-5a/
CATEGORIES:Ważne wydarzenia
ATTACH;FMTTYPE=image/png:https://sp26gdynia.pl/wp-content/uploads/2021/04/śmieci-.png
END:VEVENT
BEGIN:VEVENT
DTSTART;TZID=Europe/Warsaw:20210225T104500
DTEND;TZID=Europe/Warsaw:20210225T113000
DTSTAMP:20260423T092327
CREATED:20210304T205957Z
LAST-MODIFIED:20210304T205957Z
UID:28407-1614249900-1614252600@sp26gdynia.pl
SUMMARY:Akademia Edukatora - 5 A
DESCRIPTION:
URL:https://sp26gdynia.pl/wydarzenie/akademia-edukatora-5-a/
END:VEVENT
BEGIN:VEVENT
DTSTART;TZID=Europe/Warsaw:20210225T080000
DTEND;TZID=Europe/Warsaw:20210225T170000
DTSTAMP:20260423T092327
CREATED:20210126T064720Z
LAST-MODIFIED:20210126T064720Z
UID:27222-1614240000-1614272400@sp26gdynia.pl
SUMMARY:Świetlica szkolna - Dzień Naleśnika
DESCRIPTION:
URL:https://sp26gdynia.pl/wydarzenie/swietlica-szkolna-dzien-nalesnika/
CATEGORIES:Ważne wydarzenia
END:VEVENT
BEGIN:VEVENT
DTSTART;TZID=Europe/Warsaw:20210223T124500
DTEND;TZID=Europe/Warsaw:20210223T133000
DTSTAMP:20260423T092327
CREATED:20210415T115804Z
LAST-MODIFIED:20210415T115832Z
UID:29572-1614084300-1614087000@sp26gdynia.pl
SUMMARY:"Śmieci czy skarby" - warsztaty eksperyment 6B
DESCRIPTION:
URL:https://sp26gdynia.pl/wydarzenie/smieci-czy-skarby-warsztaty-eksperyment-6b/
CATEGORIES:Ważne wydarzenia
END:VEVENT
BEGIN:VEVENT
DTSTART;TZID=Europe/Warsaw:20210218T104500
DTEND;TZID=Europe/Warsaw:20210218T113000
DTSTAMP:20260423T092327
CREATED:20210415T115253Z
LAST-MODIFIED:20210415T115253Z
UID:29564-1613645100-1613647800@sp26gdynia.pl
SUMMARY:"Aklimatyzacja do tematu"- warsztaty Eksperyment 5A
DESCRIPTION:
URL:https://sp26gdynia.pl/wydarzenie/aklimatyzacja-do-tematu-warsztaty-eksperyment-5a/
CATEGORIES:Ważne wydarzenia
ATTACH;FMTTYPE=image/jpeg:https://sp26gdynia.pl/wp-content/uploads/2021/04/klimat-.jpg
END:VEVENT
BEGIN:VEVENT
DTSTART;TZID=Europe/Warsaw:20210218T104500
DTEND;TZID=Europe/Warsaw:20210218T113000
DTSTAMP:20260423T092327
CREATED:20210304T205328Z
LAST-MODIFIED:20210304T205915Z
UID:28405-1613645100-1613647800@sp26gdynia.pl
SUMMARY:Akademia Edukatora - 5a
DESCRIPTION:
URL:https://sp26gdynia.pl/wydarzenie/akademia-edukatora-5a/
END:VEVENT
BEGIN:VEVENT
DTSTART;TZID=Europe/Warsaw:20210217T080000
DTEND;TZID=Europe/Warsaw:20210217T170000
DTSTAMP:20260423T092327
CREATED:20210126T064700Z
LAST-MODIFIED:20210126T064700Z
UID:27220-1613548800-1613581200@sp26gdynia.pl
SUMMARY:Świetlica szkolna - Dzień Kota
DESCRIPTION:
URL:https://sp26gdynia.pl/wydarzenie/swietlica-szkolna-dzien-kota-2/
CATEGORIES:Ważne wydarzenia
END:VEVENT
BEGIN:VEVENT
DTSTART;TZID=Europe/Warsaw:20210217T080000
DTEND;TZID=Europe/Warsaw:20210217T140000
DTSTAMP:20260423T092327
CREATED:20210214T164204Z
LAST-MODIFIED:20210214T164204Z
UID:27762-1613548800-1613570400@sp26gdynia.pl
SUMMARY:Dzień Kota w bibliotece szkolnej
DESCRIPTION:
URL:https://sp26gdynia.pl/wydarzenie/dzien-kota-w-bibliotece-szkolnej/
CATEGORIES:Ważne wydarzenia
END:VEVENT
BEGIN:VEVENT
DTSTART;TZID=Europe/Warsaw:20210216T124500
DTEND;TZID=Europe/Warsaw:20210216T133000
DTSTAMP:20260423T092327
CREATED:20210415T115445Z
LAST-MODIFIED:20210415T115445Z
UID:29567-1613479500-1613482200@sp26gdynia.pl
SUMMARY:"Aklimatyzacja do tematu"- warsztaty Eksperyment 6B
DESCRIPTION:
URL:https://sp26gdynia.pl/wydarzenie/aklimatyzacja-do-tematu-warsztaty-eksperyment-6b/
CATEGORIES:Ważne wydarzenia
END:VEVENT
BEGIN:VEVENT
DTSTART;TZID=Europe/Warsaw:20210215T080000
DTEND;TZID=Europe/Warsaw:20210215T170000
DTSTAMP:20260423T092327
CREATED:20210126T064633Z
LAST-MODIFIED:20210126T064633Z
UID:27218-1613376000-1613408400@sp26gdynia.pl
SUMMARY:Świetlica szkolna - Walentynki
DESCRIPTION:
URL:https://sp26gdynia.pl/wydarzenie/swietlica-szkolna-walentynki-2/
CATEGORIES:Ważne wydarzenia
END:VEVENT
BEGIN:VEVENT
DTSTART;TZID=Europe/Warsaw:20210215T080000
DTEND;TZID=Europe/Warsaw:20210215T140000
DTSTAMP:20260423T092327
CREATED:20210214T163640Z
LAST-MODIFIED:20210214T164322Z
UID:27760-1613376000-1613397600@sp26gdynia.pl
SUMMARY:Walentynki w bibliotece - zakochaj się w czytaniu!
DESCRIPTION:
URL:https://sp26gdynia.pl/wydarzenie/walentynki-w-bibliotece-zakochaj-sie-w-czytaniu/
CATEGORIES:Ważne wydarzenia
END:VEVENT
BEGIN:VEVENT
DTSTART;TZID=Europe/Warsaw:20210211T080000
DTEND;TZID=Europe/Warsaw:20210211T170000
DTSTAMP:20260423T092327
CREATED:20210126T064435Z
LAST-MODIFIED:20210126T064435Z
UID:27216-1613030400-1613062800@sp26gdynia.pl
SUMMARY:Świetlica szkolna - Tłusty Czwartek
DESCRIPTION:
URL:https://sp26gdynia.pl/wydarzenie/swietlica-szkolna-tlusty-czwartek/
CATEGORIES:Ważne wydarzenia
END:VEVENT
END:VCALENDAR