BEGIN:VCALENDAR
VERSION:2.0
PRODID:-//Szkoła Podstawowa nr 26 w Gdyni - ECPv6.15.17//NONSGML v1.0//EN
CALSCALE:GREGORIAN
METHOD:PUBLISH
X-WR-CALNAME:Szkoła Podstawowa nr 26 w Gdyni
X-ORIGINAL-URL:https://sp26gdynia.pl
X-WR-CALDESC:Wydarzenia dla Szkoła Podstawowa nr 26 w Gdyni
REFRESH-INTERVAL;VALUE=DURATION:PT1H
X-Robots-Tag:noindex
X-PUBLISHED-TTL:PT1H
BEGIN:VTIMEZONE
TZID:Europe/Warsaw
BEGIN:DAYLIGHT
TZOFFSETFROM:+0100
TZOFFSETTO:+0200
TZNAME:CEST
DTSTART:20200329T010000
END:DAYLIGHT
BEGIN:STANDARD
TZOFFSETFROM:+0200
TZOFFSETTO:+0100
TZNAME:CET
DTSTART:20201025T010000
END:STANDARD
BEGIN:DAYLIGHT
TZOFFSETFROM:+0100
TZOFFSETTO:+0200
TZNAME:CEST
DTSTART:20210328T010000
END:DAYLIGHT
BEGIN:STANDARD
TZOFFSETFROM:+0200
TZOFFSETTO:+0100
TZNAME:CET
DTSTART:20211031T010000
END:STANDARD
BEGIN:DAYLIGHT
TZOFFSETFROM:+0100
TZOFFSETTO:+0200
TZNAME:CEST
DTSTART:20220327T010000
END:DAYLIGHT
BEGIN:STANDARD
TZOFFSETFROM:+0200
TZOFFSETTO:+0100
TZNAME:CET
DTSTART:20221030T010000
END:STANDARD
END:VTIMEZONE
BEGIN:VEVENT
DTSTART;TZID=Europe/Warsaw:20210614T080000
DTEND;TZID=Europe/Warsaw:20210614T170000
DTSTAMP:20260423T010844
CREATED:20210611T130606Z
LAST-MODIFIED:20210611T130606Z
UID:30845-1623657600-1623690000@sp26gdynia.pl
SUMMARY:Lekcja muzyki " Sporo w buszu animuszu"- muzyka afrykańska- kl. 0b\, 1a\, 1obc\, 2a\,b\, 3a
DESCRIPTION:
URL:https://sp26gdynia.pl/wydarzenie/lekcja-muzyki-sporo-w-buszu-animuszu-muzyka-afrykanska-kl-0b-1a-1obc-2ab-3a/
CATEGORIES:Ważne wydarzenia
END:VEVENT
BEGIN:VEVENT
DTSTART;VALUE=DATE:20210609
DTEND;VALUE=DATE:20210610
DTSTAMP:20260423T010844
CREATED:20201013T154012Z
LAST-MODIFIED:20201013T154012Z
UID:24766-1623196800-1623283199@sp26gdynia.pl
SUMMARY:Wystawienie ocen rocznych
DESCRIPTION:
URL:https://sp26gdynia.pl/wydarzenie/wystawienie-ocen-rocznych-3/
CATEGORIES:Ważne wydarzenia
END:VEVENT
BEGIN:VEVENT
DTSTART;VALUE=DATE:20210604
DTEND;VALUE=DATE:20210605
DTSTAMP:20260423T010844
CREATED:20201013T154313Z
LAST-MODIFIED:20210529T062809Z
UID:24770-1622764800-1622851199@sp26gdynia.pl
SUMMARY:Dzień wolny od zajęć dydaktyczno - wychowawczych
DESCRIPTION:
URL:https://sp26gdynia.pl/wydarzenie/dzien-wolny-od-zajec-dydaktyczno-wychowawczych-wolny-od-pracy/
CATEGORIES:Ważne wydarzenia
END:VEVENT
BEGIN:VEVENT
DTSTART;VALUE=DATE:20210603
DTEND;VALUE=DATE:20210604
DTSTAMP:20260423T010844
CREATED:20201013T154100Z
LAST-MODIFIED:20201013T154100Z
UID:24768-1622678400-1622764799@sp26gdynia.pl
SUMMARY:Boże Ciało - dzień wolny od pracy
DESCRIPTION:
URL:https://sp26gdynia.pl/wydarzenie/boze-cialo-dzien-wolny-od-pracy/
CATEGORIES:Ważne wydarzenia
END:VEVENT
BEGIN:VEVENT
DTSTART;VALUE=DATE:20210601
DTEND;VALUE=DATE:20210602
DTSTAMP:20260423T010844
CREATED:20210529T062624Z
LAST-MODIFIED:20210529T062624Z
UID:30571-1622505600-1622591999@sp26gdynia.pl
SUMMARY:Podchody na Dzień Dziecka dla klas 0 - 3
DESCRIPTION:
URL:https://sp26gdynia.pl/wydarzenie/podchody-na-dzien-dziecka-dla-klas-0-3/
CATEGORIES:Ważne wydarzenia
END:VEVENT
BEGIN:VEVENT
DTSTART;VALUE=DATE:20210601
DTEND;VALUE=DATE:20210602
DTSTAMP:20260423T010844
CREATED:20201013T153908Z
LAST-MODIFIED:20201013T153908Z
UID:24764-1622505600-1622591999@sp26gdynia.pl
SUMMARY:Wystawienie ocen przewidywanych
DESCRIPTION:
URL:https://sp26gdynia.pl/wydarzenie/wystawienie-ocen-przewidywanych/
CATEGORIES:Ważne wydarzenia
END:VEVENT
BEGIN:VEVENT
DTSTART;TZID=Europe/Warsaw:20210530T080000
DTEND;TZID=Europe/Warsaw:20210530T170000
DTSTAMP:20260423T010844
CREATED:20210529T062243Z
LAST-MODIFIED:20210529T062243Z
UID:30568-1622361600-1622394000@sp26gdynia.pl
SUMMARY:3b - Rodzinny spływ kajakowy
DESCRIPTION:
URL:https://sp26gdynia.pl/wydarzenie/3b-rodzinny-splyw-kajakowy/
CATEGORIES:Ważne wydarzenia
END:VEVENT
BEGIN:VEVENT
DTSTART;TZID=Europe/Warsaw:20210529T080000
DTEND;TZID=Europe/Warsaw:20210529T170000
DTSTAMP:20260423T010844
CREATED:20210529T062201Z
LAST-MODIFIED:20210529T062201Z
UID:30566-1622275200-1622307600@sp26gdynia.pl
SUMMARY:2a - Rodzinny spływ kajakowy
DESCRIPTION:
URL:https://sp26gdynia.pl/wydarzenie/2a-rodzinny-splyw-kajakowy/
CATEGORIES:Ważne wydarzenia
END:VEVENT
BEGIN:VEVENT
DTSTART;VALUE=DATE:20210527
DTEND;VALUE=DATE:20210528
DTSTAMP:20260423T010844
CREATED:20201013T153422Z
LAST-MODIFIED:20201013T153422Z
UID:24762-1622073600-1622159999@sp26gdynia.pl
SUMMARY:Egzamin ósmoklasisty - język obcy nowożytny
DESCRIPTION:
URL:https://sp26gdynia.pl/wydarzenie/egzamin-osmoklasisty-jezyk-obcy-nowozytny/
CATEGORIES:Ważne wydarzenia
END:VEVENT
BEGIN:VEVENT
DTSTART;TZID=Europe/Warsaw:20210526T080000
DTEND;TZID=Europe/Warsaw:20210526T170000
DTSTAMP:20260423T010844
CREATED:20210504T173747Z
LAST-MODIFIED:20210504T173747Z
UID:29887-1622016000-1622048400@sp26gdynia.pl
SUMMARY:Dzień Matki
DESCRIPTION:
URL:https://sp26gdynia.pl/wydarzenie/dzien-matki/
CATEGORIES:Ważne wydarzenia
END:VEVENT
BEGIN:VEVENT
DTSTART;TZID=Europe/Warsaw:20210526T080000
DTEND;TZID=Europe/Warsaw:20210526T170000
DTSTAMP:20260423T010844
CREATED:20210504T065145Z
LAST-MODIFIED:20210504T065145Z
UID:29881-1622016000-1622048400@sp26gdynia.pl
SUMMARY:Świetlica szkolna - Dzień Samolotów z Papieru
DESCRIPTION:
URL:https://sp26gdynia.pl/wydarzenie/swietlica-szkolna-dzien-samolotow-z-papieru/
CATEGORIES:Ważne wydarzenia
END:VEVENT
BEGIN:VEVENT
DTSTART;VALUE=DATE:20210526
DTEND;VALUE=DATE:20210527
DTSTAMP:20260423T010844
CREATED:20201013T153341Z
LAST-MODIFIED:20201013T153341Z
UID:24760-1621987200-1622073599@sp26gdynia.pl
SUMMARY:Egzamin ósmoklasisty - matematyka
DESCRIPTION:
URL:https://sp26gdynia.pl/wydarzenie/egzamin-osmoklasisty-matematyka/
CATEGORIES:Ważne wydarzenia
END:VEVENT
BEGIN:VEVENT
DTSTART;VALUE=DATE:20210525
DTEND;VALUE=DATE:20210526
DTSTAMP:20260423T010844
CREATED:20201013T153235Z
LAST-MODIFIED:20201013T153235Z
UID:24758-1621900800-1621987199@sp26gdynia.pl
SUMMARY:Egzamin ósmoklasisty - język polski
DESCRIPTION:
URL:https://sp26gdynia.pl/wydarzenie/egzamin-osmoklasisty-jezyk-polski/
CATEGORIES:Ważne wydarzenia
END:VEVENT
BEGIN:VEVENT
DTSTART;TZID=Europe/Warsaw:20210524T080000
DTEND;TZID=Europe/Warsaw:20210524T170000
DTSTAMP:20260423T010844
CREATED:20210504T173914Z
LAST-MODIFIED:20210504T173914Z
UID:29891-1621843200-1621875600@sp26gdynia.pl
SUMMARY:Rowerowy Maj - zakończenie akcji
DESCRIPTION:
URL:https://sp26gdynia.pl/wydarzenie/rowerowy-maj-zakonczenie-akcji/
CATEGORIES:Ważne wydarzenia
END:VEVENT
BEGIN:VEVENT
DTSTART;TZID=Europe/Warsaw:20210524T080000
DTEND;TZID=Europe/Warsaw:20210524T170000
DTSTAMP:20260423T010844
CREATED:20210504T065244Z
LAST-MODIFIED:20210504T065244Z
UID:29883-1621843200-1621875600@sp26gdynia.pl
SUMMARY:Świetlica szkolna - Dzień Ślimaka
DESCRIPTION:
URL:https://sp26gdynia.pl/wydarzenie/swietlica-szkolna-dzien-slimaka/
CATEGORIES:Ważne wydarzenia
END:VEVENT
BEGIN:VEVENT
DTSTART;TZID=Europe/Warsaw:20210521T080000
DTEND;TZID=Europe/Warsaw:20210521T170000
DTSTAMP:20260423T010844
CREATED:20210504T065307Z
LAST-MODIFIED:20210504T065307Z
UID:29885-1621584000-1621616400@sp26gdynia.pl
SUMMARY:Świetlica szkolna - Dzień Żółwia
DESCRIPTION:
URL:https://sp26gdynia.pl/wydarzenie/swietlica-szkolna-dzien-zolwia/
CATEGORIES:Ważne wydarzenia
END:VEVENT
BEGIN:VEVENT
DTSTART;TZID=Europe/Warsaw:20210521T080000
DTEND;TZID=Europe/Warsaw:20210521T170000
DTSTAMP:20260423T010844
CREATED:20210504T065100Z
LAST-MODIFIED:20210504T065100Z
UID:29879-1621584000-1621616400@sp26gdynia.pl
SUMMARY:Świetlica szkolna - Dzień Kosmosu
DESCRIPTION:
URL:https://sp26gdynia.pl/wydarzenie/swietlica-szkolna-dzien-kosmosu/
CATEGORIES:Ważne wydarzenia
END:VEVENT
BEGIN:VEVENT
DTSTART;TZID=Europe/Warsaw:20210520T080000
DTEND;TZID=Europe/Warsaw:20210520T170000
DTSTAMP:20260423T010844
CREATED:20210504T065031Z
LAST-MODIFIED:20210504T065031Z
UID:29877-1621497600-1621530000@sp26gdynia.pl
SUMMARY:Europejski Dzień Morza
DESCRIPTION:
URL:https://sp26gdynia.pl/wydarzenie/europejski-dzien-morza/
CATEGORIES:Ważne wydarzenia
END:VEVENT
BEGIN:VEVENT
DTSTART;VALUE=DATE:20210520
DTEND;VALUE=DATE:20210521
DTSTAMP:20260423T010844
CREATED:20201013T153112Z
LAST-MODIFIED:20201013T153112Z
UID:24755-1621468800-1621555199@sp26gdynia.pl
SUMMARY:Zebranie z Rodzicami klasy 4 - 8
DESCRIPTION:
URL:https://sp26gdynia.pl/wydarzenie/zebranie-z-rodzicami-klasy-4-8/
CATEGORIES:Ważne wydarzenia
END:VEVENT
BEGIN:VEVENT
DTSTART;TZID=Europe/Warsaw:20210519T080000
DTEND;TZID=Europe/Warsaw:20210519T170000
DTSTAMP:20260423T010844
CREATED:20210504T064925Z
LAST-MODIFIED:20210504T064925Z
UID:29875-1621411200-1621443600@sp26gdynia.pl
SUMMARY:Świetlica szkolna - Dzień Dobrych Uczynków
DESCRIPTION:
URL:https://sp26gdynia.pl/wydarzenie/swietlica-szkolna-dzien-dobrych-uczynkow/
CATEGORIES:Ważne wydarzenia
END:VEVENT
BEGIN:VEVENT
DTSTART;VALUE=DATE:20210519
DTEND;VALUE=DATE:20210520
DTSTAMP:20260423T010844
CREATED:20201013T153025Z
LAST-MODIFIED:20201013T153138Z
UID:24753-1621382400-1621468799@sp26gdynia.pl
SUMMARY:Zebranie z Rodzicami klasy 0 - 3
DESCRIPTION:
URL:https://sp26gdynia.pl/wydarzenie/zebranie-z-rodzicami/
CATEGORIES:Ważne wydarzenia
END:VEVENT
BEGIN:VEVENT
DTSTART;TZID=Europe/Warsaw:20210514T080000
DTEND;TZID=Europe/Warsaw:20210514T170000
DTSTAMP:20260423T010844
CREATED:20210504T064846Z
LAST-MODIFIED:20210504T064846Z
UID:29873-1620979200-1621011600@sp26gdynia.pl
SUMMARY:Świetlica szkolna - Dzień Niezapominajki
DESCRIPTION:
URL:https://sp26gdynia.pl/wydarzenie/swietlica-szkolna-dzien-niezapominajki/
CATEGORIES:Ważne wydarzenia
END:VEVENT
BEGIN:VEVENT
DTSTART;VALUE=DATE:20210514
DTEND;VALUE=DATE:20210515
DTSTAMP:20260423T010844
CREATED:20210510T111010Z
LAST-MODIFIED:20210510T111010Z
UID:29966-1620950400-1621036799@sp26gdynia.pl
SUMMARY:Żywa lekcja muzyki - klasy młodsze\, grupa 2
DESCRIPTION:
URL:https://sp26gdynia.pl/wydarzenie/zywa-lekcja-muzyki-klasy-mlodsze-grupa-2/
CATEGORIES:Ważne wydarzenia
END:VEVENT
BEGIN:VEVENT
DTSTART;VALUE=DATE:20210514
DTEND;VALUE=DATE:20210515
DTSTAMP:20260423T010844
CREATED:20210505T095756Z
LAST-MODIFIED:20210505T100138Z
UID:29900-1620950400-1621036799@sp26gdynia.pl
SUMMARY:wystawienie przewidywanych ocen niedostatecznych i nagannych z zachowania
DESCRIPTION:
URL:https://sp26gdynia.pl/wydarzenie/wystawienie-propozycji-ocen-niedostatecznych-i-nagannych-2/
CATEGORIES:Ważne wydarzenia
END:VEVENT
BEGIN:VEVENT
DTSTART;VALUE=DATE:20210513
DTEND;VALUE=DATE:20210514
DTSTAMP:20260423T010844
CREATED:20210510T110937Z
LAST-MODIFIED:20210510T110937Z
UID:29964-1620864000-1620950399@sp26gdynia.pl
SUMMARY:Żywa lekcja muzyki - klasy młodsze\, grupa 1
DESCRIPTION:
URL:https://sp26gdynia.pl/wydarzenie/zywa-lekcja-muzyki-klasy-mlodsze-grupa-1/
CATEGORIES:Ważne wydarzenia
END:VEVENT
BEGIN:VEVENT
DTSTART;TZID=Europe/Warsaw:20210504T080000
DTEND;TZID=Europe/Warsaw:20210504T170000
DTSTAMP:20260423T010844
CREATED:20210504T173846Z
LAST-MODIFIED:20210504T173846Z
UID:29889-1620115200-1620147600@sp26gdynia.pl
SUMMARY:Rowerowy Maj - rozpoczęcie akcji
DESCRIPTION:
URL:https://sp26gdynia.pl/wydarzenie/rowerowy-maj-rozpoczecie-akcji/
CATEGORIES:Ważne wydarzenia
END:VEVENT
BEGIN:VEVENT
DTSTART;VALUE=DATE:20210429
DTEND;VALUE=DATE:20210430
DTSTAMP:20260423T010844
CREATED:20210426T061519Z
LAST-MODIFIED:20210426T061519Z
UID:29819-1619654400-1619740799@sp26gdynia.pl
SUMMARY:Dbam o Mój Zasięg - warsztaty na Teams z fonoholizmu dla klasy 6b i 6a
DESCRIPTION:
URL:https://sp26gdynia.pl/wydarzenie/dbam-o-moj-zasieg-warsztaty-na-teams-z-fonoholizmu-dla-klasy-6b-i-6a/
CATEGORIES:Ważne wydarzenia
END:VEVENT
BEGIN:VEVENT
DTSTART;TZID=Europe/Warsaw:20210427T104500
DTEND;TZID=Europe/Warsaw:20210427T123000
DTSTAMP:20260423T010844
CREATED:20210415T185741Z
LAST-MODIFIED:20210415T185741Z
UID:29598-1619520300-1619526600@sp26gdynia.pl
SUMMARY:Warsztaty - fonoholizm i bezpieczny internet 5 A
DESCRIPTION:
URL:https://sp26gdynia.pl/wydarzenie/warsztaty-fonoholizm-i-bezpieczny-internet-5-a/
CATEGORIES:Ważne wydarzenia
ATTACH;FMTTYPE=image/jpeg:https://sp26gdynia.pl/wp-content/uploads/2021/04/internet-.jpg
END:VEVENT
BEGIN:VEVENT
DTSTART;TZID=Europe/Warsaw:20210426T124500
DTEND;TZID=Europe/Warsaw:20210426T133000
DTSTAMP:20260423T010844
CREATED:20210426T061349Z
LAST-MODIFIED:20210426T061349Z
UID:29817-1619441100-1619443800@sp26gdynia.pl
SUMMARY:Dbam o Mój Zasięg - warsztaty na Teams z fonoholizmu dla klasy 7c
DESCRIPTION:
URL:https://sp26gdynia.pl/wydarzenie/dbam-o-moj-zasieg-warsztaty-na-teams-z-fonoholizmu-dla-klasy-7c/
CATEGORIES:Ważne wydarzenia
END:VEVENT
BEGIN:VEVENT
DTSTART;TZID=Europe/Warsaw:20210422T080000
DTEND;TZID=Europe/Warsaw:20210422T170000
DTSTAMP:20260423T010844
CREATED:20210416T101813Z
LAST-MODIFIED:20210416T101813Z
UID:29623-1619078400-1619110800@sp26gdynia.pl
SUMMARY:Dzień Ziemi
DESCRIPTION:
URL:https://sp26gdynia.pl/wydarzenie/dzien-ziemi-2/
CATEGORIES:Ważne wydarzenia
END:VEVENT
END:VCALENDAR