BEGIN:VCALENDAR
VERSION:2.0
PRODID:-//Szkoła Podstawowa nr 26 w Gdyni - ECPv6.15.17//NONSGML v1.0//EN
CALSCALE:GREGORIAN
METHOD:PUBLISH
X-WR-CALNAME:Szkoła Podstawowa nr 26 w Gdyni
X-ORIGINAL-URL:https://sp26gdynia.pl
X-WR-CALDESC:Wydarzenia dla Szkoła Podstawowa nr 26 w Gdyni
REFRESH-INTERVAL;VALUE=DURATION:PT1H
X-Robots-Tag:noindex
X-PUBLISHED-TTL:PT1H
BEGIN:VTIMEZONE
TZID:Europe/Warsaw
BEGIN:DAYLIGHT
TZOFFSETFROM:+0100
TZOFFSETTO:+0200
TZNAME:CEST
DTSTART:20200329T010000
END:DAYLIGHT
BEGIN:STANDARD
TZOFFSETFROM:+0200
TZOFFSETTO:+0100
TZNAME:CET
DTSTART:20201025T010000
END:STANDARD
BEGIN:DAYLIGHT
TZOFFSETFROM:+0100
TZOFFSETTO:+0200
TZNAME:CEST
DTSTART:20210328T010000
END:DAYLIGHT
BEGIN:STANDARD
TZOFFSETFROM:+0200
TZOFFSETTO:+0100
TZNAME:CET
DTSTART:20211031T010000
END:STANDARD
BEGIN:DAYLIGHT
TZOFFSETFROM:+0100
TZOFFSETTO:+0200
TZNAME:CEST
DTSTART:20220327T010000
END:DAYLIGHT
BEGIN:STANDARD
TZOFFSETFROM:+0200
TZOFFSETTO:+0100
TZNAME:CET
DTSTART:20221030T010000
END:STANDARD
END:VTIMEZONE
BEGIN:VEVENT
DTSTART;VALUE=DATE:20211020
DTEND;VALUE=DATE:20211021
DTSTAMP:20260422T213133
CREATED:20211020T123025Z
LAST-MODIFIED:20211020T123025Z
UID:32689-1634688000-1634774399@sp26gdynia.pl
SUMMARY:Udział w ogólnopolskiej akcji czytelniczej "Przerwa na czytanie"
DESCRIPTION:
URL:https://sp26gdynia.pl/wydarzenie/udzial-w-ogolnopolskiej-akcji-czytelniczej-przerwa-na-czytanie/
CATEGORIES:Ważne wydarzenia
END:VEVENT
BEGIN:VEVENT
DTSTART;TZID=Europe/Warsaw:20211012T080000
DTEND;TZID=Europe/Warsaw:20211012T170000
DTSTAMP:20260422T213133
CREATED:20210920T110820Z
LAST-MODIFIED:20210924T053711Z
UID:31593-1634025600-1634058000@sp26gdynia.pl
SUMMARY:Dzień Edukacji Narodowej
DESCRIPTION:
URL:https://sp26gdynia.pl/wydarzenie/dzien-edukacji-narodowej/
CATEGORIES:Ważne wydarzenia
END:VEVENT
BEGIN:VEVENT
DTSTART;TZID=Europe/Warsaw:20211012T080000
DTEND;TZID=Europe/Warsaw:20211012T170000
DTSTAMP:20260422T213133
CREATED:20210915T180048Z
LAST-MODIFIED:20210915T180048Z
UID:31526-1634025600-1634058000@sp26gdynia.pl
SUMMARY:Świetlica szkolna - Dzień Bezpiecznego Komputera
DESCRIPTION:
URL:https://sp26gdynia.pl/wydarzenie/swietlica-szkolna-dzien-bezpiecznego-komputera/
CATEGORIES:Ważne wydarzenia
END:VEVENT
BEGIN:VEVENT
DTSTART;TZID=Europe/Warsaw:20211008T170000
DTEND;TZID=Europe/Warsaw:20211008T193000
DTSTAMP:20260422T213133
CREATED:20211006T121859Z
LAST-MODIFIED:20211006T122355Z
UID:32335-1633712400-1633721400@sp26gdynia.pl
SUMMARY:Noc Bibliotek 2021 "Czytanie wzmacnia"
DESCRIPTION:
URL:https://sp26gdynia.pl/wydarzenie/noc-bibliotek-2021-czytanie-wzmacnia/
CATEGORIES:Ważne wydarzenia
END:VEVENT
BEGIN:VEVENT
DTSTART;TZID=Europe/Warsaw:20211008T080000
DTEND;TZID=Europe/Warsaw:20211008T170000
DTSTAMP:20260422T213133
CREATED:20210915T180020Z
LAST-MODIFIED:20210915T180020Z
UID:31524-1633680000-1633712400@sp26gdynia.pl
SUMMARY:Świetlica szkolna - Dzień Znaczka Pocztowego
DESCRIPTION:
URL:https://sp26gdynia.pl/wydarzenie/swietlica-szkolna-dzien-znaczka-pocztowego/
CATEGORIES:Ważne wydarzenia
END:VEVENT
BEGIN:VEVENT
DTSTART;VALUE=DATE:20211005
DTEND;VALUE=DATE:20211006
DTSTAMP:20260422T213133
CREATED:20210920T072634Z
LAST-MODIFIED:20210920T072634Z
UID:31590-1633392000-1633478399@sp26gdynia.pl
SUMMARY:Adventure Park - klasy 4 - 8
DESCRIPTION:
URL:https://sp26gdynia.pl/wydarzenie/adventure-park-klasy-4-8/
CATEGORIES:Ważne wydarzenia
END:VEVENT
BEGIN:VEVENT
DTSTART;TZID=Europe/Warsaw:20211004T080000
DTEND;TZID=Europe/Warsaw:20211004T170000
DTSTAMP:20260422T213133
CREATED:20210915T175939Z
LAST-MODIFIED:20210915T175939Z
UID:31522-1633334400-1633366800@sp26gdynia.pl
SUMMARY:Świetlica szkolna - Dzień Zwierząt
DESCRIPTION:
URL:https://sp26gdynia.pl/wydarzenie/swietlica-szkolna-dzien-zwierzat/
CATEGORIES:Ważne wydarzenia
END:VEVENT
BEGIN:VEVENT
DTSTART;TZID=Europe/Warsaw:20211001T080000
DTEND;TZID=Europe/Warsaw:20211001T170000
DTSTAMP:20260422T213133
CREATED:20210915T175912Z
LAST-MODIFIED:20210915T175912Z
UID:31520-1633075200-1633107600@sp26gdynia.pl
SUMMARY:Światowy Dzień Tabliczki Mnożenia
DESCRIPTION:
URL:https://sp26gdynia.pl/wydarzenie/swiatowy-dzien-tabliczki-mnozenia/
CATEGORIES:Ważne wydarzenia
END:VEVENT
BEGIN:VEVENT
DTSTART;TZID=Europe/Warsaw:20210930T080000
DTEND;TZID=Europe/Warsaw:20210930T170000
DTSTAMP:20260422T213133
CREATED:20210915T175730Z
LAST-MODIFIED:20210915T175730Z
UID:31516-1632988800-1633021200@sp26gdynia.pl
SUMMARY:Świetlica szkolna - Światowy Dzień Morza
DESCRIPTION:
URL:https://sp26gdynia.pl/wydarzenie/swietlica-szkolna-swiatowy-dzien-morza/
CATEGORIES:Ważne wydarzenia
END:VEVENT
BEGIN:VEVENT
DTSTART;TZID=Europe/Warsaw:20210930T080000
DTEND;TZID=Europe/Warsaw:20210930T170000
DTSTAMP:20260422T213133
CREATED:20210914T153919Z
LAST-MODIFIED:20210914T153919Z
UID:31454-1632988800-1633021200@sp26gdynia.pl
SUMMARY:Dzień Chłopaka
DESCRIPTION:
URL:https://sp26gdynia.pl/wydarzenie/dzien-chlopaka/
CATEGORIES:Ważne wydarzenia
END:VEVENT
BEGIN:VEVENT
DTSTART;TZID=Europe/Warsaw:20210929T080000
DTEND;TZID=Europe/Warsaw:20210929T170000
DTSTAMP:20260422T213133
CREATED:20210914T153900Z
LAST-MODIFIED:20210914T153900Z
UID:31452-1632902400-1632934800@sp26gdynia.pl
SUMMARY:Dzień Głośnego Czytania
DESCRIPTION:
URL:https://sp26gdynia.pl/wydarzenie/dzien-glosnego-czytania/
CATEGORIES:Ważne wydarzenia
END:VEVENT
BEGIN:VEVENT
DTSTART;TZID=Europe/Warsaw:20210928T080000
DTEND;TZID=Europe/Warsaw:20210928T170000
DTSTAMP:20260422T213133
CREATED:20210915T175817Z
LAST-MODIFIED:20210915T175817Z
UID:31518-1632816000-1632848400@sp26gdynia.pl
SUMMARY:Świetlica szkolna - Dzień Jabłka
DESCRIPTION:
URL:https://sp26gdynia.pl/wydarzenie/swietlica-szkolna-dzien-jablka-2/
CATEGORIES:Ważne wydarzenia
END:VEVENT
BEGIN:VEVENT
DTSTART;TZID=Europe/Warsaw:20210923T080000
DTEND;TZID=Europe/Warsaw:20210923T170000
DTSTAMP:20260422T213133
CREATED:20210920T111003Z
LAST-MODIFIED:20210922T163227Z
UID:31595-1632384000-1632416400@sp26gdynia.pl
SUMMARY:Powitanie jesieni
DESCRIPTION:
URL:https://sp26gdynia.pl/wydarzenie/kolorowy-dzien-jesien/
CATEGORIES:Ważne wydarzenia
END:VEVENT
BEGIN:VEVENT
DTSTART;TZID=Europe/Warsaw:20210923T080000
DTEND;TZID=Europe/Warsaw:20210923T170000
DTSTAMP:20260422T213133
CREATED:20210914T153815Z
LAST-MODIFIED:20210914T153815Z
UID:31450-1632384000-1632416400@sp26gdynia.pl
SUMMARY:Świetlica szkolna - Dzień Spadającego Liścia
DESCRIPTION:
URL:https://sp26gdynia.pl/wydarzenie/swietlica-szkolna-dzien-spadajacego-liscia-2/
CATEGORIES:Ważne wydarzenia
END:VEVENT
BEGIN:VEVENT
DTSTART;VALUE=DATE:20210921
DTEND;VALUE=DATE:20210922
DTSTAMP:20260422T213133
CREATED:20210920T072524Z
LAST-MODIFIED:20210920T072524Z
UID:31588-1632182400-1632268799@sp26gdynia.pl
SUMMARY:Wyjście na kręgle - klasy 0 - 3
DESCRIPTION:
URL:https://sp26gdynia.pl/wydarzenie/wyjscie-na-kregle-klasy-0-3/
CATEGORIES:Ważne wydarzenia
END:VEVENT
BEGIN:VEVENT
DTSTART;VALUE=DATE:20210917
DTEND;VALUE=DATE:20210918
DTSTAMP:20260422T213133
CREATED:20210920T072339Z
LAST-MODIFIED:20210920T072339Z
UID:31584-1631836800-1631923199@sp26gdynia.pl
SUMMARY:Sprzątanie Świata
DESCRIPTION:
URL:https://sp26gdynia.pl/wydarzenie/sprzatanie-swiata-3/
CATEGORIES:Ważne wydarzenia
END:VEVENT
BEGIN:VEVENT
DTSTART;TZID=Europe/Warsaw:20210915T080000
DTEND;TZID=Europe/Warsaw:20210915T170000
DTSTAMP:20260422T213133
CREATED:20210914T152833Z
LAST-MODIFIED:20210914T152833Z
UID:31448-1631692800-1631725200@sp26gdynia.pl
SUMMARY:Dzień Kropki
DESCRIPTION:
URL:https://sp26gdynia.pl/wydarzenie/dzien-kropki/
CATEGORIES:Ważne wydarzenia
END:VEVENT
BEGIN:VEVENT
DTSTART;TZID=Europe/Warsaw:20210914T080000
DTEND;TZID=Europe/Warsaw:20210914T170000
DTSTAMP:20260422T213133
CREATED:20211024T215007Z
LAST-MODIFIED:20211024T215007Z
UID:32769-1631606400-1631638800@sp26gdynia.pl
SUMMARY:Warsztaty Wyspa Sobieszewska kl. 6A\, 7A
DESCRIPTION:
URL:https://sp26gdynia.pl/wydarzenie/warsztaty-wyspa-sobieszewska-kl-6a-7a/
CATEGORIES:Ważne wydarzenia
END:VEVENT
BEGIN:VEVENT
DTSTART;VALUE=DATE:20210625
DTEND;VALUE=DATE:20210626
DTSTAMP:20260422T213133
CREATED:20201013T154502Z
LAST-MODIFIED:20210624T170413Z
UID:24772-1624579200-1624665599@sp26gdynia.pl
SUMMARY:Uroczyste zakończenie roku szkolnego: klasy 4 - 7 godzina 8.00\, klasy 1 - 3 godzina 9.30\, klasy 0 godzina 10.30
DESCRIPTION:
URL:https://sp26gdynia.pl/wydarzenie/uroczyste-zakonczenie-roku-szkolnego-3/
CATEGORIES:Ważne wydarzenia
END:VEVENT
BEGIN:VEVENT
DTSTART;TZID=Europe/Warsaw:20210622T080000
DTEND;TZID=Europe/Warsaw:20210622T170000
DTSTAMP:20260422T213133
CREATED:20210615T110114Z
LAST-MODIFIED:20210615T110114Z
UID:30859-1624348800-1624381200@sp26gdynia.pl
SUMMARY:Wyjście do kina (1a\, 1-3obc\, 2a\, 2b\, 3a)
DESCRIPTION:
URL:https://sp26gdynia.pl/wydarzenie/wyjscie-do-kina-1a-1-3obc-2a-2b-3a/
CATEGORIES:Ważne wydarzenia
END:VEVENT
BEGIN:VEVENT
DTSTART;TZID=Europe/Warsaw:20210614T080000
DTEND;TZID=Europe/Warsaw:20210614T170000
DTSTAMP:20260422T213133
CREATED:20210611T130606Z
LAST-MODIFIED:20210611T130606Z
UID:30845-1623657600-1623690000@sp26gdynia.pl
SUMMARY:Lekcja muzyki " Sporo w buszu animuszu"- muzyka afrykańska- kl. 0b\, 1a\, 1obc\, 2a\,b\, 3a
DESCRIPTION:
URL:https://sp26gdynia.pl/wydarzenie/lekcja-muzyki-sporo-w-buszu-animuszu-muzyka-afrykanska-kl-0b-1a-1obc-2ab-3a/
CATEGORIES:Ważne wydarzenia
END:VEVENT
BEGIN:VEVENT
DTSTART;VALUE=DATE:20210609
DTEND;VALUE=DATE:20210610
DTSTAMP:20260422T213133
CREATED:20201013T154012Z
LAST-MODIFIED:20201013T154012Z
UID:24766-1623196800-1623283199@sp26gdynia.pl
SUMMARY:Wystawienie ocen rocznych
DESCRIPTION:
URL:https://sp26gdynia.pl/wydarzenie/wystawienie-ocen-rocznych-3/
CATEGORIES:Ważne wydarzenia
END:VEVENT
BEGIN:VEVENT
DTSTART;VALUE=DATE:20210604
DTEND;VALUE=DATE:20210605
DTSTAMP:20260422T213133
CREATED:20201013T154313Z
LAST-MODIFIED:20210529T062809Z
UID:24770-1622764800-1622851199@sp26gdynia.pl
SUMMARY:Dzień wolny od zajęć dydaktyczno - wychowawczych
DESCRIPTION:
URL:https://sp26gdynia.pl/wydarzenie/dzien-wolny-od-zajec-dydaktyczno-wychowawczych-wolny-od-pracy/
CATEGORIES:Ważne wydarzenia
END:VEVENT
BEGIN:VEVENT
DTSTART;VALUE=DATE:20210603
DTEND;VALUE=DATE:20210604
DTSTAMP:20260422T213133
CREATED:20201013T154100Z
LAST-MODIFIED:20201013T154100Z
UID:24768-1622678400-1622764799@sp26gdynia.pl
SUMMARY:Boże Ciało - dzień wolny od pracy
DESCRIPTION:
URL:https://sp26gdynia.pl/wydarzenie/boze-cialo-dzien-wolny-od-pracy/
CATEGORIES:Ważne wydarzenia
END:VEVENT
BEGIN:VEVENT
DTSTART;VALUE=DATE:20210601
DTEND;VALUE=DATE:20210602
DTSTAMP:20260422T213133
CREATED:20210529T062624Z
LAST-MODIFIED:20210529T062624Z
UID:30571-1622505600-1622591999@sp26gdynia.pl
SUMMARY:Podchody na Dzień Dziecka dla klas 0 - 3
DESCRIPTION:
URL:https://sp26gdynia.pl/wydarzenie/podchody-na-dzien-dziecka-dla-klas-0-3/
CATEGORIES:Ważne wydarzenia
END:VEVENT
BEGIN:VEVENT
DTSTART;VALUE=DATE:20210601
DTEND;VALUE=DATE:20210602
DTSTAMP:20260422T213133
CREATED:20201013T153908Z
LAST-MODIFIED:20201013T153908Z
UID:24764-1622505600-1622591999@sp26gdynia.pl
SUMMARY:Wystawienie ocen przewidywanych
DESCRIPTION:
URL:https://sp26gdynia.pl/wydarzenie/wystawienie-ocen-przewidywanych/
CATEGORIES:Ważne wydarzenia
END:VEVENT
BEGIN:VEVENT
DTSTART;TZID=Europe/Warsaw:20210530T080000
DTEND;TZID=Europe/Warsaw:20210530T170000
DTSTAMP:20260422T213133
CREATED:20210529T062243Z
LAST-MODIFIED:20210529T062243Z
UID:30568-1622361600-1622394000@sp26gdynia.pl
SUMMARY:3b - Rodzinny spływ kajakowy
DESCRIPTION:
URL:https://sp26gdynia.pl/wydarzenie/3b-rodzinny-splyw-kajakowy/
CATEGORIES:Ważne wydarzenia
END:VEVENT
BEGIN:VEVENT
DTSTART;TZID=Europe/Warsaw:20210529T080000
DTEND;TZID=Europe/Warsaw:20210529T170000
DTSTAMP:20260422T213133
CREATED:20210529T062201Z
LAST-MODIFIED:20210529T062201Z
UID:30566-1622275200-1622307600@sp26gdynia.pl
SUMMARY:2a - Rodzinny spływ kajakowy
DESCRIPTION:
URL:https://sp26gdynia.pl/wydarzenie/2a-rodzinny-splyw-kajakowy/
CATEGORIES:Ważne wydarzenia
END:VEVENT
BEGIN:VEVENT
DTSTART;VALUE=DATE:20210527
DTEND;VALUE=DATE:20210528
DTSTAMP:20260422T213133
CREATED:20201013T153422Z
LAST-MODIFIED:20201013T153422Z
UID:24762-1622073600-1622159999@sp26gdynia.pl
SUMMARY:Egzamin ósmoklasisty - język obcy nowożytny
DESCRIPTION:
URL:https://sp26gdynia.pl/wydarzenie/egzamin-osmoklasisty-jezyk-obcy-nowozytny/
CATEGORIES:Ważne wydarzenia
END:VEVENT
BEGIN:VEVENT
DTSTART;TZID=Europe/Warsaw:20210526T080000
DTEND;TZID=Europe/Warsaw:20210526T170000
DTSTAMP:20260422T213133
CREATED:20210504T173747Z
LAST-MODIFIED:20210504T173747Z
UID:29887-1622016000-1622048400@sp26gdynia.pl
SUMMARY:Dzień Matki
DESCRIPTION:
URL:https://sp26gdynia.pl/wydarzenie/dzien-matki/
CATEGORIES:Ważne wydarzenia
END:VEVENT
END:VCALENDAR