BEGIN:VCALENDAR
VERSION:2.0
PRODID:-//Szkoła Podstawowa nr 26 w Gdyni - ECPv6.15.17//NONSGML v1.0//EN
CALSCALE:GREGORIAN
METHOD:PUBLISH
X-ORIGINAL-URL:https://sp26gdynia.pl
X-WR-CALDESC:Wydarzenia dla Szkoła Podstawowa nr 26 w Gdyni
REFRESH-INTERVAL;VALUE=DURATION:PT1H
X-Robots-Tag:noindex
X-PUBLISHED-TTL:PT1H
BEGIN:VTIMEZONE
TZID:Europe/Warsaw
BEGIN:DAYLIGHT
TZOFFSETFROM:+0100
TZOFFSETTO:+0200
TZNAME:CEST
DTSTART:20200329T010000
END:DAYLIGHT
BEGIN:STANDARD
TZOFFSETFROM:+0200
TZOFFSETTO:+0100
TZNAME:CET
DTSTART:20201025T010000
END:STANDARD
BEGIN:DAYLIGHT
TZOFFSETFROM:+0100
TZOFFSETTO:+0200
TZNAME:CEST
DTSTART:20210328T010000
END:DAYLIGHT
BEGIN:STANDARD
TZOFFSETFROM:+0200
TZOFFSETTO:+0100
TZNAME:CET
DTSTART:20211031T010000
END:STANDARD
BEGIN:DAYLIGHT
TZOFFSETFROM:+0100
TZOFFSETTO:+0200
TZNAME:CEST
DTSTART:20220327T010000
END:DAYLIGHT
BEGIN:STANDARD
TZOFFSETFROM:+0200
TZOFFSETTO:+0100
TZNAME:CET
DTSTART:20221030T010000
END:STANDARD
END:VTIMEZONE
BEGIN:VEVENT
DTSTART;TZID=Europe/Warsaw:20211213T080000
DTEND;TZID=Europe/Warsaw:20211214T170000
DTSTAMP:20260422T181112
CREATED:20211126T125204Z
LAST-MODIFIED:20211126T125204Z
UID:34067-1639382400-1639501200@sp26gdynia.pl
SUMMARY:Lekcja muzyki online dla klas 0-3
DESCRIPTION:
URL:https://sp26gdynia.pl/wydarzenie/lekcja-muzyki-online-dla-klas-0-3/
CATEGORIES:Ważne wydarzenia
END:VEVENT
BEGIN:VEVENT
DTSTART;TZID=Europe/Warsaw:20211206T080000
DTEND;TZID=Europe/Warsaw:20211206T170000
DTSTAMP:20260422T181112
CREATED:20210920T111337Z
LAST-MODIFIED:20210920T111337Z
UID:31599-1638777600-1638810000@sp26gdynia.pl
SUMMARY:Mikołajki
DESCRIPTION:
URL:https://sp26gdynia.pl/wydarzenie/mikolajki-2/
CATEGORIES:Ważne wydarzenia
END:VEVENT
BEGIN:VEVENT
DTSTART;TZID=Europe/Warsaw:20211130T080000
DTEND;TZID=Europe/Warsaw:20211130T170000
DTSTAMP:20260422T181112
CREATED:20210915T180304Z
LAST-MODIFIED:20210915T180304Z
UID:31534-1638259200-1638291600@sp26gdynia.pl
SUMMARY:Andrzejki
DESCRIPTION:
URL:https://sp26gdynia.pl/wydarzenie/andrzejki-2/
CATEGORIES:Ważne wydarzenia
END:VEVENT
BEGIN:VEVENT
DTSTART;TZID=Europe/Warsaw:20211125T080000
DTEND;TZID=Europe/Warsaw:20211125T170000
DTSTAMP:20260422T181112
CREATED:20210915T180331Z
LAST-MODIFIED:20210915T180331Z
UID:31536-1637827200-1637859600@sp26gdynia.pl
SUMMARY:Dzień Pluszowego Misia
DESCRIPTION:
URL:https://sp26gdynia.pl/wydarzenie/dzien-pluszowego-misia/
CATEGORIES:Ważne wydarzenia
END:VEVENT
BEGIN:VEVENT
DTSTART;VALUE=DATE:20211125
DTEND;VALUE=DATE:20211126
DTSTAMP:20260422T181112
CREATED:20211124T093830Z
LAST-MODIFIED:20211124T093830Z
UID:33887-1637798400-1637884799@sp26gdynia.pl
SUMMARY:Dzień Pluszowego Misia w bibliotece
DESCRIPTION:
URL:https://sp26gdynia.pl/wydarzenie/dzien-pluszowego-misia-w-bibliotece-3/
CATEGORIES:Ważne wydarzenia
END:VEVENT
BEGIN:VEVENT
DTSTART;VALUE=DATE:20211118
DTEND;VALUE=DATE:20211119
DTSTAMP:20260422T181112
CREATED:20211102T134450Z
LAST-MODIFIED:20211102T134450Z
UID:33237-1637193600-1637279999@sp26gdynia.pl
SUMMARY:Zebranie klas 4 - 8
DESCRIPTION:
URL:https://sp26gdynia.pl/wydarzenie/zebranie-klas-4-8-2/
CATEGORIES:Ważne wydarzenia
END:VEVENT
BEGIN:VEVENT
DTSTART;TZID=Europe/Warsaw:20211117T080000
DTEND;TZID=Europe/Warsaw:20211117T093000
DTSTAMP:20260422T181112
CREATED:20211024T215326Z
LAST-MODIFIED:20211024T215326Z
UID:32777-1637136000-1637141400@sp26gdynia.pl
SUMMARY:Egzamin próbny - język obcy nowożytny
DESCRIPTION:
URL:https://sp26gdynia.pl/wydarzenie/egzamin-probny-jezyk-obcy-nowozytny/
CATEGORIES:Ważne wydarzenia
END:VEVENT
BEGIN:VEVENT
DTSTART;VALUE=DATE:20211117
DTEND;VALUE=DATE:20211118
DTSTAMP:20260422T181112
CREATED:20211102T134357Z
LAST-MODIFIED:20211102T134357Z
UID:33235-1637107200-1637193599@sp26gdynia.pl
SUMMARY:Zebranie klas 0 - 3
DESCRIPTION:
URL:https://sp26gdynia.pl/wydarzenie/zebranie-klas-0-3-2/
CATEGORIES:Ważne wydarzenia
END:VEVENT
BEGIN:VEVENT
DTSTART;TZID=Europe/Warsaw:20211116T080000
DTEND;TZID=Europe/Warsaw:20211116T100000
DTSTAMP:20260422T181112
CREATED:20211024T215243Z
LAST-MODIFIED:20211024T215243Z
UID:32775-1637049600-1637056800@sp26gdynia.pl
SUMMARY:Egzamin próbny - matematyka
DESCRIPTION:
URL:https://sp26gdynia.pl/wydarzenie/egzamin-probny-matematyka/
CATEGORIES:Ważne wydarzenia
END:VEVENT
BEGIN:VEVENT
DTSTART;TZID=Europe/Warsaw:20211115T080000
DTEND;TZID=Europe/Warsaw:20211115T100000
DTSTAMP:20260422T181112
CREATED:20211024T215206Z
LAST-MODIFIED:20211024T215206Z
UID:32773-1636963200-1636970400@sp26gdynia.pl
SUMMARY:Egzamin próbny - j. polski
DESCRIPTION:
URL:https://sp26gdynia.pl/wydarzenie/egzamin-probny-j-polski/
CATEGORIES:Ważne wydarzenia
END:VEVENT
BEGIN:VEVENT
DTSTART;VALUE=DATE:20211112
DTEND;VALUE=DATE:20211113
DTSTAMP:20260422T181112
CREATED:20211102T134902Z
LAST-MODIFIED:20211102T134902Z
UID:33243-1636675200-1636761599@sp26gdynia.pl
SUMMARY:Dzień wolny od zajęć dydaktyczno - wychowawczych
DESCRIPTION:
URL:https://sp26gdynia.pl/wydarzenie/dzien-wolny-od-zajec-dydaktyczno-wychowawczych-3/
CATEGORIES:Ważne wydarzenia
END:VEVENT
BEGIN:VEVENT
DTSTART;TZID=Europe/Warsaw:20211110T080000
DTEND;TZID=Europe/Warsaw:20211110T170000
DTSTAMP:20260422T181112
CREATED:20210915T180236Z
LAST-MODIFIED:20210915T180236Z
UID:31532-1636531200-1636563600@sp26gdynia.pl
SUMMARY:Świetlica szkolna - Dzień Jeża
DESCRIPTION:
URL:https://sp26gdynia.pl/wydarzenie/swietlica-szkolna-dzien-jeza-2/
CATEGORIES:Ważne wydarzenia
END:VEVENT
BEGIN:VEVENT
DTSTART;TZID=Europe/Warsaw:20211108T080000
DTEND;TZID=Europe/Warsaw:20211108T170000
DTSTAMP:20260422T181112
CREATED:20210920T111305Z
LAST-MODIFIED:20210920T111305Z
UID:31597-1636358400-1636390800@sp26gdynia.pl
SUMMARY:Dzień Zdrowego Śniadania
DESCRIPTION:
URL:https://sp26gdynia.pl/wydarzenie/dzien-zdrowego-sniadania/
CATEGORIES:Ważne wydarzenia
END:VEVENT
BEGIN:VEVENT
DTSTART;TZID=Europe/Warsaw:20211105T080000
DTEND;TZID=Europe/Warsaw:20211105T170000
DTSTAMP:20260422T181112
CREATED:20210922T163514Z
LAST-MODIFIED:20210922T163514Z
UID:31718-1636099200-1636131600@sp26gdynia.pl
SUMMARY:Dzień Postaci z Bajek
DESCRIPTION:
URL:https://sp26gdynia.pl/wydarzenie/dzien-postaci-z-bajek-2/
CATEGORIES:Ważne wydarzenia
END:VEVENT
BEGIN:VEVENT
DTSTART;VALUE=DATE:20211105
DTEND;VALUE=DATE:20211106
DTSTAMP:20260422T181112
CREATED:20211104T110026Z
LAST-MODIFIED:20211104T110026Z
UID:33383-1636070400-1636156799@sp26gdynia.pl
SUMMARY:Dzień Postaci z Bajek
DESCRIPTION:
URL:https://sp26gdynia.pl/wydarzenie/dzien-postaci-z-bajek-3/
CATEGORIES:Ważne wydarzenia
END:VEVENT
BEGIN:VEVENT
DTSTART;TZID=Europe/Warsaw:20211029T080000
DTEND;TZID=Europe/Warsaw:20211029T170000
DTSTAMP:20260422T181112
CREATED:20210922T163406Z
LAST-MODIFIED:20210922T163406Z
UID:31716-1635494400-1635526800@sp26gdynia.pl
SUMMARY:Lekcja muzyki dla klas 0-3 "Muzyczni Superbohaterowie"
DESCRIPTION:
URL:https://sp26gdynia.pl/wydarzenie/lekcja-muzyki-dla-klas-0-3-muzyczni-superbohaterowie/
CATEGORIES:Ważne wydarzenia
END:VEVENT
BEGIN:VEVENT
DTSTART;TZID=Europe/Warsaw:20211029T080000
DTEND;TZID=Europe/Warsaw:20211029T170000
DTSTAMP:20260422T181112
CREATED:20210915T180152Z
LAST-MODIFIED:20210915T180152Z
UID:31530-1635494400-1635526800@sp26gdynia.pl
SUMMARY:Święto Dyni
DESCRIPTION:
URL:https://sp26gdynia.pl/wydarzenie/swieto-dyni/
CATEGORIES:Ważne wydarzenia
END:VEVENT
BEGIN:VEVENT
DTSTART;TZID=Europe/Warsaw:20211028T080000
DTEND;TZID=Europe/Warsaw:20211028T130000
DTSTAMP:20260422T181112
CREATED:20211024T215115Z
LAST-MODIFIED:20211024T215115Z
UID:32771-1635408000-1635426000@sp26gdynia.pl
SUMMARY:Warsztaty ekologiczne klasa 6A
DESCRIPTION:
URL:https://sp26gdynia.pl/wydarzenie/warsztaty-ekologiczne-klasa-6a/
CATEGORIES:Ważne wydarzenia
END:VEVENT
BEGIN:VEVENT
DTSTART;VALUE=DATE:20211026
DTEND;VALUE=DATE:20211027
DTSTAMP:20260422T181112
CREATED:20211020T123133Z
LAST-MODIFIED:20211020T123133Z
UID:32692-1635206400-1635292799@sp26gdynia.pl
SUMMARY:Dzień Gier Planszowych
DESCRIPTION:
URL:https://sp26gdynia.pl/wydarzenie/dzien-gier-planszowych/
CATEGORIES:Ważne wydarzenia
END:VEVENT
BEGIN:VEVENT
DTSTART;TZID=Europe/Warsaw:20211025T080000
DTEND;TZID=Europe/Warsaw:20211025T170000
DTSTAMP:20260422T181112
CREATED:20210915T180128Z
LAST-MODIFIED:20210915T180128Z
UID:31528-1635148800-1635181200@sp26gdynia.pl
SUMMARY:Świetlica szkolna - Dzień Kundelka
DESCRIPTION:
URL:https://sp26gdynia.pl/wydarzenie/swietlica-szkolna-dzien-kundelka-2/
CATEGORIES:Ważne wydarzenia
END:VEVENT
BEGIN:VEVENT
DTSTART;VALUE=DATE:20211020
DTEND;VALUE=DATE:20211021
DTSTAMP:20260422T181112
CREATED:20211020T123025Z
LAST-MODIFIED:20211020T123025Z
UID:32689-1634688000-1634774399@sp26gdynia.pl
SUMMARY:Udział w ogólnopolskiej akcji czytelniczej "Przerwa na czytanie"
DESCRIPTION:
URL:https://sp26gdynia.pl/wydarzenie/udzial-w-ogolnopolskiej-akcji-czytelniczej-przerwa-na-czytanie/
CATEGORIES:Ważne wydarzenia
END:VEVENT
BEGIN:VEVENT
DTSTART;TZID=Europe/Warsaw:20211012T080000
DTEND;TZID=Europe/Warsaw:20211012T170000
DTSTAMP:20260422T181112
CREATED:20210920T110820Z
LAST-MODIFIED:20210924T053711Z
UID:31593-1634025600-1634058000@sp26gdynia.pl
SUMMARY:Dzień Edukacji Narodowej
DESCRIPTION:
URL:https://sp26gdynia.pl/wydarzenie/dzien-edukacji-narodowej/
CATEGORIES:Ważne wydarzenia
END:VEVENT
BEGIN:VEVENT
DTSTART;TZID=Europe/Warsaw:20211012T080000
DTEND;TZID=Europe/Warsaw:20211012T170000
DTSTAMP:20260422T181112
CREATED:20210915T180048Z
LAST-MODIFIED:20210915T180048Z
UID:31526-1634025600-1634058000@sp26gdynia.pl
SUMMARY:Świetlica szkolna - Dzień Bezpiecznego Komputera
DESCRIPTION:
URL:https://sp26gdynia.pl/wydarzenie/swietlica-szkolna-dzien-bezpiecznego-komputera/
CATEGORIES:Ważne wydarzenia
END:VEVENT
BEGIN:VEVENT
DTSTART;TZID=Europe/Warsaw:20211008T170000
DTEND;TZID=Europe/Warsaw:20211008T193000
DTSTAMP:20260422T181112
CREATED:20211006T121859Z
LAST-MODIFIED:20211006T122355Z
UID:32335-1633712400-1633721400@sp26gdynia.pl
SUMMARY:Noc Bibliotek 2021 "Czytanie wzmacnia"
DESCRIPTION:
URL:https://sp26gdynia.pl/wydarzenie/noc-bibliotek-2021-czytanie-wzmacnia/
CATEGORIES:Ważne wydarzenia
END:VEVENT
BEGIN:VEVENT
DTSTART;TZID=Europe/Warsaw:20211008T080000
DTEND;TZID=Europe/Warsaw:20211008T170000
DTSTAMP:20260422T181112
CREATED:20210915T180020Z
LAST-MODIFIED:20210915T180020Z
UID:31524-1633680000-1633712400@sp26gdynia.pl
SUMMARY:Świetlica szkolna - Dzień Znaczka Pocztowego
DESCRIPTION:
URL:https://sp26gdynia.pl/wydarzenie/swietlica-szkolna-dzien-znaczka-pocztowego/
CATEGORIES:Ważne wydarzenia
END:VEVENT
BEGIN:VEVENT
DTSTART;VALUE=DATE:20211005
DTEND;VALUE=DATE:20211006
DTSTAMP:20260422T181112
CREATED:20210920T072634Z
LAST-MODIFIED:20210920T072634Z
UID:31590-1633392000-1633478399@sp26gdynia.pl
SUMMARY:Adventure Park - klasy 4 - 8
DESCRIPTION:
URL:https://sp26gdynia.pl/wydarzenie/adventure-park-klasy-4-8/
CATEGORIES:Ważne wydarzenia
END:VEVENT
BEGIN:VEVENT
DTSTART;TZID=Europe/Warsaw:20211004T080000
DTEND;TZID=Europe/Warsaw:20211004T170000
DTSTAMP:20260422T181112
CREATED:20210915T175939Z
LAST-MODIFIED:20210915T175939Z
UID:31522-1633334400-1633366800@sp26gdynia.pl
SUMMARY:Świetlica szkolna - Dzień Zwierząt
DESCRIPTION:
URL:https://sp26gdynia.pl/wydarzenie/swietlica-szkolna-dzien-zwierzat/
CATEGORIES:Ważne wydarzenia
END:VEVENT
BEGIN:VEVENT
DTSTART;TZID=Europe/Warsaw:20211001T080000
DTEND;TZID=Europe/Warsaw:20211001T170000
DTSTAMP:20260422T181112
CREATED:20210915T175912Z
LAST-MODIFIED:20210915T175912Z
UID:31520-1633075200-1633107600@sp26gdynia.pl
SUMMARY:Światowy Dzień Tabliczki Mnożenia
DESCRIPTION:
URL:https://sp26gdynia.pl/wydarzenie/swiatowy-dzien-tabliczki-mnozenia/
CATEGORIES:Ważne wydarzenia
END:VEVENT
BEGIN:VEVENT
DTSTART;TZID=Europe/Warsaw:20210930T080000
DTEND;TZID=Europe/Warsaw:20210930T170000
DTSTAMP:20260422T181112
CREATED:20210915T175730Z
LAST-MODIFIED:20210915T175730Z
UID:31516-1632988800-1633021200@sp26gdynia.pl
SUMMARY:Świetlica szkolna - Światowy Dzień Morza
DESCRIPTION:
URL:https://sp26gdynia.pl/wydarzenie/swietlica-szkolna-swiatowy-dzien-morza/
CATEGORIES:Ważne wydarzenia
END:VEVENT
BEGIN:VEVENT
DTSTART;TZID=Europe/Warsaw:20210930T080000
DTEND;TZID=Europe/Warsaw:20210930T170000
DTSTAMP:20260422T181112
CREATED:20210914T153919Z
LAST-MODIFIED:20210914T153919Z
UID:31454-1632988800-1633021200@sp26gdynia.pl
SUMMARY:Dzień Chłopaka
DESCRIPTION:
URL:https://sp26gdynia.pl/wydarzenie/dzien-chlopaka/
CATEGORIES:Ważne wydarzenia
END:VEVENT
END:VCALENDAR