BEGIN:VCALENDAR
VERSION:2.0
PRODID:-//Szkoła Podstawowa nr 26 w Gdyni - ECPv6.15.17//NONSGML v1.0//EN
CALSCALE:GREGORIAN
METHOD:PUBLISH
X-ORIGINAL-URL:https://sp26gdynia.pl
X-WR-CALDESC:Wydarzenia dla Szkoła Podstawowa nr 26 w Gdyni
REFRESH-INTERVAL;VALUE=DURATION:PT1H
X-Robots-Tag:noindex
X-PUBLISHED-TTL:PT1H
BEGIN:VTIMEZONE
TZID:Europe/Warsaw
BEGIN:DAYLIGHT
TZOFFSETFROM:+0100
TZOFFSETTO:+0200
TZNAME:CEST
DTSTART:20210328T010000
END:DAYLIGHT
BEGIN:STANDARD
TZOFFSETFROM:+0200
TZOFFSETTO:+0100
TZNAME:CET
DTSTART:20211031T010000
END:STANDARD
BEGIN:DAYLIGHT
TZOFFSETFROM:+0100
TZOFFSETTO:+0200
TZNAME:CEST
DTSTART:20220327T010000
END:DAYLIGHT
BEGIN:STANDARD
TZOFFSETFROM:+0200
TZOFFSETTO:+0100
TZNAME:CET
DTSTART:20221030T010000
END:STANDARD
BEGIN:DAYLIGHT
TZOFFSETFROM:+0100
TZOFFSETTO:+0200
TZNAME:CEST
DTSTART:20230326T010000
END:DAYLIGHT
BEGIN:STANDARD
TZOFFSETFROM:+0200
TZOFFSETTO:+0100
TZNAME:CET
DTSTART:20231029T010000
END:STANDARD
END:VTIMEZONE
BEGIN:VEVENT
DTSTART;VALUE=DATE:20221031
DTEND;VALUE=DATE:20221101
DTSTAMP:20260422T111325
CREATED:20220926T065758Z
LAST-MODIFIED:20220926T065758Z
UID:40492-1667174400-1667260799@sp26gdynia.pl
SUMMARY:Świetlica szkolna - Dzień Dyni
DESCRIPTION:
URL:https://sp26gdynia.pl/wydarzenie/swietlica-szkolna-dzien-dyni-2/
CATEGORIES:Ważne wydarzenia
END:VEVENT
BEGIN:VEVENT
DTSTART;VALUE=DATE:20221018
DTEND;VALUE=DATE:20221019
DTSTAMP:20260422T111325
CREATED:20221004T175439Z
LAST-MODIFIED:20221004T175458Z
UID:40898-1666051200-1666137599@sp26gdynia.pl
SUMMARY:Zajęcia w ramach programu „Wgraj się”
DESCRIPTION:
URL:https://sp26gdynia.pl/wydarzenie/zajecia-w-ramach-programu-wgraj-sie/
CATEGORIES:Ważne wydarzenia
END:VEVENT
BEGIN:VEVENT
DTSTART;VALUE=DATE:20221014
DTEND;VALUE=DATE:20221015
DTSTAMP:20260422T111325
CREATED:20220926T070621Z
LAST-MODIFIED:20220926T070621Z
UID:40504-1665705600-1665791999@sp26gdynia.pl
SUMMARY:Dzień Edukacji Narodowej
DESCRIPTION:
URL:https://sp26gdynia.pl/wydarzenie/dzien-edukacji-narodowej-2/
CATEGORIES:Ważne wydarzenia
END:VEVENT
BEGIN:VEVENT
DTSTART;VALUE=DATE:20221011
DTEND;VALUE=DATE:20221012
DTSTAMP:20260422T111325
CREATED:20221004T180132Z
LAST-MODIFIED:20221004T180132Z
UID:40928-1665446400-1665532799@sp26gdynia.pl
SUMMARY:Lekcja muzyki "Przygoda w Hollywood" 0-3
DESCRIPTION:
URL:https://sp26gdynia.pl/wydarzenie/lekcja-muzyki-przygoda-w-hollywood-0-3/
CATEGORIES:Ważne wydarzenia
END:VEVENT
BEGIN:VEVENT
DTSTART;VALUE=DATE:20221010
DTEND;VALUE=DATE:20221011
DTSTAMP:20260422T111325
CREATED:20220926T065845Z
LAST-MODIFIED:20220926T065845Z
UID:40494-1665360000-1665446399@sp26gdynia.pl
SUMMARY:Świetlica szkolna - Dzień Gier Planszowych
DESCRIPTION:
URL:https://sp26gdynia.pl/wydarzenie/swietlica-szkolna-dzien-gier-planszowych/
CATEGORIES:Ważne wydarzenia
END:VEVENT
BEGIN:VEVENT
DTSTART;VALUE=DATE:20221007
DTEND;VALUE=DATE:20221008
DTSTAMP:20260422T111325
CREATED:20220926T070550Z
LAST-MODIFIED:20220926T070550Z
UID:40502-1665100800-1665187199@sp26gdynia.pl
SUMMARY:Światowy Dzień Tabliczki Mnożenia
DESCRIPTION:
URL:https://sp26gdynia.pl/wydarzenie/swiatowy-dzien-tabliczki-mnozenia-2/
CATEGORIES:Ważne wydarzenia
END:VEVENT
BEGIN:VEVENT
DTSTART;VALUE=DATE:20221004
DTEND;VALUE=DATE:20221005
DTSTAMP:20260422T111325
CREATED:20221004T175342Z
LAST-MODIFIED:20221004T175342Z
UID:40896-1664841600-1664927999@sp26gdynia.pl
SUMMARY:Zajęcia w ramach programu „Wgraj się” 1-3
DESCRIPTION:
URL:https://sp26gdynia.pl/wydarzenie/zajecia-w-ramach-programu-wgraj-sie-1-3/
CATEGORIES:Ważne wydarzenia
END:VEVENT
BEGIN:VEVENT
DTSTART;VALUE=DATE:20221004
DTEND;VALUE=DATE:20221005
DTSTAMP:20260422T111325
CREATED:20220926T065933Z
LAST-MODIFIED:20220926T065933Z
UID:40496-1664841600-1664927999@sp26gdynia.pl
SUMMARY:Świetlica szkolna - Światowy Dzień Zwierząt
DESCRIPTION:
URL:https://sp26gdynia.pl/wydarzenie/swietlica-szkolna-swiatowy-dzien-zwierzat/
CATEGORIES:Ważne wydarzenia
END:VEVENT
BEGIN:VEVENT
DTSTART;VALUE=DATE:20220930
DTEND;VALUE=DATE:20221001
DTSTAMP:20260422T111325
CREATED:20220926T065655Z
LAST-MODIFIED:20220926T065655Z
UID:40490-1664496000-1664582399@sp26gdynia.pl
SUMMARY:Dzień Chłopaka
DESCRIPTION:
URL:https://sp26gdynia.pl/wydarzenie/dzien-chlopaka-2/
CATEGORIES:Ważne wydarzenia
END:VEVENT
BEGIN:VEVENT
DTSTART;VALUE=DATE:20220927
DTEND;VALUE=DATE:20220928
DTSTAMP:20260422T111325
CREATED:20220926T070518Z
LAST-MODIFIED:20220926T070518Z
UID:40500-1664236800-1664323199@sp26gdynia.pl
SUMMARY:Pasowanie na ucznia (1a\, 1b\, oddział przygotowawczy)
DESCRIPTION:
URL:https://sp26gdynia.pl/wydarzenie/pasowanie-na-ucznia-1a-1b-oddzial-przygotowawczy/
CATEGORIES:Ważne wydarzenia
END:VEVENT
BEGIN:VEVENT
DTSTART;VALUE=DATE:20220926
DTEND;VALUE=DATE:20220927
DTSTAMP:20260422T111325
CREATED:20220926T070428Z
LAST-MODIFIED:20220926T070428Z
UID:40498-1664150400-1664236799@sp26gdynia.pl
SUMMARY:Europejski Tydzień Sportu
DESCRIPTION:
URL:https://sp26gdynia.pl/wydarzenie/europejski-tydzien-sportu/
CATEGORIES:Ważne wydarzenia
END:VEVENT
BEGIN:VEVENT
DTSTART;VALUE=DATE:20220624
DTEND;VALUE=DATE:20220625
DTSTAMP:20260422T111325
CREATED:20220221T103754Z
LAST-MODIFIED:20220221T103754Z
UID:35789-1656028800-1656115199@sp26gdynia.pl
SUMMARY:Uroczyste zakończenie roku szkolnego 2021/2022
DESCRIPTION:
URL:https://sp26gdynia.pl/wydarzenie/uroczyste-zakonczenie-roku-szkolnego-2021-2022/
CATEGORIES:Ważne wydarzenia
END:VEVENT
BEGIN:VEVENT
DTSTART;VALUE=DATE:20220617
DTEND;VALUE=DATE:20220618
DTSTAMP:20260422T111325
CREATED:20220221T103656Z
LAST-MODIFIED:20220221T103656Z
UID:35787-1655424000-1655510399@sp26gdynia.pl
SUMMARY:Dzień wolny od zajęć dydaktyczno – wychowawczych
DESCRIPTION:
URL:https://sp26gdynia.pl/wydarzenie/dzien-wolny-od-zajec-dydaktyczno-wychowawczych-7/
CATEGORIES:Ważne wydarzenia
END:VEVENT
BEGIN:VEVENT
DTSTART;VALUE=DATE:20220610
DTEND;VALUE=DATE:20220611
DTSTAMP:20260422T111325
CREATED:20220221T103606Z
LAST-MODIFIED:20220221T103606Z
UID:35785-1654819200-1654905599@sp26gdynia.pl
SUMMARY:Wystawienie ocen rocznych i końcowych
DESCRIPTION:
URL:https://sp26gdynia.pl/wydarzenie/wystawienie-ocen-rocznych-i-koncowych/
CATEGORIES:Ważne wydarzenia
END:VEVENT
BEGIN:VEVENT
DTSTART;VALUE=DATE:20220603
DTEND;VALUE=DATE:20220604
DTSTAMP:20260422T111325
CREATED:20220221T103513Z
LAST-MODIFIED:20220221T103513Z
UID:35783-1654214400-1654300799@sp26gdynia.pl
SUMMARY:Wystawienie wszystkich przewidywanych ocen
DESCRIPTION:
URL:https://sp26gdynia.pl/wydarzenie/wystawienie-wszystkich-przewidywanych-ocen-2/
CATEGORIES:Ważne wydarzenia
END:VEVENT
BEGIN:VEVENT
DTSTART;VALUE=DATE:20220526
DTEND;VALUE=DATE:20220527
DTSTAMP:20260422T111325
CREATED:20220218T122552Z
LAST-MODIFIED:20220218T122552Z
UID:35767-1653523200-1653609599@sp26gdynia.pl
SUMMARY:EGZAMIN ÓSMOKLASISTY – język angielski  Kl. 1-7 – dni wolne od zajęć edukacyjnych
DESCRIPTION:
URL:https://sp26gdynia.pl/wydarzenie/egzamin-osmoklasisty-jezyk-angielski-kl-1-7-dni-wolne-od-zajec-edukacyjnych/
CATEGORIES:Ważne wydarzenia
END:VEVENT
BEGIN:VEVENT
DTSTART;VALUE=DATE:20220525
DTEND;VALUE=DATE:20220526
DTSTAMP:20260422T111325
CREATED:20220218T122415Z
LAST-MODIFIED:20220218T122415Z
UID:35764-1653436800-1653523199@sp26gdynia.pl
SUMMARY:EGZAMIN ÓSMOKLASISTY – matematyka   Kl. 1-7 – dni wolne od zajęć edukacyjnych
DESCRIPTION:
URL:https://sp26gdynia.pl/wydarzenie/egzamin-osmoklasisty-matematyka-kl-1-7-dni-wolne-od-zajec-edukacyjnych/
CATEGORIES:Ważne wydarzenia
END:VEVENT
BEGIN:VEVENT
DTSTART;VALUE=DATE:20220524
DTEND;VALUE=DATE:20220525
DTSTAMP:20260422T111325
CREATED:20220218T122307Z
LAST-MODIFIED:20220218T122441Z
UID:35762-1653350400-1653436799@sp26gdynia.pl
SUMMARY:EGZAMIN ÓSMOKLASISTY – język polski   Kl. 1-7 – dni wolne od zajęć edukacyjnych
DESCRIPTION:
URL:https://sp26gdynia.pl/wydarzenie/egzamin-osmoklasisty-jezyk-polski-kl-4-7-dni-wolne-od-zajec-edukacyjnych/
CATEGORIES:Ważne wydarzenia
END:VEVENT
BEGIN:VEVENT
DTSTART;VALUE=DATE:20220512
DTEND;VALUE=DATE:20220513
DTSTAMP:20260422T111325
CREATED:20220221T103403Z
LAST-MODIFIED:20220221T103403Z
UID:35781-1652313600-1652399999@sp26gdynia.pl
SUMMARY:Zebrania z rodzicami uczniów klas 4 - 8
DESCRIPTION:
URL:https://sp26gdynia.pl/wydarzenie/zebrania-z-rodzicami-uczniow-klas-4-8/
CATEGORIES:Ważne wydarzenia
END:VEVENT
BEGIN:VEVENT
DTSTART;VALUE=DATE:20220511
DTEND;VALUE=DATE:20220512
DTSTAMP:20260422T111325
CREATED:20220221T103334Z
LAST-MODIFIED:20220221T103334Z
UID:35779-1652227200-1652313599@sp26gdynia.pl
SUMMARY:Zebrania z rodzicami uczniów klas 0 - 3
DESCRIPTION:
URL:https://sp26gdynia.pl/wydarzenie/zebrania-z-rodzicami-uczniow-klas-0-3/
CATEGORIES:Ważne wydarzenia
END:VEVENT
BEGIN:VEVENT
DTSTART;VALUE=DATE:20220510
DTEND;VALUE=DATE:20220511
DTSTAMP:20260422T111325
CREATED:20220221T103219Z
LAST-MODIFIED:20220221T103219Z
UID:35777-1652140800-1652227199@sp26gdynia.pl
SUMMARY:Wystawienie przewidywanych ocen niedostatecznych  i nagannych z zachowania
DESCRIPTION:
URL:https://sp26gdynia.pl/wydarzenie/wystawienie-przewidywanych-ocen-niedostatecznych-i-nagannych-z-zachowania-2/
CATEGORIES:Ważne wydarzenia
END:VEVENT
BEGIN:VEVENT
DTSTART;VALUE=DATE:20220502
DTEND;VALUE=DATE:20220503
DTSTAMP:20260422T111325
CREATED:20220218T122152Z
LAST-MODIFIED:20220218T122152Z
UID:35760-1651449600-1651535999@sp26gdynia.pl
SUMMARY:dzień wolny od zajęć dydaktyczno - wychowawczych
DESCRIPTION:
URL:https://sp26gdynia.pl/wydarzenie/dzien-wolny-od-zajec-dydaktyczno-wychowawczych-5/
CATEGORIES:Ważne wydarzenia
END:VEVENT
BEGIN:VEVENT
DTSTART;VALUE=DATE:20220414
DTEND;VALUE=DATE:20220420
DTSTAMP:20260422T111325
CREATED:20220218T122003Z
LAST-MODIFIED:20220218T122003Z
UID:35758-1649894400-1650412799@sp26gdynia.pl
SUMMARY:Wiosenna przerwa świąteczna
DESCRIPTION:
URL:https://sp26gdynia.pl/wydarzenie/wiosenna-przerwa-swiateczna-4/
CATEGORIES:Ważne wydarzenia
END:VEVENT
BEGIN:VEVENT
DTSTART;TZID=Europe/Warsaw:20220321T080000
DTEND;TZID=Europe/Warsaw:20220321T170000
DTSTAMP:20260422T111325
CREATED:20220313T110625Z
LAST-MODIFIED:20220313T110625Z
UID:36253-1647849600-1647882000@sp26gdynia.pl
SUMMARY:Dzień Kolorowej Skarpetki
DESCRIPTION:
URL:https://sp26gdynia.pl/wydarzenie/dzien-kolorowej-skarpetki/
CATEGORIES:Ważne wydarzenia
END:VEVENT
BEGIN:VEVENT
DTSTART;TZID=Europe/Warsaw:20220317T080000
DTEND;TZID=Europe/Warsaw:20220317T170000
DTSTAMP:20260422T111325
CREATED:20220313T110547Z
LAST-MODIFIED:20220313T110547Z
UID:36251-1647504000-1647536400@sp26gdynia.pl
SUMMARY:Dzień Św. Patryka
DESCRIPTION:
URL:https://sp26gdynia.pl/wydarzenie/dzien-sw-patryka/
CATEGORIES:Ważne wydarzenia
END:VEVENT
BEGIN:VEVENT
DTSTART;VALUE=DATE:20220317
DTEND;VALUE=DATE:20220318
DTSTAMP:20260422T111325
CREATED:20220218T121114Z
LAST-MODIFIED:20220218T121114Z
UID:35752-1647475200-1647561599@sp26gdynia.pl
SUMMARY:Dzień języków
DESCRIPTION:
URL:https://sp26gdynia.pl/wydarzenie/dzien-jezykow/
CATEGORIES:Ważne wydarzenia
END:VEVENT
BEGIN:VEVENT
DTSTART;TZID=Europe/Warsaw:20220314T080000
DTEND;TZID=Europe/Warsaw:20220314T170000
DTSTAMP:20260422T111325
CREATED:20220313T110454Z
LAST-MODIFIED:20220313T110454Z
UID:36248-1647244800-1647277200@sp26gdynia.pl
SUMMARY:Świetlica szkolna - Dzień Motyli
DESCRIPTION:
URL:https://sp26gdynia.pl/wydarzenie/swietlica-szkolna-dzien-motyli-2/
CATEGORIES:Ważne wydarzenia
END:VEVENT
BEGIN:VEVENT
DTSTART;TZID=Europe/Warsaw:20220228T080000
DTEND;TZID=Europe/Warsaw:20220228T170000
DTSTAMP:20260422T111325
CREATED:20220127T152024Z
LAST-MODIFIED:20220127T152024Z
UID:35189-1646035200-1646067600@sp26gdynia.pl
SUMMARY:Świetlica szkolna - Dzień Dinozaura
DESCRIPTION:
URL:https://sp26gdynia.pl/wydarzenie/swietlica-szkolna-dzien-dinozaura-3/
CATEGORIES:Ważne wydarzenia
END:VEVENT
BEGIN:VEVENT
DTSTART;VALUE=DATE:20220214
DTEND;VALUE=DATE:20220226
DTSTAMP:20260422T111325
CREATED:20220218T121650Z
LAST-MODIFIED:20220218T121650Z
UID:35754-1644796800-1645833599@sp26gdynia.pl
SUMMARY:Ferie zimowe
DESCRIPTION:
URL:https://sp26gdynia.pl/wydarzenie/ferie-zimowe-5/
CATEGORIES:Ważne wydarzenia
END:VEVENT
BEGIN:VEVENT
DTSTART;TZID=Europe/Warsaw:20220211T080000
DTEND;TZID=Europe/Warsaw:20220211T170000
DTSTAMP:20260422T111325
CREATED:20220127T151952Z
LAST-MODIFIED:20220127T151952Z
UID:35187-1644566400-1644598800@sp26gdynia.pl
SUMMARY:Świetlica szkolna - Walentynki
DESCRIPTION:
URL:https://sp26gdynia.pl/wydarzenie/swietlica-szkolna-walentynki-3/
CATEGORIES:Ważne wydarzenia
END:VEVENT
END:VCALENDAR