BEGIN:VCALENDAR
VERSION:2.0
PRODID:-//Szkoła Podstawowa nr 26 w Gdyni - ECPv6.15.17//NONSGML v1.0//EN
CALSCALE:GREGORIAN
METHOD:PUBLISH
X-ORIGINAL-URL:https://sp26gdynia.pl
X-WR-CALDESC:Wydarzenia dla Szkoła Podstawowa nr 26 w Gdyni
REFRESH-INTERVAL;VALUE=DURATION:PT1H
X-Robots-Tag:noindex
X-PUBLISHED-TTL:PT1H
BEGIN:VTIMEZONE
TZID:Europe/Warsaw
BEGIN:DAYLIGHT
TZOFFSETFROM:+0100
TZOFFSETTO:+0200
TZNAME:CEST
DTSTART:20220327T010000
END:DAYLIGHT
BEGIN:STANDARD
TZOFFSETFROM:+0200
TZOFFSETTO:+0100
TZNAME:CET
DTSTART:20221030T010000
END:STANDARD
BEGIN:DAYLIGHT
TZOFFSETFROM:+0100
TZOFFSETTO:+0200
TZNAME:CEST
DTSTART:20230326T010000
END:DAYLIGHT
BEGIN:STANDARD
TZOFFSETFROM:+0200
TZOFFSETTO:+0100
TZNAME:CET
DTSTART:20231029T010000
END:STANDARD
BEGIN:DAYLIGHT
TZOFFSETFROM:+0100
TZOFFSETTO:+0200
TZNAME:CEST
DTSTART:20240331T010000
END:DAYLIGHT
BEGIN:STANDARD
TZOFFSETFROM:+0200
TZOFFSETTO:+0100
TZNAME:CET
DTSTART:20241027T010000
END:STANDARD
END:VTIMEZONE
BEGIN:VEVENT
DTSTART;VALUE=DATE:20230601
DTEND;VALUE=DATE:20230602
DTSTAMP:20260422T022031
CREATED:20220926T071842Z
LAST-MODIFIED:20220926T071842Z
UID:40532-1685577600-1685663999@sp26gdynia.pl
SUMMARY:Dzień Dziecka
DESCRIPTION:
URL:https://sp26gdynia.pl/wydarzenie/dzien-dziecka-2/
CATEGORIES:Ważne wydarzenia
END:VEVENT
BEGIN:VEVENT
DTSTART;VALUE=DATE:20230530
DTEND;VALUE=DATE:20230531
DTSTAMP:20260422T022031
CREATED:20221004T175931Z
LAST-MODIFIED:20221004T175931Z
UID:40920-1685404800-1685491199@sp26gdynia.pl
SUMMARY:Zajęcia w ramach programu „Wgraj się”
DESCRIPTION:
URL:https://sp26gdynia.pl/wydarzenie/zajecia-w-ramach-programu-wgraj-sie-12/
CATEGORIES:Ważne wydarzenia
END:VEVENT
BEGIN:VEVENT
DTSTART;VALUE=DATE:20230526
DTEND;VALUE=DATE:20230527
DTSTAMP:20260422T022031
CREATED:20230417T135823Z
LAST-MODIFIED:20230417T135823Z
UID:46688-1685059200-1685145599@sp26gdynia.pl
SUMMARY:Dzień Matki
DESCRIPTION:
URL:https://sp26gdynia.pl/wydarzenie/dzien-matki-2/
CATEGORIES:Ważne wydarzenia
END:VEVENT
BEGIN:VEVENT
DTSTART;VALUE=DATE:20230525
DTEND;VALUE=DATE:20230526
DTSTAMP:20260422T022031
CREATED:20220926T071814Z
LAST-MODIFIED:20220926T071814Z
UID:40530-1684972800-1685059199@sp26gdynia.pl
SUMMARY:Egzamin ósmoklasisty - język obcy nowożytny
DESCRIPTION:
URL:https://sp26gdynia.pl/wydarzenie/egzamin-osmoklasisty-jezyk-obcy-nowozytny-2/
CATEGORIES:Ważne wydarzenia
END:VEVENT
BEGIN:VEVENT
DTSTART;VALUE=DATE:20230524
DTEND;VALUE=DATE:20230525
DTSTAMP:20260422T022031
CREATED:20220926T071748Z
LAST-MODIFIED:20220926T071748Z
UID:40528-1684886400-1684972799@sp26gdynia.pl
SUMMARY:Egzamin ósmoklasisty - matematyka
DESCRIPTION:
URL:https://sp26gdynia.pl/wydarzenie/egzamin-osmoklasisty-matematyka-2/
CATEGORIES:Ważne wydarzenia
END:VEVENT
BEGIN:VEVENT
DTSTART;VALUE=DATE:20230523
DTEND;VALUE=DATE:20230524
DTSTAMP:20260422T022031
CREATED:20220926T071723Z
LAST-MODIFIED:20220926T071723Z
UID:40526-1684800000-1684886399@sp26gdynia.pl
SUMMARY:Egzamin ósmoklasisty - język polski
DESCRIPTION:
URL:https://sp26gdynia.pl/wydarzenie/egzamin-osmoklasisty-jezyk-polski-2/
CATEGORIES:Ważne wydarzenia
END:VEVENT
BEGIN:VEVENT
DTSTART;VALUE=DATE:20230516
DTEND;VALUE=DATE:20230517
DTSTAMP:20260422T022031
CREATED:20221004T180528Z
LAST-MODIFIED:20221004T180528Z
UID:40937-1684195200-1684281599@sp26gdynia.pl
SUMMARY:Lekcja muzyki "Regiony Polski" 0-3
DESCRIPTION:
URL:https://sp26gdynia.pl/wydarzenie/lekcja-muzyki-regiony-polski-0-3/
CATEGORIES:Ważne wydarzenia
END:VEVENT
BEGIN:VEVENT
DTSTART;VALUE=DATE:20230515
DTEND;VALUE=DATE:20230516
DTSTAMP:20260422T022031
CREATED:20230417T135756Z
LAST-MODIFIED:20230417T135756Z
UID:46686-1684108800-1684195199@sp26gdynia.pl
SUMMARY:Dzień Niezapominajki
DESCRIPTION:
URL:https://sp26gdynia.pl/wydarzenie/dzien-niezapominajki/
CATEGORIES:Ważne wydarzenia
END:VEVENT
BEGIN:VEVENT
DTSTART;VALUE=DATE:20230509
DTEND;VALUE=DATE:20230510
DTSTAMP:20260422T022031
CREATED:20230417T135717Z
LAST-MODIFIED:20230417T135717Z
UID:46683-1683590400-1683676799@sp26gdynia.pl
SUMMARY:Dzień Unii Europejskiej
DESCRIPTION:
URL:https://sp26gdynia.pl/wydarzenie/dzien-unii-europejskiej/
CATEGORIES:Ważne wydarzenia
END:VEVENT
BEGIN:VEVENT
DTSTART;VALUE=DATE:20230509
DTEND;VALUE=DATE:20230510
DTSTAMP:20260422T022031
CREATED:20221004T175911Z
LAST-MODIFIED:20221004T175911Z
UID:40918-1683590400-1683676799@sp26gdynia.pl
SUMMARY:Zajęcia w ramach programu „Wgraj się”
DESCRIPTION:
URL:https://sp26gdynia.pl/wydarzenie/zajecia-w-ramach-programu-wgraj-sie-11/
CATEGORIES:Ważne wydarzenia
END:VEVENT
BEGIN:VEVENT
DTSTART;VALUE=DATE:20230508
DTEND;VALUE=DATE:20230509
DTSTAMP:20260422T022031
CREATED:20230417T135637Z
LAST-MODIFIED:20230417T135637Z
UID:46681-1683504000-1683590399@sp26gdynia.pl
SUMMARY:Dzień bibliotekarza i bibliotek
DESCRIPTION:
URL:https://sp26gdynia.pl/wydarzenie/dzien-bibliotekarza-i-bibliotek/
CATEGORIES:Ważne wydarzenia
END:VEVENT
BEGIN:VEVENT
DTSTART;VALUE=DATE:20230505
DTEND;VALUE=DATE:20230506
DTSTAMP:20260422T022031
CREATED:20230417T135600Z
LAST-MODIFIED:20230417T135600Z
UID:46679-1683244800-1683331199@sp26gdynia.pl
SUMMARY:Dzień Kosmosu
DESCRIPTION:
URL:https://sp26gdynia.pl/wydarzenie/dzien-kosmosu/
CATEGORIES:Ważne wydarzenia
END:VEVENT
BEGIN:VEVENT
DTSTART;VALUE=DATE:20230427
DTEND;VALUE=DATE:20230428
DTSTAMP:20260422T022031
CREATED:20230417T135257Z
LAST-MODIFIED:20230417T135257Z
UID:46675-1682553600-1682639999@sp26gdynia.pl
SUMMARY:Dzień Polski
DESCRIPTION:
URL:https://sp26gdynia.pl/wydarzenie/dzien-polski/
CATEGORIES:Ważne wydarzenia
END:VEVENT
BEGIN:VEVENT
DTSTART;VALUE=DATE:20230425
DTEND;VALUE=DATE:20230426
DTSTAMP:20260422T022031
CREATED:20221004T175845Z
LAST-MODIFIED:20221004T175845Z
UID:40916-1682380800-1682467199@sp26gdynia.pl
SUMMARY:Zajęcia w ramach programu „Wgraj się”
DESCRIPTION:
URL:https://sp26gdynia.pl/wydarzenie/zajecia-w-ramach-programu-wgraj-sie-10/
CATEGORIES:Ważne wydarzenia
END:VEVENT
BEGIN:VEVENT
DTSTART;VALUE=DATE:20230421
DTEND;VALUE=DATE:20230422
DTSTAMP:20260422T022031
CREATED:20230417T135452Z
LAST-MODIFIED:20230417T135452Z
UID:46677-1682035200-1682121599@sp26gdynia.pl
SUMMARY:Dzień Ziemi
DESCRIPTION:
URL:https://sp26gdynia.pl/wydarzenie/dzien-ziemi-3/
CATEGORIES:Ważne wydarzenia
END:VEVENT
BEGIN:VEVENT
DTSTART;VALUE=DATE:20230412
DTEND;VALUE=DATE:20230413
DTSTAMP:20260422T022031
CREATED:20230201T073335Z
LAST-MODIFIED:20230201T073335Z
UID:44489-1681257600-1681343999@sp26gdynia.pl
SUMMARY:Dzień Czekolady
DESCRIPTION:
URL:https://sp26gdynia.pl/wydarzenie/dzien-czekolady/
CATEGORIES:Ważne wydarzenia
END:VEVENT
BEGIN:VEVENT
DTSTART;TZID=Europe/Warsaw:20230406T080000
DTEND;TZID=Europe/Warsaw:20230411T170000
DTSTAMP:20260422T022031
CREATED:20220926T071346Z
LAST-MODIFIED:20220926T071346Z
UID:40522-1680768000-1681232400@sp26gdynia.pl
SUMMARY:Wiosenna przerwa świąteczna
DESCRIPTION:
URL:https://sp26gdynia.pl/wydarzenie/wiosenna-przerwa-swiateczna-5/
CATEGORIES:Ważne wydarzenia
END:VEVENT
BEGIN:VEVENT
DTSTART;VALUE=DATE:20230406
DTEND;VALUE=DATE:20230407
DTSTAMP:20260422T022031
CREATED:20220926T071555Z
LAST-MODIFIED:20220926T071555Z
UID:40524-1680739200-1680825599@sp26gdynia.pl
SUMMARY:Międzynarodowy Dzień Sportu
DESCRIPTION:
URL:https://sp26gdynia.pl/wydarzenie/miedzynarodowy-dzien-sportu/
CATEGORIES:Ważne wydarzenia
END:VEVENT
BEGIN:VEVENT
DTSTART;VALUE=DATE:20230404
DTEND;VALUE=DATE:20230405
DTSTAMP:20260422T022031
CREATED:20221004T175826Z
LAST-MODIFIED:20221004T175826Z
UID:40914-1680566400-1680652799@sp26gdynia.pl
SUMMARY:Zajęcia w ramach programu „Wgraj się”
DESCRIPTION:
URL:https://sp26gdynia.pl/wydarzenie/zajecia-w-ramach-programu-wgraj-sie-9/
CATEGORIES:Ważne wydarzenia
END:VEVENT
BEGIN:VEVENT
DTSTART;VALUE=DATE:20230403
DTEND;VALUE=DATE:20230404
DTSTAMP:20260422T022031
CREATED:20230201T073304Z
LAST-MODIFIED:20230201T073304Z
UID:44487-1680480000-1680566399@sp26gdynia.pl
SUMMARY:Dzień Tęczy
DESCRIPTION:
URL:https://sp26gdynia.pl/wydarzenie/dzien-teczy/
CATEGORIES:Ważne wydarzenia
END:VEVENT
BEGIN:VEVENT
DTSTART;VALUE=DATE:20230322
DTEND;VALUE=DATE:20230323
DTSTAMP:20260422T022031
CREATED:20230201T073206Z
LAST-MODIFIED:20230201T073206Z
UID:44485-1679443200-1679529599@sp26gdynia.pl
SUMMARY:Światowy Dzień Wody
DESCRIPTION:
URL:https://sp26gdynia.pl/wydarzenie/swiatowy-dzien-wody-2/
CATEGORIES:Ważne wydarzenia
END:VEVENT
BEGIN:VEVENT
DTSTART;VALUE=DATE:20230321
DTEND;VALUE=DATE:20230322
DTSTAMP:20260422T022031
CREATED:20230201T073142Z
LAST-MODIFIED:20230201T073142Z
UID:44483-1679356800-1679443199@sp26gdynia.pl
SUMMARY:Pierwszy Dzień Wiosny
DESCRIPTION:
URL:https://sp26gdynia.pl/wydarzenie/pierwszy-dzien-wiosny/
CATEGORIES:Ważne wydarzenia
END:VEVENT
BEGIN:VEVENT
DTSTART;VALUE=DATE:20230321
DTEND;VALUE=DATE:20230322
DTSTAMP:20260422T022031
CREATED:20221004T180447Z
LAST-MODIFIED:20221004T180447Z
UID:40935-1679356800-1679443199@sp26gdynia.pl
SUMMARY:Lekcja muzyki "Kosmiczna podróż" 0-3
DESCRIPTION:
URL:https://sp26gdynia.pl/wydarzenie/lekcja-muzyki-kosmiczna-podroz-0-3/
CATEGORIES:Ważne wydarzenia
END:VEVENT
BEGIN:VEVENT
DTSTART;VALUE=DATE:20230317
DTEND;VALUE=DATE:20230318
DTSTAMP:20260422T022031
CREATED:20230201T073038Z
LAST-MODIFIED:20230201T073038Z
UID:44481-1679011200-1679097599@sp26gdynia.pl
SUMMARY:Dzień św. Patryka
DESCRIPTION:
URL:https://sp26gdynia.pl/wydarzenie/dzien-sw-patryka-2/
CATEGORIES:Ważne wydarzenia
END:VEVENT
BEGIN:VEVENT
DTSTART;VALUE=DATE:20230314
DTEND;VALUE=DATE:20230315
DTSTAMP:20260422T022031
CREATED:20230201T073004Z
LAST-MODIFIED:20230201T073004Z
UID:44479-1678752000-1678838399@sp26gdynia.pl
SUMMARY:Dzień Liczby Pi
DESCRIPTION:
URL:https://sp26gdynia.pl/wydarzenie/dzien-liczby-pi/
CATEGORIES:Ważne wydarzenia
END:VEVENT
BEGIN:VEVENT
DTSTART;VALUE=DATE:20230314
DTEND;VALUE=DATE:20230315
DTSTAMP:20260422T022031
CREATED:20221004T175808Z
LAST-MODIFIED:20221004T175808Z
UID:40912-1678752000-1678838399@sp26gdynia.pl
SUMMARY:Zajęcia w ramach programu „Wgraj się”
DESCRIPTION:
URL:https://sp26gdynia.pl/wydarzenie/zajecia-w-ramach-programu-wgraj-sie-8/
CATEGORIES:Ważne wydarzenia
END:VEVENT
BEGIN:VEVENT
DTSTART;VALUE=DATE:20230308
DTEND;VALUE=DATE:20230309
DTSTAMP:20260422T022031
CREATED:20230201T072935Z
LAST-MODIFIED:20230201T072935Z
UID:44477-1678233600-1678319999@sp26gdynia.pl
SUMMARY:Dzień Kobiet
DESCRIPTION:
URL:https://sp26gdynia.pl/wydarzenie/dzien-kobiet/
CATEGORIES:Ważne wydarzenia
END:VEVENT
BEGIN:VEVENT
DTSTART;VALUE=DATE:20230301
DTEND;VALUE=DATE:20230302
DTSTAMP:20260422T022031
CREATED:20230201T072311Z
LAST-MODIFIED:20230201T072311Z
UID:44475-1677628800-1677715199@sp26gdynia.pl
SUMMARY:Dzień Piegów
DESCRIPTION:
URL:https://sp26gdynia.pl/wydarzenie/dzien-piegow/
CATEGORIES:Ważne wydarzenia
END:VEVENT
BEGIN:VEVENT
DTSTART;VALUE=DATE:20230228
DTEND;VALUE=DATE:20230301
DTSTAMP:20260422T022031
CREATED:20221004T175746Z
LAST-MODIFIED:20221004T175746Z
UID:40910-1677542400-1677628799@sp26gdynia.pl
SUMMARY:Zajęcia w ramach programu „Wgraj się”
DESCRIPTION:
URL:https://sp26gdynia.pl/wydarzenie/zajecia-w-ramach-programu-wgraj-sie-7/
CATEGORIES:Ważne wydarzenia
END:VEVENT
BEGIN:VEVENT
DTSTART;VALUE=DATE:20230221
DTEND;VALUE=DATE:20230222
DTSTAMP:20260422T022031
CREATED:20230201T072148Z
LAST-MODIFIED:20230201T072148Z
UID:44473-1676937600-1677023999@sp26gdynia.pl
SUMMARY:Międzynarodowy Dzień Języka Ojczystego
DESCRIPTION:
URL:https://sp26gdynia.pl/wydarzenie/miedzynarodowy-dzien-jezyka-ojczystego/
CATEGORIES:Ważne wydarzenia
END:VEVENT
END:VCALENDAR