BEGIN:VCALENDAR
VERSION:2.0
PRODID:-//Szkoła Podstawowa nr 26 w Gdyni - ECPv6.15.17//NONSGML v1.0//EN
CALSCALE:GREGORIAN
METHOD:PUBLISH
X-WR-CALNAME:Szkoła Podstawowa nr 26 w Gdyni
X-ORIGINAL-URL:https://sp26gdynia.pl
X-WR-CALDESC:Wydarzenia dla Szkoła Podstawowa nr 26 w Gdyni
REFRESH-INTERVAL;VALUE=DURATION:PT1H
X-Robots-Tag:noindex
X-PUBLISHED-TTL:PT1H
BEGIN:VTIMEZONE
TZID:Europe/Warsaw
BEGIN:DAYLIGHT
TZOFFSETFROM:+0100
TZOFFSETTO:+0200
TZNAME:CEST
DTSTART:20220327T010000
END:DAYLIGHT
BEGIN:STANDARD
TZOFFSETFROM:+0200
TZOFFSETTO:+0100
TZNAME:CET
DTSTART:20221030T010000
END:STANDARD
BEGIN:DAYLIGHT
TZOFFSETFROM:+0100
TZOFFSETTO:+0200
TZNAME:CEST
DTSTART:20230326T010000
END:DAYLIGHT
BEGIN:STANDARD
TZOFFSETFROM:+0200
TZOFFSETTO:+0100
TZNAME:CET
DTSTART:20231029T010000
END:STANDARD
BEGIN:DAYLIGHT
TZOFFSETFROM:+0100
TZOFFSETTO:+0200
TZNAME:CEST
DTSTART:20240331T010000
END:DAYLIGHT
BEGIN:STANDARD
TZOFFSETFROM:+0200
TZOFFSETTO:+0100
TZNAME:CET
DTSTART:20241027T010000
END:STANDARD
BEGIN:DAYLIGHT
TZOFFSETFROM:+0100
TZOFFSETTO:+0200
TZNAME:CEST
DTSTART:20250330T010000
END:DAYLIGHT
BEGIN:STANDARD
TZOFFSETFROM:+0200
TZOFFSETTO:+0100
TZNAME:CET
DTSTART:20251026T010000
END:STANDARD
END:VTIMEZONE
BEGIN:VEVENT
DTSTART;VALUE=DATE:20240328
DTEND;VALUE=DATE:20240403
DTSTAMP:20260421T210515
CREATED:20240222T140600Z
LAST-MODIFIED:20240222T140600Z
UID:54398-1711584000-1712102399@sp26gdynia.pl
SUMMARY:Wiosenna przerwa świąteczna
DESCRIPTION:
URL:https://sp26gdynia.pl/wydarzenie/wiosenna-przerwa-swiateczna-6/
CATEGORIES:Ważne wydarzenia
END:VEVENT
BEGIN:VEVENT
DTSTART;VALUE=DATE:20240311
DTEND;VALUE=DATE:20240312
DTSTAMP:20260421T210515
CREATED:20231125T092731Z
LAST-MODIFIED:20231125T092731Z
UID:51896-1710115200-1710201599@sp26gdynia.pl
SUMMARY:Dzień Kobiet w klasach 0-3 - wyjście do U7
DESCRIPTION:
URL:https://sp26gdynia.pl/wydarzenie/dzien-kobiet-w-klasach-0-3-wyjscie-do-u7/
CATEGORIES:Ważne wydarzenia
END:VEVENT
BEGIN:VEVENT
DTSTART;VALUE=DATE:20240307
DTEND;VALUE=DATE:20240308
DTSTAMP:20260421T210515
CREATED:20240124T075443Z
LAST-MODIFIED:20240124T075453Z
UID:53890-1709769600-1709855999@sp26gdynia.pl
SUMMARY:Dzień Otwarty SP 26
DESCRIPTION:
URL:https://sp26gdynia.pl/wydarzenie/dzien-otwarty-sp-26/
CATEGORIES:Ważne wydarzenia
END:VEVENT
BEGIN:VEVENT
DTSTART;VALUE=DATE:20240222
DTEND;VALUE=DATE:20240223
DTSTAMP:20260421T210515
CREATED:20231122T092604Z
LAST-MODIFIED:20231122T092604Z
UID:51750-1708560000-1708646399@sp26gdynia.pl
SUMMARY:Wyjście do teatru klas 0-3 "Dr Dolittle i jego zwierzęta"
DESCRIPTION:
URL:https://sp26gdynia.pl/wydarzenie/wyjscie-do-teatru-klas-0-3-dr-dolittle-i-jego-zwierzeta/
CATEGORIES:Ważne wydarzenia
END:VEVENT
BEGIN:VEVENT
DTSTART;VALUE=DATE:20240220
DTEND;VALUE=DATE:20240221
DTSTAMP:20260421T210515
CREATED:20231012T181715Z
LAST-MODIFIED:20231012T181715Z
UID:50365-1708387200-1708473599@sp26gdynia.pl
SUMMARY:Lekcja muzyki "Sport to zdrowie"
DESCRIPTION:
URL:https://sp26gdynia.pl/wydarzenie/lekcja-muzyki-sport-to-zdrowie/
CATEGORIES:Ważne wydarzenia
END:VEVENT
BEGIN:VEVENT
DTSTART;VALUE=DATE:20240118
DTEND;VALUE=DATE:20240119
DTSTAMP:20260421T210515
CREATED:20231125T092658Z
LAST-MODIFIED:20231125T092658Z
UID:51894-1705536000-1705622399@sp26gdynia.pl
SUMMARY:Koncert karnawałowy dla babć i dziadków
DESCRIPTION:
URL:https://sp26gdynia.pl/wydarzenie/koncert-karnawalowy-dla-babc-i-dziadkow/
CATEGORIES:Ważne wydarzenia
END:VEVENT
BEGIN:VEVENT
DTSTART;VALUE=DATE:20240117
DTEND;VALUE=DATE:20240118
DTSTAMP:20260421T210515
CREATED:20231125T092631Z
LAST-MODIFIED:20231125T092631Z
UID:51892-1705449600-1705535999@sp26gdynia.pl
SUMMARY:Koncert karnawałowy dla rodziców
DESCRIPTION:
URL:https://sp26gdynia.pl/wydarzenie/koncert-karnawalowy-dla-rodzicow/
CATEGORIES:Ważne wydarzenia
END:VEVENT
BEGIN:VEVENT
DTSTART;VALUE=DATE:20240116
DTEND;VALUE=DATE:20240117
DTSTAMP:20260421T210515
CREATED:20231125T092521Z
LAST-MODIFIED:20231125T092521Z
UID:51890-1705363200-1705449599@sp26gdynia.pl
SUMMARY:Bal karnawałowy - klasy młodsze
DESCRIPTION:
URL:https://sp26gdynia.pl/wydarzenie/bal-karnawalowy-klasy-mlodsze/
CATEGORIES:Ważne wydarzenia
END:VEVENT
BEGIN:VEVENT
DTSTART;VALUE=DATE:20231223
DTEND;VALUE=DATE:20240101
DTSTAMP:20260421T210515
CREATED:20231004T172855Z
LAST-MODIFIED:20231004T172855Z
UID:49934-1703289600-1704067199@sp26gdynia.pl
SUMMARY:Zimowa przerwa świąteczna
DESCRIPTION:
URL:https://sp26gdynia.pl/wydarzenie/zimowa-przerwa-swiateczna-3/
CATEGORIES:Ważne wydarzenia
END:VEVENT
BEGIN:VEVENT
DTSTART;VALUE=DATE:20231219
DTEND;VALUE=DATE:20231220
DTSTAMP:20260421T210515
CREATED:20231125T092431Z
LAST-MODIFIED:20231125T092431Z
UID:51888-1702944000-1703030399@sp26gdynia.pl
SUMMARY:Teatr Muzyczny "Sekrety zimowego wiatru" - klasy młodsze
DESCRIPTION:
URL:https://sp26gdynia.pl/wydarzenie/teatr-muzyczny-sekrety-zimowego-wiatru-klasy-mlodsze/
CATEGORIES:Ważne wydarzenia
END:VEVENT
BEGIN:VEVENT
DTSTART;VALUE=DATE:20231212
DTEND;VALUE=DATE:20231213
DTSTAMP:20260421T210515
CREATED:20231012T181545Z
LAST-MODIFIED:20231012T181545Z
UID:50361-1702339200-1702425599@sp26gdynia.pl
SUMMARY:Lekcja muzyki "Tajemniczy incydent w muzotece"
DESCRIPTION:
URL:https://sp26gdynia.pl/wydarzenie/lekcja-muzyki-tajemniczy-incydent-w-muzotece/
CATEGORIES:Ważne wydarzenia
END:VEVENT
BEGIN:VEVENT
DTSTART;VALUE=DATE:20231124
DTEND;VALUE=DATE:20231125
DTSTAMP:20260421T210515
CREATED:20231004T173209Z
LAST-MODIFIED:20231004T173209Z
UID:49940-1700784000-1700870399@sp26gdynia.pl
SUMMARY:Dzień Pluszowego Misia
DESCRIPTION:
URL:https://sp26gdynia.pl/wydarzenie/dzien-pluszowego-misia-2/
CATEGORIES:Ważne wydarzenia
END:VEVENT
BEGIN:VEVENT
DTSTART;VALUE=DATE:20231123
DTEND;VALUE=DATE:20231124
DTSTAMP:20260421T210515
CREATED:20231122T092517Z
LAST-MODIFIED:20231122T092517Z
UID:51748-1700697600-1700783999@sp26gdynia.pl
SUMMARY:Wyjście do teatru klas 0-3 "Nasz Shrek"
DESCRIPTION:
URL:https://sp26gdynia.pl/wydarzenie/wyjscie-do-teatru-klas-0-3-nasz-shrek/
CATEGORIES:Ważne wydarzenia
END:VEVENT
BEGIN:VEVENT
DTSTART;VALUE=DATE:20231123
DTEND;VALUE=DATE:20231124
DTSTAMP:20260421T210515
CREATED:20231004T172817Z
LAST-MODIFIED:20231004T172817Z
UID:49932-1700697600-1700783999@sp26gdynia.pl
SUMMARY:Dzień Brytyjski
DESCRIPTION:
URL:https://sp26gdynia.pl/wydarzenie/dzien-brytyjski/
CATEGORIES:Ważne wydarzenia
END:VEVENT
BEGIN:VEVENT
DTSTART;VALUE=DATE:20231110
DTEND;VALUE=DATE:20231111
DTSTAMP:20260421T210515
CREATED:20231004T172751Z
LAST-MODIFIED:20231004T172751Z
UID:49930-1699574400-1699660799@sp26gdynia.pl
SUMMARY:Narodowe Święto Niepodległości - apel
DESCRIPTION:
URL:https://sp26gdynia.pl/wydarzenie/narodowe-swieto-niepodleglosci-apel/
CATEGORIES:Ważne wydarzenia
END:VEVENT
BEGIN:VEVENT
DTSTART;VALUE=DATE:20231109
DTEND;VALUE=DATE:20231110
DTSTAMP:20260421T210515
CREATED:20231004T172603Z
LAST-MODIFIED:20231004T172603Z
UID:49926-1699488000-1699574399@sp26gdynia.pl
SUMMARY:Egzamin próbny ósmoklasisty - język obcy nowożytny
DESCRIPTION:
URL:https://sp26gdynia.pl/wydarzenie/egzamin-probny-osmoklasisty-jezyk-obcy-nowozytny-2/
CATEGORIES:Ważne wydarzenia
END:VEVENT
BEGIN:VEVENT
DTSTART;VALUE=DATE:20231108
DTEND;VALUE=DATE:20231109
DTSTAMP:20260421T210515
CREATED:20231004T172348Z
LAST-MODIFIED:20231004T172633Z
UID:49924-1699401600-1699487999@sp26gdynia.pl
SUMMARY:Egzamin próbny ósmoklasisty  - matematyka
DESCRIPTION:
URL:https://sp26gdynia.pl/wydarzenie/egzaminy-probne-osmoklasisty-wg-zarzadzenia-matematyka/
CATEGORIES:Ważne wydarzenia
END:VEVENT
BEGIN:VEVENT
DTSTART;VALUE=DATE:20231107
DTEND;VALUE=DATE:20231108
DTSTAMP:20260421T210515
CREATED:20231004T172321Z
LAST-MODIFIED:20231004T172656Z
UID:49922-1699315200-1699401599@sp26gdynia.pl
SUMMARY:Egzamin próbny ósmoklasisty - język polski
DESCRIPTION:
URL:https://sp26gdynia.pl/wydarzenie/egzaminy-probne-osmoklasisty-wg-zarzadzenia-jezyk-polski/
CATEGORIES:Ważne wydarzenia
END:VEVENT
BEGIN:VEVENT
DTSTART;VALUE=DATE:20231106
DTEND;VALUE=DATE:20231107
DTSTAMP:20260421T210515
CREATED:20231004T173054Z
LAST-MODIFIED:20231004T173054Z
UID:49938-1699228800-1699315199@sp26gdynia.pl
SUMMARY:Dzień Postaci z Bajek
DESCRIPTION:
URL:https://sp26gdynia.pl/wydarzenie/dzien-postaci-z-bajek-4/
CATEGORIES:Ważne wydarzenia
END:VEVENT
BEGIN:VEVENT
DTSTART;VALUE=DATE:20231102
DTEND;VALUE=DATE:20231104
DTSTAMP:20260421T210515
CREATED:20231004T172237Z
LAST-MODIFIED:20231004T172237Z
UID:49920-1698883200-1699055999@sp26gdynia.pl
SUMMARY:Dni wolne od zajęć dydaktyczno- wychowawczych
DESCRIPTION:
URL:https://sp26gdynia.pl/wydarzenie/dni-wolne-od-zajec-dydaktyczno-wychowawczych/
CATEGORIES:Ważne wydarzenia
END:VEVENT
BEGIN:VEVENT
DTSTART;VALUE=DATE:20231101
DTEND;VALUE=DATE:20231102
DTSTAMP:20260421T210515
CREATED:20231004T172159Z
LAST-MODIFIED:20231004T172159Z
UID:49918-1698796800-1698883199@sp26gdynia.pl
SUMMARY:Wszystkich Świętych – dzień wolny od pracy
DESCRIPTION:
URL:https://sp26gdynia.pl/wydarzenie/wszystkich-swietych-dzien-wolny-od-pracy/
CATEGORIES:Ważne wydarzenia
END:VEVENT
BEGIN:VEVENT
DTSTART;VALUE=DATE:20231017
DTEND;VALUE=DATE:20231018
DTSTAMP:20260421T210515
CREATED:20231012T181504Z
LAST-MODIFIED:20231012T181504Z
UID:50359-1697500800-1697587199@sp26gdynia.pl
SUMMARY:Lekcja muzyki "Muzyczny cud świata"
DESCRIPTION:
URL:https://sp26gdynia.pl/wydarzenie/lekcja-muzyki-muzyczny-cud-swiata/
CATEGORIES:Ważne wydarzenia
END:VEVENT
BEGIN:VEVENT
DTSTART;VALUE=DATE:20231013
DTEND;VALUE=DATE:20231014
DTSTAMP:20260421T210515
CREATED:20231004T171914Z
LAST-MODIFIED:20231004T171914Z
UID:49914-1697155200-1697241599@sp26gdynia.pl
SUMMARY:Dzień Edukacji Narodowej
DESCRIPTION:
URL:https://sp26gdynia.pl/wydarzenie/dzien-edukacji-narodowej-3/
CATEGORIES:Ważne wydarzenia
END:VEVENT
BEGIN:VEVENT
DTSTART;VALUE=DATE:20231006
DTEND;VALUE=DATE:20231007
DTSTAMP:20260421T210515
CREATED:20231004T172955Z
LAST-MODIFIED:20231004T172955Z
UID:49936-1696550400-1696636799@sp26gdynia.pl
SUMMARY:Światowy Dzień Tabliczki Mnożenia
DESCRIPTION:
URL:https://sp26gdynia.pl/wydarzenie/swiatowy-dzien-tabliczki-mnozenia-3/
CATEGORIES:Ważne wydarzenia
END:VEVENT
BEGIN:VEVENT
DTSTART;VALUE=DATE:20230929
DTEND;VALUE=DATE:20230930
DTSTAMP:20260421T210515
CREATED:20231004T171658Z
LAST-MODIFIED:20231004T171658Z
UID:49910-1695945600-1696031999@sp26gdynia.pl
SUMMARY:Dzień Chłopaka
DESCRIPTION:
URL:https://sp26gdynia.pl/wydarzenie/dzien-chlopaka-3/
CATEGORIES:Ważne wydarzenia
END:VEVENT
BEGIN:VEVENT
DTSTART;VALUE=DATE:20230927
DTEND;VALUE=DATE:20230928
DTSTAMP:20260421T210515
CREATED:20231004T172118Z
LAST-MODIFIED:20231004T172118Z
UID:49916-1695772800-1695859199@sp26gdynia.pl
SUMMARY:Pasowanie na ucznia kl. 1a\, 1b
DESCRIPTION:
URL:https://sp26gdynia.pl/wydarzenie/pasowanie-na-ucznia-kl-1a-1b/
CATEGORIES:Ważne wydarzenia
END:VEVENT
BEGIN:VEVENT
DTSTART;VALUE=DATE:20230915
DTEND;VALUE=DATE:20230916
DTSTAMP:20260421T210515
CREATED:20231004T171806Z
LAST-MODIFIED:20231004T171806Z
UID:49912-1694736000-1694822399@sp26gdynia.pl
SUMMARY:Międzynarodowy Dzień Kropki
DESCRIPTION:
URL:https://sp26gdynia.pl/wydarzenie/miedzynarodowy-dzien-kropki/
CATEGORIES:Ważne wydarzenia
END:VEVENT
BEGIN:VEVENT
DTSTART;VALUE=DATE:20230620
DTEND;VALUE=DATE:20230621
DTSTAMP:20260421T210515
CREATED:20221004T180022Z
LAST-MODIFIED:20221004T180022Z
UID:40926-1687219200-1687305599@sp26gdynia.pl
SUMMARY:Zajęcia w ramach programu „Wgraj się”
DESCRIPTION:
URL:https://sp26gdynia.pl/wydarzenie/zajecia-w-ramach-programu-wgraj-sie-15/
CATEGORIES:Ważne wydarzenia
END:VEVENT
BEGIN:VEVENT
DTSTART;VALUE=DATE:20230613
DTEND;VALUE=DATE:20230614
DTSTAMP:20260421T210515
CREATED:20221004T180009Z
LAST-MODIFIED:20221004T180009Z
UID:40924-1686614400-1686700799@sp26gdynia.pl
SUMMARY:Zajęcia w ramach programu „Wgraj się”
DESCRIPTION:
URL:https://sp26gdynia.pl/wydarzenie/zajecia-w-ramach-programu-wgraj-sie-14/
CATEGORIES:Ważne wydarzenia
END:VEVENT
BEGIN:VEVENT
DTSTART;VALUE=DATE:20230606
DTEND;VALUE=DATE:20230607
DTSTAMP:20260421T210515
CREATED:20221004T175950Z
LAST-MODIFIED:20221004T175950Z
UID:40922-1686009600-1686095999@sp26gdynia.pl
SUMMARY:Zajęcia w ramach programu „Wgraj się”
DESCRIPTION:
URL:https://sp26gdynia.pl/wydarzenie/zajecia-w-ramach-programu-wgraj-sie-13/
CATEGORIES:Ważne wydarzenia
END:VEVENT
END:VCALENDAR