BEGIN:VCALENDAR
VERSION:2.0
PRODID:-//Szkoła Podstawowa nr 26 w Gdyni - ECPv6.15.17//NONSGML v1.0//EN
CALSCALE:GREGORIAN
METHOD:PUBLISH
X-WR-CALNAME:Szkoła Podstawowa nr 26 w Gdyni
X-ORIGINAL-URL:https://sp26gdynia.pl
X-WR-CALDESC:Wydarzenia dla Szkoła Podstawowa nr 26 w Gdyni
REFRESH-INTERVAL;VALUE=DURATION:PT1H
X-Robots-Tag:noindex
X-PUBLISHED-TTL:PT1H
BEGIN:VTIMEZONE
TZID:Europe/Warsaw
BEGIN:DAYLIGHT
TZOFFSETFROM:+0100
TZOFFSETTO:+0200
TZNAME:CEST
DTSTART:20220327T010000
END:DAYLIGHT
BEGIN:STANDARD
TZOFFSETFROM:+0200
TZOFFSETTO:+0100
TZNAME:CET
DTSTART:20221030T010000
END:STANDARD
BEGIN:DAYLIGHT
TZOFFSETFROM:+0100
TZOFFSETTO:+0200
TZNAME:CEST
DTSTART:20230326T010000
END:DAYLIGHT
BEGIN:STANDARD
TZOFFSETFROM:+0200
TZOFFSETTO:+0100
TZNAME:CET
DTSTART:20231029T010000
END:STANDARD
BEGIN:DAYLIGHT
TZOFFSETFROM:+0100
TZOFFSETTO:+0200
TZNAME:CEST
DTSTART:20240331T010000
END:DAYLIGHT
BEGIN:STANDARD
TZOFFSETFROM:+0200
TZOFFSETTO:+0100
TZNAME:CET
DTSTART:20241027T010000
END:STANDARD
BEGIN:DAYLIGHT
TZOFFSETFROM:+0100
TZOFFSETTO:+0200
TZNAME:CEST
DTSTART:20250330T010000
END:DAYLIGHT
BEGIN:STANDARD
TZOFFSETFROM:+0200
TZOFFSETTO:+0100
TZNAME:CET
DTSTART:20251026T010000
END:STANDARD
END:VTIMEZONE
BEGIN:VEVENT
DTSTART;VALUE=DATE:20241014
DTEND;VALUE=DATE:20241015
DTSTAMP:20260421T172930
CREATED:20240627T073616Z
LAST-MODIFIED:20240627T073616Z
UID:58369-1728864000-1728950399@sp26gdynia.pl
SUMMARY:Dzień Edukacji Narodowej
DESCRIPTION:
URL:https://sp26gdynia.pl/wydarzenie/dzien-edukacji-narodowej-4/
CATEGORIES:Ważne wydarzenia
END:VEVENT
BEGIN:VEVENT
DTSTART;VALUE=DATE:20241010
DTEND;VALUE=DATE:20241011
DTSTAMP:20260421T172930
CREATED:20240627T073342Z
LAST-MODIFIED:20240627T073342Z
UID:58359-1728518400-1728604799@sp26gdynia.pl
SUMMARY:Dzień Gier Planszowych
DESCRIPTION:
URL:https://sp26gdynia.pl/wydarzenie/dzien-gier-planszowych-2/
CATEGORIES:Ważne wydarzenia
END:VEVENT
BEGIN:VEVENT
DTSTART;VALUE=DATE:20241001
DTEND;VALUE=DATE:20241002
DTSTAMP:20260421T172930
CREATED:20240627T073301Z
LAST-MODIFIED:20240627T073301Z
UID:58357-1727740800-1727827199@sp26gdynia.pl
SUMMARY:Świetlica szkolna - Dzień Muzyki
DESCRIPTION:
URL:https://sp26gdynia.pl/wydarzenie/swietlica-szkolna-dzien-muzyki/
CATEGORIES:Ważne wydarzenia
END:VEVENT
BEGIN:VEVENT
DTSTART;VALUE=DATE:20240930
DTEND;VALUE=DATE:20241001
DTSTAMP:20260421T172930
CREATED:20240627T073227Z
LAST-MODIFIED:20240627T073227Z
UID:58355-1727654400-1727740799@sp26gdynia.pl
SUMMARY:Dzień Chłopaka
DESCRIPTION:
URL:https://sp26gdynia.pl/wydarzenie/dzien-chlopaka-4/
CATEGORIES:Ważne wydarzenia
END:VEVENT
BEGIN:VEVENT
DTSTART;VALUE=DATE:20240927
DTEND;VALUE=DATE:20240928
DTSTAMP:20260421T172930
CREATED:20240827T090300Z
LAST-MODIFIED:20240827T090300Z
UID:59042-1727395200-1727481599@sp26gdynia.pl
SUMMARY:Pasowanie na ucznia
DESCRIPTION:
URL:https://sp26gdynia.pl/wydarzenie/pasowanie-na-ucznia-2/
CATEGORIES:Ważne wydarzenia
END:VEVENT
BEGIN:VEVENT
DTSTART;VALUE=DATE:20240925
DTEND;VALUE=DATE:20240926
DTSTAMP:20260421T172930
CREATED:20240827T090226Z
LAST-MODIFIED:20240827T090226Z
UID:59040-1727222400-1727308799@sp26gdynia.pl
SUMMARY:Europejski Tydzień Sportu
DESCRIPTION:
URL:https://sp26gdynia.pl/wydarzenie/europejski-tydzien-sportu-2/
CATEGORIES:Ważne wydarzenia
END:VEVENT
BEGIN:VEVENT
DTSTART;TZID=Europe/Warsaw:20240923T080000
DTEND;TZID=Europe/Warsaw:20240929T170000
DTSTAMP:20260421T172930
CREATED:20240827T090152Z
LAST-MODIFIED:20240827T090152Z
UID:59038-1727078400-1727629200@sp26gdynia.pl
SUMMARY:V Ogólnopolski Tydzień Szczęścia
DESCRIPTION:
URL:https://sp26gdynia.pl/wydarzenie/v-ogolnopolski-tydzien-szczescia/
CATEGORIES:Ważne wydarzenia
END:VEVENT
BEGIN:VEVENT
DTSTART;VALUE=DATE:20240920
DTEND;VALUE=DATE:20240921
DTSTAMP:20260421T172930
CREATED:20240827T090048Z
LAST-MODIFIED:20240827T090048Z
UID:59036-1726790400-1726876799@sp26gdynia.pl
SUMMARY:Sprzątanie świata
DESCRIPTION:
URL:https://sp26gdynia.pl/wydarzenie/sprzatanie-swiata-4/
CATEGORIES:Ważne wydarzenia
END:VEVENT
BEGIN:VEVENT
DTSTART;VALUE=DATE:20240913
DTEND;VALUE=DATE:20240914
DTSTAMP:20260421T172930
CREATED:20240627T073202Z
LAST-MODIFIED:20240627T073202Z
UID:58353-1726185600-1726271999@sp26gdynia.pl
SUMMARY:Dzień Kropki
DESCRIPTION:
URL:https://sp26gdynia.pl/wydarzenie/dzien-kropki-2/
CATEGORIES:Ważne wydarzenia
END:VEVENT
BEGIN:VEVENT
DTSTART;VALUE=DATE:20240911
DTEND;VALUE=DATE:20240912
DTSTAMP:20260421T172930
CREATED:20240627T073106Z
LAST-MODIFIED:20240627T073106Z
UID:58351-1726012800-1726099199@sp26gdynia.pl
SUMMARY:Świetlica szkolna - Dzień Pierwszej Pomocy
DESCRIPTION:
URL:https://sp26gdynia.pl/wydarzenie/swietlica-szkolna-dzien-pierwszej-pomocy/
CATEGORIES:Ważne wydarzenia
END:VEVENT
BEGIN:VEVENT
DTSTART;VALUE=DATE:20240906
DTEND;VALUE=DATE:20240907
DTSTAMP:20260421T172930
CREATED:20240827T090006Z
LAST-MODIFIED:20240827T090006Z
UID:59034-1725580800-1725667199@sp26gdynia.pl
SUMMARY:Narodowe Czytanie "Kordiana"
DESCRIPTION:
URL:https://sp26gdynia.pl/wydarzenie/narodowe-czytanie-kordiana/
CATEGORIES:Ważne wydarzenia
END:VEVENT
BEGIN:VEVENT
DTSTART;VALUE=DATE:20240902
DTEND;VALUE=DATE:20240903
DTSTAMP:20260421T172930
CREATED:20240627T075445Z
LAST-MODIFIED:20240627T075445Z
UID:58433-1725235200-1725321599@sp26gdynia.pl
SUMMARY:Rozpoczęcie roku szkolnego
DESCRIPTION:
URL:https://sp26gdynia.pl/wydarzenie/rozpoczecie-roku-szkolnego/
CATEGORIES:Ważne wydarzenia
END:VEVENT
BEGIN:VEVENT
DTSTART;VALUE=DATE:20240604
DTEND;VALUE=DATE:20240605
DTSTAMP:20260421T172930
CREATED:20231012T181815Z
LAST-MODIFIED:20231012T181815Z
UID:50369-1717459200-1717545599@sp26gdynia.pl
SUMMARY:Lekcja muzyki "Uwierz w ludzi"
DESCRIPTION:
URL:https://sp26gdynia.pl/wydarzenie/lekcja-muzyki-uwierz-w-ludzi/
CATEGORIES:Ważne wydarzenia
END:VEVENT
BEGIN:VEVENT
DTSTART;VALUE=DATE:20240531
DTEND;VALUE=DATE:20240601
DTSTAMP:20260421T172930
CREATED:20240222T140832Z
LAST-MODIFIED:20240222T140832Z
UID:54406-1717113600-1717199999@sp26gdynia.pl
SUMMARY:Dzień wolny od zajęć dydaktyczno-wychowawczych
DESCRIPTION:
URL:https://sp26gdynia.pl/wydarzenie/dzien-wolny-od-zajec-dydaktyczno-wychowawczych-6/
CATEGORIES:Ważne wydarzenia
END:VEVENT
BEGIN:VEVENT
DTSTART;VALUE=DATE:20240530
DTEND;VALUE=DATE:20240531
DTSTAMP:20260421T172930
CREATED:20240222T140801Z
LAST-MODIFIED:20240222T140801Z
UID:54404-1717027200-1717113599@sp26gdynia.pl
SUMMARY:Boże Ciało – dzień wolny od pracy
DESCRIPTION:
URL:https://sp26gdynia.pl/wydarzenie/boze-cialo-dzien-wolny-od-pracy-2/
CATEGORIES:Ważne wydarzenia
END:VEVENT
BEGIN:VEVENT
DTSTART;VALUE=DATE:20240529
DTEND;VALUE=DATE:20240530
DTSTAMP:20260421T172930
CREATED:20240124T075626Z
LAST-MODIFIED:20240124T075626Z
UID:53894-1716940800-1717027199@sp26gdynia.pl
SUMMARY:Miasteczko dla klas 0-8
DESCRIPTION:
URL:https://sp26gdynia.pl/wydarzenie/miasteczko-dla-klas-0-8/
CATEGORIES:Ważne wydarzenia
END:VEVENT
BEGIN:VEVENT
DTSTART;TZID=Europe/Warsaw:20240514T080000
DTEND;TZID=Europe/Warsaw:20240516T170000
DTSTAMP:20260421T172930
CREATED:20240124T075541Z
LAST-MODIFIED:20240124T075541Z
UID:53892-1715673600-1715878800@sp26gdynia.pl
SUMMARY:Egzaminy klas 8
DESCRIPTION:
URL:https://sp26gdynia.pl/wydarzenie/egzaminy-klas-8/
CATEGORIES:Ważne wydarzenia
END:VEVENT
BEGIN:VEVENT
DTSTART;VALUE=DATE:20240503
DTEND;VALUE=DATE:20240504
DTSTAMP:20260421T172930
CREATED:20240222T140724Z
LAST-MODIFIED:20240222T140724Z
UID:54402-1714694400-1714780799@sp26gdynia.pl
SUMMARY:Święto Konstytucji – dzień wolny od pracy
DESCRIPTION:
URL:https://sp26gdynia.pl/wydarzenie/swieto-konstytucji-dzien-wolny-od-pracy/
CATEGORIES:Ważne wydarzenia
END:VEVENT
BEGIN:VEVENT
DTSTART;VALUE=DATE:20240501
DTEND;VALUE=DATE:20240502
DTSTAMP:20260421T172930
CREATED:20240222T140659Z
LAST-MODIFIED:20240222T140659Z
UID:54400-1714521600-1714607999@sp26gdynia.pl
SUMMARY:Święto Pracy – dzień wolny od pracy
DESCRIPTION:
URL:https://sp26gdynia.pl/wydarzenie/swieto-pracy-dzien-wolny-od-pracy/
CATEGORIES:Ważne wydarzenia
END:VEVENT
BEGIN:VEVENT
DTSTART;VALUE=DATE:20240423
DTEND;VALUE=DATE:20240424
DTSTAMP:20260421T172930
CREATED:20231012T181749Z
LAST-MODIFIED:20231012T181749Z
UID:50367-1713830400-1713916799@sp26gdynia.pl
SUMMARY:Lekcja muzyki "Meteokraksa"
DESCRIPTION:
URL:https://sp26gdynia.pl/wydarzenie/lekcja-muzyki-meteokraksa/
CATEGORIES:Ważne wydarzenia
END:VEVENT
BEGIN:VEVENT
DTSTART;VALUE=DATE:20240328
DTEND;VALUE=DATE:20240403
DTSTAMP:20260421T172930
CREATED:20240222T140600Z
LAST-MODIFIED:20240222T140600Z
UID:54398-1711584000-1712102399@sp26gdynia.pl
SUMMARY:Wiosenna przerwa świąteczna
DESCRIPTION:
URL:https://sp26gdynia.pl/wydarzenie/wiosenna-przerwa-swiateczna-6/
CATEGORIES:Ważne wydarzenia
END:VEVENT
BEGIN:VEVENT
DTSTART;VALUE=DATE:20240311
DTEND;VALUE=DATE:20240312
DTSTAMP:20260421T172930
CREATED:20231125T092731Z
LAST-MODIFIED:20231125T092731Z
UID:51896-1710115200-1710201599@sp26gdynia.pl
SUMMARY:Dzień Kobiet w klasach 0-3 - wyjście do U7
DESCRIPTION:
URL:https://sp26gdynia.pl/wydarzenie/dzien-kobiet-w-klasach-0-3-wyjscie-do-u7/
CATEGORIES:Ważne wydarzenia
END:VEVENT
BEGIN:VEVENT
DTSTART;VALUE=DATE:20240307
DTEND;VALUE=DATE:20240308
DTSTAMP:20260421T172930
CREATED:20240124T075443Z
LAST-MODIFIED:20240124T075453Z
UID:53890-1709769600-1709855999@sp26gdynia.pl
SUMMARY:Dzień Otwarty SP 26
DESCRIPTION:
URL:https://sp26gdynia.pl/wydarzenie/dzien-otwarty-sp-26/
CATEGORIES:Ważne wydarzenia
END:VEVENT
BEGIN:VEVENT
DTSTART;VALUE=DATE:20240222
DTEND;VALUE=DATE:20240223
DTSTAMP:20260421T172930
CREATED:20231122T092604Z
LAST-MODIFIED:20231122T092604Z
UID:51750-1708560000-1708646399@sp26gdynia.pl
SUMMARY:Wyjście do teatru klas 0-3 "Dr Dolittle i jego zwierzęta"
DESCRIPTION:
URL:https://sp26gdynia.pl/wydarzenie/wyjscie-do-teatru-klas-0-3-dr-dolittle-i-jego-zwierzeta/
CATEGORIES:Ważne wydarzenia
END:VEVENT
BEGIN:VEVENT
DTSTART;VALUE=DATE:20240220
DTEND;VALUE=DATE:20240221
DTSTAMP:20260421T172930
CREATED:20231012T181715Z
LAST-MODIFIED:20231012T181715Z
UID:50365-1708387200-1708473599@sp26gdynia.pl
SUMMARY:Lekcja muzyki "Sport to zdrowie"
DESCRIPTION:
URL:https://sp26gdynia.pl/wydarzenie/lekcja-muzyki-sport-to-zdrowie/
CATEGORIES:Ważne wydarzenia
END:VEVENT
BEGIN:VEVENT
DTSTART;VALUE=DATE:20240118
DTEND;VALUE=DATE:20240119
DTSTAMP:20260421T172930
CREATED:20231125T092658Z
LAST-MODIFIED:20231125T092658Z
UID:51894-1705536000-1705622399@sp26gdynia.pl
SUMMARY:Koncert karnawałowy dla babć i dziadków
DESCRIPTION:
URL:https://sp26gdynia.pl/wydarzenie/koncert-karnawalowy-dla-babc-i-dziadkow/
CATEGORIES:Ważne wydarzenia
END:VEVENT
BEGIN:VEVENT
DTSTART;VALUE=DATE:20240117
DTEND;VALUE=DATE:20240118
DTSTAMP:20260421T172930
CREATED:20231125T092631Z
LAST-MODIFIED:20231125T092631Z
UID:51892-1705449600-1705535999@sp26gdynia.pl
SUMMARY:Koncert karnawałowy dla rodziców
DESCRIPTION:
URL:https://sp26gdynia.pl/wydarzenie/koncert-karnawalowy-dla-rodzicow/
CATEGORIES:Ważne wydarzenia
END:VEVENT
BEGIN:VEVENT
DTSTART;VALUE=DATE:20240116
DTEND;VALUE=DATE:20240117
DTSTAMP:20260421T172930
CREATED:20231125T092521Z
LAST-MODIFIED:20231125T092521Z
UID:51890-1705363200-1705449599@sp26gdynia.pl
SUMMARY:Bal karnawałowy - klasy młodsze
DESCRIPTION:
URL:https://sp26gdynia.pl/wydarzenie/bal-karnawalowy-klasy-mlodsze/
CATEGORIES:Ważne wydarzenia
END:VEVENT
BEGIN:VEVENT
DTSTART;VALUE=DATE:20231223
DTEND;VALUE=DATE:20240101
DTSTAMP:20260421T172930
CREATED:20231004T172855Z
LAST-MODIFIED:20231004T172855Z
UID:49934-1703289600-1704067199@sp26gdynia.pl
SUMMARY:Zimowa przerwa świąteczna
DESCRIPTION:
URL:https://sp26gdynia.pl/wydarzenie/zimowa-przerwa-swiateczna-3/
CATEGORIES:Ważne wydarzenia
END:VEVENT
BEGIN:VEVENT
DTSTART;VALUE=DATE:20231219
DTEND;VALUE=DATE:20231220
DTSTAMP:20260421T172930
CREATED:20231125T092431Z
LAST-MODIFIED:20231125T092431Z
UID:51888-1702944000-1703030399@sp26gdynia.pl
SUMMARY:Teatr Muzyczny "Sekrety zimowego wiatru" - klasy młodsze
DESCRIPTION:
URL:https://sp26gdynia.pl/wydarzenie/teatr-muzyczny-sekrety-zimowego-wiatru-klasy-mlodsze/
CATEGORIES:Ważne wydarzenia
END:VEVENT
END:VCALENDAR