BEGIN:VCALENDAR
VERSION:2.0
PRODID:-//Szkoła Podstawowa nr 26 w Gdyni - ECPv6.15.17//NONSGML v1.0//EN
CALSCALE:GREGORIAN
METHOD:PUBLISH
X-ORIGINAL-URL:https://sp26gdynia.pl
X-WR-CALDESC:Wydarzenia dla Szkoła Podstawowa nr 26 w Gdyni
REFRESH-INTERVAL;VALUE=DURATION:PT1H
X-Robots-Tag:noindex
X-PUBLISHED-TTL:PT1H
BEGIN:VTIMEZONE
TZID:Europe/Warsaw
BEGIN:DAYLIGHT
TZOFFSETFROM:+0100
TZOFFSETTO:+0200
TZNAME:CEST
DTSTART:20230326T010000
END:DAYLIGHT
BEGIN:STANDARD
TZOFFSETFROM:+0200
TZOFFSETTO:+0100
TZNAME:CET
DTSTART:20231029T010000
END:STANDARD
BEGIN:DAYLIGHT
TZOFFSETFROM:+0100
TZOFFSETTO:+0200
TZNAME:CEST
DTSTART:20240331T010000
END:DAYLIGHT
BEGIN:STANDARD
TZOFFSETFROM:+0200
TZOFFSETTO:+0100
TZNAME:CET
DTSTART:20241027T010000
END:STANDARD
BEGIN:DAYLIGHT
TZOFFSETFROM:+0100
TZOFFSETTO:+0200
TZNAME:CEST
DTSTART:20250330T010000
END:DAYLIGHT
BEGIN:STANDARD
TZOFFSETFROM:+0200
TZOFFSETTO:+0100
TZNAME:CET
DTSTART:20251026T010000
END:STANDARD
END:VTIMEZONE
BEGIN:VEVENT
DTSTART;VALUE=DATE:20240902
DTEND;VALUE=DATE:20240903
DTSTAMP:20260423T001332
CREATED:20240627T075445Z
LAST-MODIFIED:20240627T075445Z
UID:58433-1725235200-1725321599@sp26gdynia.pl
SUMMARY:Rozpoczęcie roku szkolnego
DESCRIPTION:
URL:https://sp26gdynia.pl/wydarzenie/rozpoczecie-roku-szkolnego/
CATEGORIES:Ważne wydarzenia
END:VEVENT
BEGIN:VEVENT
DTSTART;VALUE=DATE:20240906
DTEND;VALUE=DATE:20240907
DTSTAMP:20260423T001332
CREATED:20240827T090006Z
LAST-MODIFIED:20240827T090006Z
UID:59034-1725580800-1725667199@sp26gdynia.pl
SUMMARY:Narodowe Czytanie "Kordiana"
DESCRIPTION:
URL:https://sp26gdynia.pl/wydarzenie/narodowe-czytanie-kordiana/
CATEGORIES:Ważne wydarzenia
END:VEVENT
BEGIN:VEVENT
DTSTART;VALUE=DATE:20240911
DTEND;VALUE=DATE:20240912
DTSTAMP:20260423T001332
CREATED:20240627T073106Z
LAST-MODIFIED:20240627T073106Z
UID:58351-1726012800-1726099199@sp26gdynia.pl
SUMMARY:Świetlica szkolna - Dzień Pierwszej Pomocy
DESCRIPTION:
URL:https://sp26gdynia.pl/wydarzenie/swietlica-szkolna-dzien-pierwszej-pomocy/
CATEGORIES:Ważne wydarzenia
END:VEVENT
BEGIN:VEVENT
DTSTART;VALUE=DATE:20240913
DTEND;VALUE=DATE:20240914
DTSTAMP:20260423T001332
CREATED:20240627T073202Z
LAST-MODIFIED:20240627T073202Z
UID:58353-1726185600-1726271999@sp26gdynia.pl
SUMMARY:Dzień Kropki
DESCRIPTION:
URL:https://sp26gdynia.pl/wydarzenie/dzien-kropki-2/
CATEGORIES:Ważne wydarzenia
END:VEVENT
BEGIN:VEVENT
DTSTART;VALUE=DATE:20240920
DTEND;VALUE=DATE:20240921
DTSTAMP:20260423T001332
CREATED:20240827T090048Z
LAST-MODIFIED:20240827T090048Z
UID:59036-1726790400-1726876799@sp26gdynia.pl
SUMMARY:Sprzątanie świata
DESCRIPTION:
URL:https://sp26gdynia.pl/wydarzenie/sprzatanie-swiata-4/
CATEGORIES:Ważne wydarzenia
END:VEVENT
BEGIN:VEVENT
DTSTART;TZID=Europe/Warsaw:20240923T080000
DTEND;TZID=Europe/Warsaw:20240929T170000
DTSTAMP:20260423T001332
CREATED:20240827T090152Z
LAST-MODIFIED:20240827T090152Z
UID:59038-1727078400-1727629200@sp26gdynia.pl
SUMMARY:V Ogólnopolski Tydzień Szczęścia
DESCRIPTION:
URL:https://sp26gdynia.pl/wydarzenie/v-ogolnopolski-tydzien-szczescia/
CATEGORIES:Ważne wydarzenia
END:VEVENT
BEGIN:VEVENT
DTSTART;VALUE=DATE:20240925
DTEND;VALUE=DATE:20240926
DTSTAMP:20260423T001332
CREATED:20240827T090226Z
LAST-MODIFIED:20240827T090226Z
UID:59040-1727222400-1727308799@sp26gdynia.pl
SUMMARY:Europejski Tydzień Sportu
DESCRIPTION:
URL:https://sp26gdynia.pl/wydarzenie/europejski-tydzien-sportu-2/
CATEGORIES:Ważne wydarzenia
END:VEVENT
BEGIN:VEVENT
DTSTART;VALUE=DATE:20240927
DTEND;VALUE=DATE:20240928
DTSTAMP:20260423T001332
CREATED:20240827T090300Z
LAST-MODIFIED:20240827T090300Z
UID:59042-1727395200-1727481599@sp26gdynia.pl
SUMMARY:Pasowanie na ucznia
DESCRIPTION:
URL:https://sp26gdynia.pl/wydarzenie/pasowanie-na-ucznia-2/
CATEGORIES:Ważne wydarzenia
END:VEVENT
BEGIN:VEVENT
DTSTART;VALUE=DATE:20240930
DTEND;VALUE=DATE:20241001
DTSTAMP:20260423T001332
CREATED:20240627T073227Z
LAST-MODIFIED:20240627T073227Z
UID:58355-1727654400-1727740799@sp26gdynia.pl
SUMMARY:Dzień Chłopaka
DESCRIPTION:
URL:https://sp26gdynia.pl/wydarzenie/dzien-chlopaka-4/
CATEGORIES:Ważne wydarzenia
END:VEVENT
BEGIN:VEVENT
DTSTART;VALUE=DATE:20241001
DTEND;VALUE=DATE:20241002
DTSTAMP:20260423T001332
CREATED:20240627T073301Z
LAST-MODIFIED:20240627T073301Z
UID:58357-1727740800-1727827199@sp26gdynia.pl
SUMMARY:Świetlica szkolna - Dzień Muzyki
DESCRIPTION:
URL:https://sp26gdynia.pl/wydarzenie/swietlica-szkolna-dzien-muzyki/
CATEGORIES:Ważne wydarzenia
END:VEVENT
BEGIN:VEVENT
DTSTART;VALUE=DATE:20241010
DTEND;VALUE=DATE:20241011
DTSTAMP:20260423T001332
CREATED:20240627T073342Z
LAST-MODIFIED:20240627T073342Z
UID:58359-1728518400-1728604799@sp26gdynia.pl
SUMMARY:Dzień Gier Planszowych
DESCRIPTION:
URL:https://sp26gdynia.pl/wydarzenie/dzien-gier-planszowych-2/
CATEGORIES:Ważne wydarzenia
END:VEVENT
BEGIN:VEVENT
DTSTART;VALUE=DATE:20241014
DTEND;VALUE=DATE:20241015
DTSTAMP:20260423T001332
CREATED:20240627T073616Z
LAST-MODIFIED:20240627T073616Z
UID:58369-1728864000-1728950399@sp26gdynia.pl
SUMMARY:Dzień Edukacji Narodowej
DESCRIPTION:
URL:https://sp26gdynia.pl/wydarzenie/dzien-edukacji-narodowej-4/
CATEGORIES:Ważne wydarzenia
END:VEVENT
BEGIN:VEVENT
DTSTART;VALUE=DATE:20241025
DTEND;VALUE=DATE:20241026
DTSTAMP:20260423T001332
CREATED:20240627T073405Z
LAST-MODIFIED:20240627T073405Z
UID:58361-1729814400-1729900799@sp26gdynia.pl
SUMMARY:Świetlica szkolna - Dzień Kundelka
DESCRIPTION:
URL:https://sp26gdynia.pl/wydarzenie/swietlica-szkolna-dzien-kundelka-3/
CATEGORIES:Ważne wydarzenia
END:VEVENT
BEGIN:VEVENT
DTSTART;VALUE=DATE:20241031
DTEND;VALUE=DATE:20241101
DTSTAMP:20260423T001332
CREATED:20240827T090425Z
LAST-MODIFIED:20240827T090425Z
UID:59044-1730332800-1730419199@sp26gdynia.pl
SUMMARY:Dzień wolny od zajęć dyd.-wych.
DESCRIPTION:
URL:https://sp26gdynia.pl/wydarzenie/dzien-wolny-od-zajec-dyd-wych/
CATEGORIES:Ważne wydarzenia
END:VEVENT
BEGIN:VEVENT
DTSTART;VALUE=DATE:20241101
DTEND;VALUE=DATE:20241102
DTSTAMP:20260423T001332
CREATED:20240827T090558Z
LAST-MODIFIED:20240827T090558Z
UID:59046-1730419200-1730505599@sp26gdynia.pl
SUMMARY:Wszystkich Świętych - dzień wolny od pracy
DESCRIPTION:
URL:https://sp26gdynia.pl/wydarzenie/wszystkich-swietych-dzien-wolny-od-pracy-2/
CATEGORIES:Ważne wydarzenia
END:VEVENT
BEGIN:VEVENT
DTSTART;VALUE=DATE:20241108
DTEND;VALUE=DATE:20241109
DTSTAMP:20260423T001332
CREATED:20240627T073518Z
LAST-MODIFIED:20240627T073518Z
UID:58365-1731024000-1731110399@sp26gdynia.pl
SUMMARY:Świetlica szkolna - Dzień Jeża
DESCRIPTION:
URL:https://sp26gdynia.pl/wydarzenie/swietlica-szkolna-dzien-jeza-3/
CATEGORIES:Ważne wydarzenia
END:VEVENT
BEGIN:VEVENT
DTSTART;VALUE=DATE:20241111
DTEND;VALUE=DATE:20241112
DTSTAMP:20260423T001332
CREATED:20240627T073548Z
LAST-MODIFIED:20240827T090813Z
UID:58367-1731283200-1731369599@sp26gdynia.pl
SUMMARY:Święto Niepodległości - dzień wolny od pracy
DESCRIPTION:
URL:https://sp26gdynia.pl/wydarzenie/swieto-niepodleglosci/
CATEGORIES:Ważne wydarzenia
END:VEVENT
BEGIN:VEVENT
DTSTART;VALUE=DATE:20241113
DTEND;VALUE=DATE:20241114
DTSTAMP:20260423T001332
CREATED:20241106T163319Z
LAST-MODIFIED:20241106T163319Z
UID:61041-1731456000-1731542399@sp26gdynia.pl
SUMMARY:Zebrania - klasy 0-3
DESCRIPTION:
URL:https://sp26gdynia.pl/wydarzenie/zebrania-klasy-0-3/
CATEGORIES:Ważne wydarzenia
END:VEVENT
BEGIN:VEVENT
DTSTART;VALUE=DATE:20241114
DTEND;VALUE=DATE:20241115
DTSTAMP:20260423T001332
CREATED:20241106T163351Z
LAST-MODIFIED:20241106T163351Z
UID:61043-1731542400-1731628799@sp26gdynia.pl
SUMMARY:Konsultacje - klasy 4-8
DESCRIPTION:
URL:https://sp26gdynia.pl/wydarzenie/konsultacje-klasy-4-8/
CATEGORIES:Ważne wydarzenia
END:VEVENT
BEGIN:VEVENT
DTSTART;VALUE=DATE:20241115
DTEND;VALUE=DATE:20241116
DTSTAMP:20260423T001332
CREATED:20240827T090653Z
LAST-MODIFIED:20240827T090653Z
UID:59048-1731628800-1731715199@sp26gdynia.pl
SUMMARY:Światowy Dzień Tabliczki Mnożenia
DESCRIPTION:
URL:https://sp26gdynia.pl/wydarzenie/swiatowy-dzien-tabliczki-mnozenia-4/
CATEGORIES:Ważne wydarzenia
END:VEVENT
BEGIN:VEVENT
DTSTART;TZID=Europe/Warsaw:20241119T080000
DTEND;TZID=Europe/Warsaw:20241121T170000
DTSTAMP:20260423T001332
CREATED:20240827T090905Z
LAST-MODIFIED:20241107T140316Z
UID:59051-1732003200-1732208400@sp26gdynia.pl
SUMMARY:Próbny egzamin klas 8
DESCRIPTION:
URL:https://sp26gdynia.pl/wydarzenie/probny-egzamin-klas-8-4/
CATEGORIES:Ważne wydarzenia
END:VEVENT
BEGIN:VEVENT
DTSTART;VALUE=DATE:20241121
DTEND;VALUE=DATE:20241122
DTSTAMP:20260423T001332
CREATED:20240627T073654Z
LAST-MODIFIED:20240627T073654Z
UID:58371-1732147200-1732233599@sp26gdynia.pl
SUMMARY:Świetlica szkolna - Światowy Dzień Życzliwości i Pozdrowień
DESCRIPTION:
URL:https://sp26gdynia.pl/wydarzenie/swietlica-szkolna-swiatowy-dzien-zyczliwosci-i-pozdrowien/
CATEGORIES:Ważne wydarzenia
END:VEVENT
BEGIN:VEVENT
DTSTART;VALUE=DATE:20241121
DTEND;VALUE=DATE:20241122
DTSTAMP:20260423T001332
CREATED:20241106T163432Z
LAST-MODIFIED:20241106T163432Z
UID:61045-1732147200-1732233599@sp26gdynia.pl
SUMMARY:Wycieczka do Experymentu - klasy 0-3
DESCRIPTION:
URL:https://sp26gdynia.pl/wydarzenie/wycieczka-do-experymentu-klasy-0-3/
CATEGORIES:Ważne wydarzenia
END:VEVENT
BEGIN:VEVENT
DTSTART;VALUE=DATE:20241125
DTEND;VALUE=DATE:20241126
DTSTAMP:20260423T001332
CREATED:20240627T073714Z
LAST-MODIFIED:20240627T073714Z
UID:58373-1732492800-1732579199@sp26gdynia.pl
SUMMARY:Dzień Pluszowego Misia
DESCRIPTION:
URL:https://sp26gdynia.pl/wydarzenie/dzien-pluszowego-misia-3/
CATEGORIES:Ważne wydarzenia
END:VEVENT
BEGIN:VEVENT
DTSTART;VALUE=DATE:20241127
DTEND;VALUE=DATE:20241128
DTSTAMP:20260423T001332
CREATED:20241127T200443Z
LAST-MODIFIED:20241127T200443Z
UID:61789-1732665600-1732751999@sp26gdynia.pl
SUMMARY:Dyskoteka Andrzejkowa w świetlicy
DESCRIPTION:
URL:https://sp26gdynia.pl/wydarzenie/dyskoteka-andrzejkowa-w-swietlicy/
CATEGORIES:Ważne wydarzenia
END:VEVENT
BEGIN:VEVENT
DTSTART;VALUE=DATE:20241128
DTEND;VALUE=DATE:20241129
DTSTAMP:20260423T001332
CREATED:20240627T073437Z
LAST-MODIFIED:20241106T095256Z
UID:58363-1732752000-1732838399@sp26gdynia.pl
SUMMARY:Dzień Postaci z Bajek
DESCRIPTION:
URL:https://sp26gdynia.pl/wydarzenie/dzien-postaci-z-bajek-5/
CATEGORIES:Ważne wydarzenia
END:VEVENT
BEGIN:VEVENT
DTSTART;VALUE=DATE:20241129
DTEND;VALUE=DATE:20241130
DTSTAMP:20260423T001332
CREATED:20240627T073736Z
LAST-MODIFIED:20240627T073736Z
UID:58375-1732838400-1732924799@sp26gdynia.pl
SUMMARY:Andrzejki
DESCRIPTION:
URL:https://sp26gdynia.pl/wydarzenie/andrzejki-3/
CATEGORIES:Ważne wydarzenia
END:VEVENT
BEGIN:VEVENT
DTSTART;VALUE=DATE:20241205
DTEND;VALUE=DATE:20241206
DTSTAMP:20260423T001332
CREATED:20240827T090957Z
LAST-MODIFIED:20240827T090957Z
UID:59053-1733356800-1733443199@sp26gdynia.pl
SUMMARY:Międzyszkolny Konkurs SUDOKU
DESCRIPTION:
URL:https://sp26gdynia.pl/wydarzenie/miedzyszkolny-konkurs-sudoku/
CATEGORIES:Ważne wydarzenia
END:VEVENT
BEGIN:VEVENT
DTSTART;VALUE=DATE:20241205
DTEND;VALUE=DATE:20241206
DTSTAMP:20260423T001332
CREATED:20241129T115519Z
LAST-MODIFIED:20241129T115519Z
UID:61838-1733356800-1733443199@sp26gdynia.pl
SUMMARY:Wyjście do teatru "Królowa Śniegu" - klasy 0-3
DESCRIPTION:
URL:https://sp26gdynia.pl/wydarzenie/wyjscie-do-teatru-krolowa-sniegu-klasy-0-3/
CATEGORIES:Ważne wydarzenia
END:VEVENT
BEGIN:VEVENT
DTSTART;VALUE=DATE:20241206
DTEND;VALUE=DATE:20241207
DTSTAMP:20260423T001332
CREATED:20240627T073813Z
LAST-MODIFIED:20240627T073813Z
UID:58377-1733443200-1733529599@sp26gdynia.pl
SUMMARY:Mikołajki
DESCRIPTION:
URL:https://sp26gdynia.pl/wydarzenie/mikolajki-3/
CATEGORIES:Ważne wydarzenia
END:VEVENT
END:VCALENDAR