BEGIN:VCALENDAR
VERSION:2.0
PRODID:-//Szkoła Podstawowa nr 26 w Gdyni - ECPv6.15.17//NONSGML v1.0//EN
CALSCALE:GREGORIAN
METHOD:PUBLISH
X-ORIGINAL-URL:https://sp26gdynia.pl
X-WR-CALDESC:Wydarzenia dla Szkoła Podstawowa nr 26 w Gdyni
REFRESH-INTERVAL;VALUE=DURATION:PT1H
X-Robots-Tag:noindex
X-PUBLISHED-TTL:PT1H
BEGIN:VTIMEZONE
TZID:Europe/Warsaw
BEGIN:DAYLIGHT
TZOFFSETFROM:+0100
TZOFFSETTO:+0200
TZNAME:CEST
DTSTART:20200329T010000
END:DAYLIGHT
BEGIN:STANDARD
TZOFFSETFROM:+0200
TZOFFSETTO:+0100
TZNAME:CET
DTSTART:20201025T010000
END:STANDARD
BEGIN:DAYLIGHT
TZOFFSETFROM:+0100
TZOFFSETTO:+0200
TZNAME:CEST
DTSTART:20210328T010000
END:DAYLIGHT
BEGIN:STANDARD
TZOFFSETFROM:+0200
TZOFFSETTO:+0100
TZNAME:CET
DTSTART:20211031T010000
END:STANDARD
BEGIN:DAYLIGHT
TZOFFSETFROM:+0100
TZOFFSETTO:+0200
TZNAME:CEST
DTSTART:20220327T010000
END:DAYLIGHT
BEGIN:STANDARD
TZOFFSETFROM:+0200
TZOFFSETTO:+0100
TZNAME:CET
DTSTART:20221030T010000
END:STANDARD
END:VTIMEZONE
BEGIN:VEVENT
DTSTART;TZID=Europe/Warsaw:20210415T104500
DTEND;TZID=Europe/Warsaw:20210415T123000
DTSTAMP:20260425T125352
CREATED:20210415T104212Z
LAST-MODIFIED:20210415T114015Z
UID:29557-1618483500-1618489800@sp26gdynia.pl
SUMMARY:Warsztaty "Ocean zmian" klasa 5a
DESCRIPTION:
URL:https://sp26gdynia.pl/wydarzenie/warsztaty-ocean-zmian-klasa-5a/
CATEGORIES:Ważne wydarzenia
ATTACH;FMTTYPE=image/jpeg:https://sp26gdynia.pl/wp-content/uploads/2021/04/bałtyk.jpg
END:VEVENT
END:VCALENDAR