BEGIN:VCALENDAR
VERSION:2.0
PRODID:-//Szkoła Podstawowa nr 26 w Gdyni - ECPv6.15.17//NONSGML v1.0//EN
CALSCALE:GREGORIAN
METHOD:PUBLISH
X-ORIGINAL-URL:https://sp26gdynia.pl
X-WR-CALDESC:Wydarzenia dla Szkoła Podstawowa nr 26 w Gdyni
REFRESH-INTERVAL;VALUE=DURATION:PT1H
X-Robots-Tag:noindex
X-PUBLISHED-TTL:PT1H
BEGIN:VTIMEZONE
TZID:Europe/Warsaw
BEGIN:DAYLIGHT
TZOFFSETFROM:+0100
TZOFFSETTO:+0200
TZNAME:CEST
DTSTART:20200329T010000
END:DAYLIGHT
BEGIN:STANDARD
TZOFFSETFROM:+0200
TZOFFSETTO:+0100
TZNAME:CET
DTSTART:20201025T010000
END:STANDARD
BEGIN:DAYLIGHT
TZOFFSETFROM:+0100
TZOFFSETTO:+0200
TZNAME:CEST
DTSTART:20210328T010000
END:DAYLIGHT
BEGIN:STANDARD
TZOFFSETFROM:+0200
TZOFFSETTO:+0100
TZNAME:CET
DTSTART:20211031T010000
END:STANDARD
BEGIN:DAYLIGHT
TZOFFSETFROM:+0100
TZOFFSETTO:+0200
TZNAME:CEST
DTSTART:20220327T010000
END:DAYLIGHT
BEGIN:STANDARD
TZOFFSETFROM:+0200
TZOFFSETTO:+0100
TZNAME:CET
DTSTART:20221030T010000
END:STANDARD
END:VTIMEZONE
BEGIN:VEVENT
DTSTART;VALUE=DATE:20210319
DTEND;VALUE=DATE:20210320
DTSTAMP:20260425T133112
CREATED:20210302T115935Z
LAST-MODIFIED:20210305T084635Z
UID:28289-1616112000-1616198399@sp26gdynia.pl
SUMMARY:Próbny egzamin klas 8.\, godzina 9.00
DESCRIPTION:
URL:https://sp26gdynia.pl/wydarzenie/probny-egzamin-klas-8-3/
CATEGORIES:Ważne wydarzenia
END:VEVENT
BEGIN:VEVENT
DTSTART;TZID=Europe/Warsaw:20210319T080000
DTEND;TZID=Europe/Warsaw:20210319T170000
DTSTAMP:20260425T133112
CREATED:20210226T072917Z
LAST-MODIFIED:20210226T072917Z
UID:28170-1616140800-1616173200@sp26gdynia.pl
SUMMARY:Świetlica szkolna - Międzynarodowy Dzień Szczęścia
DESCRIPTION:
URL:https://sp26gdynia.pl/wydarzenie/swietlica-szkolna-miedzynarodowy-dzien-szczescia-2/
CATEGORIES:Ważne wydarzenia
END:VEVENT
BEGIN:VEVENT
DTSTART;TZID=Europe/Warsaw:20210319T080000
DTEND;TZID=Europe/Warsaw:20210319T170000
DTSTAMP:20260425T133112
CREATED:20210318T074640Z
LAST-MODIFIED:20210318T074640Z
UID:28957-1616140800-1616173200@sp26gdynia.pl
SUMMARY:Dzień Kolorowej Skarpetki w klasach 0-3
DESCRIPTION:
URL:https://sp26gdynia.pl/wydarzenie/dzien-kolorowej-skarpetki-w-klasach-0-3/
CATEGORIES:Ważne wydarzenia
END:VEVENT
END:VCALENDAR