BEGIN:VCALENDAR
VERSION:2.0
PRODID:-//Szkoła Podstawowa nr 26 w Gdyni - ECPv6.15.17//NONSGML v1.0//EN
CALSCALE:GREGORIAN
METHOD:PUBLISH
X-ORIGINAL-URL:https://sp26gdynia.pl
X-WR-CALDESC:Wydarzenia dla Szkoła Podstawowa nr 26 w Gdyni
REFRESH-INTERVAL;VALUE=DURATION:PT1H
X-Robots-Tag:noindex
X-PUBLISHED-TTL:PT1H
BEGIN:VTIMEZONE
TZID:Europe/Warsaw
BEGIN:DAYLIGHT
TZOFFSETFROM:+0100
TZOFFSETTO:+0200
TZNAME:CEST
DTSTART:20190331T010000
END:DAYLIGHT
BEGIN:STANDARD
TZOFFSETFROM:+0200
TZOFFSETTO:+0100
TZNAME:CET
DTSTART:20191027T010000
END:STANDARD
BEGIN:DAYLIGHT
TZOFFSETFROM:+0100
TZOFFSETTO:+0200
TZNAME:CEST
DTSTART:20200329T010000
END:DAYLIGHT
BEGIN:STANDARD
TZOFFSETFROM:+0200
TZOFFSETTO:+0100
TZNAME:CET
DTSTART:20201025T010000
END:STANDARD
BEGIN:DAYLIGHT
TZOFFSETFROM:+0100
TZOFFSETTO:+0200
TZNAME:CEST
DTSTART:20210328T010000
END:DAYLIGHT
BEGIN:STANDARD
TZOFFSETFROM:+0200
TZOFFSETTO:+0100
TZNAME:CET
DTSTART:20211031T010000
END:STANDARD
END:VTIMEZONE
BEGIN:VEVENT
DTSTART;TZID=Europe/Warsaw:20200915T070000
DTEND;TZID=Europe/Warsaw:20200915T170000
DTSTAMP:20260425T225305
CREATED:20200911T062257Z
LAST-MODIFIED:20200911T062313Z
UID:23864-1600153200-1600189200@sp26gdynia.pl
SUMMARY:Świetlica szkolna - Dzień Kropki
DESCRIPTION:
URL:https://sp26gdynia.pl/wydarzenie/swietlica-szkolna-miedzynarodowy-dzien-kropki/
CATEGORIES:Ważne wydarzenia
END:VEVENT
BEGIN:VEVENT
DTSTART;TZID=Europe/Warsaw:20200915T080000
DTEND;TZID=Europe/Warsaw:20200915T170000
DTSTAMP:20260425T225305
CREATED:20200915T095414Z
LAST-MODIFIED:20200915T095659Z
UID:23938-1600156800-1600189200@sp26gdynia.pl
SUMMARY:Dzień Kropki - lekcja biblioteczna w 0A
DESCRIPTION:
URL:https://sp26gdynia.pl/wydarzenie/dzien-kropki-lekcja-biblioteczna-w-0a/
END:VEVENT
END:VCALENDAR